BEGIN:VCALENDAR
VERSION:2.0
PRODID:-//One Chippenham - ECPv6.15.20//NONSGML v1.0//EN
CALSCALE:GREGORIAN
METHOD:PUBLISH
X-ORIGINAL-URL:https://onechippenham.org.uk
X-WR-CALDESC:Events for One Chippenham
REFRESH-INTERVAL;VALUE=DURATION:PT1H
X-Robots-Tag:noindex
X-PUBLISHED-TTL:PT1H
BEGIN:VTIMEZONE
TZID:Europe/London
BEGIN:DAYLIGHT
TZOFFSETFROM:+0000
TZOFFSETTO:+0100
TZNAME:BST
DTSTART:20230326T010000
END:DAYLIGHT
BEGIN:STANDARD
TZOFFSETFROM:+0100
TZOFFSETTO:+0000
TZNAME:GMT
DTSTART:20231029T010000
END:STANDARD
BEGIN:DAYLIGHT
TZOFFSETFROM:+0000
TZOFFSETTO:+0100
TZNAME:BST
DTSTART:20240331T010000
END:DAYLIGHT
BEGIN:STANDARD
TZOFFSETFROM:+0100
TZOFFSETTO:+0000
TZNAME:GMT
DTSTART:20241027T010000
END:STANDARD
BEGIN:DAYLIGHT
TZOFFSETFROM:+0000
TZOFFSETTO:+0100
TZNAME:BST
DTSTART:20250330T010000
END:DAYLIGHT
BEGIN:STANDARD
TZOFFSETFROM:+0100
TZOFFSETTO:+0000
TZNAME:GMT
DTSTART:20251026T010000
END:STANDARD
END:VTIMEZONE
BEGIN:VEVENT
DTSTART;VALUE=DATE:20240608
DTEND;VALUE=DATE:20240609
DTSTAMP:20260421T182831
CREATED:20240509T211507Z
LAST-MODIFIED:20240509T211507Z
UID:30046-1717804800-1717891199@onechippenham.org.uk
SUMMARY:A Walk to Remember
DESCRIPTION:Seven-mile charity walk for Alzheimer’s Support and a great day out for the whole family! \nPull on your walking boots and take part in A Walk to Remember on Saturday 8th June. \nIt’s a circular seven-miles through some of North Wiltshire’s loveliest countryside starting and finishing at Bowood Estate at the kind permission of the charity’s patron Lady Lansdowne. \nThe day starts with bacon or veggie butties then\, after a fun group warm-up\, we head out into the beautiful north Wiltshire countryside. Everyone walks at their own pace. You can walk with others\, stride ahead or do your own thing. There are plenty of great views and scenic places to stop for a picnic along the way. And marshals will be on hand to make sure you find your way. \nBack at the estate\, our post-walk celebrations include medals for all the finishers\, commemorative photos\, plenty of tea and cake and chance to relax with other walkers. \nPlease sign up and join us in June – you’ll have a great day out and be walking for dementia with every step.
URL:https://onechippenham.org.uk/event/a-walk-to-remember/
LOCATION:Bowood House and Gardens\, Bowood Estate\, near Calne\, Wiltshire\, SN11 N9F
CATEGORIES:Charity,Community,Walks
ATTACH;FMTTYPE=image/jpeg:https://onechippenham.org.uk/wp-content/uploads/2024/05/Bowood-2023-medals-crop-scaled.jpg
END:VEVENT
BEGIN:VEVENT
DTSTART;TZID=Europe/London:20240608T140000
DTEND;TZID=Europe/London:20240608T150000
DTSTAMP:20260421T182831
CREATED:20240130T130528Z
LAST-MODIFIED:20240130T130728Z
UID:26593-1717855200-1717858800@onechippenham.org.uk
SUMMARY:Town Walks
DESCRIPTION:Saturdays and Thursdays\nFree\, booking essential via Eventbrite \nJoin a member of the Chippenham Museum team for a free guided walk introducing the town’s history\, from King Alfred and the Saxons to the present day. This 40 minute exploration of the town is perfect for both residents and visitors\, families welcome. \nOur walks are free to enjoy but booking is essential as places are limited. \nSaturdays at 2pm: \n11 May\, 8 June\, 13 July\,\n10 & 24 August\, 14 September \nThursdays at 7pm: \n23 May\, 20 June\, 25 July\,\n15 & 29 August\, 19 September
URL:https://onechippenham.org.uk/event/town-walks-2/2024-06-08/
LOCATION:Chippenham Museum\, 9-10 Market Pl\, Chippenham\, SN15 3HF\, United Kingdom
CATEGORIES:History,Museum,Tour,Walks
ATTACH;FMTTYPE=image/jpeg:https://onechippenham.org.uk/wp-content/uploads/2024/01/Town-Walks-Grid.jpg
ORGANIZER;CN="Chippenham Museum":MAILTO:heritage@chippenham.gov.uk
END:VEVENT
BEGIN:VEVENT
DTSTART;TZID=Europe/London:20240620T190000
DTEND;TZID=Europe/London:20240620T200000
DTSTAMP:20260421T182831
CREATED:20240130T130528Z
LAST-MODIFIED:20240130T130728Z
UID:26594-1718910000-1718913600@onechippenham.org.uk
SUMMARY:Town Walks
DESCRIPTION:Saturdays and Thursdays\nFree\, booking essential via Eventbrite \nJoin a member of the Chippenham Museum team for a free guided walk introducing the town’s history\, from King Alfred and the Saxons to the present day. This 40 minute exploration of the town is perfect for both residents and visitors\, families welcome. \nOur walks are free to enjoy but booking is essential as places are limited. \nSaturdays at 2pm: \n11 May\, 8 June\, 13 July\,\n10 & 24 August\, 14 September \nThursdays at 7pm: \n23 May\, 20 June\, 25 July\,\n15 & 29 August\, 19 September
URL:https://onechippenham.org.uk/event/town-walks-2/2024-06-20/
LOCATION:Chippenham Museum\, 9-10 Market Pl\, Chippenham\, SN15 3HF\, United Kingdom
CATEGORIES:History,Museum,Tour,Walks
ATTACH;FMTTYPE=image/jpeg:https://onechippenham.org.uk/wp-content/uploads/2024/01/Town-Walks-Grid.jpg
ORGANIZER;CN="Chippenham Museum":MAILTO:heritage@chippenham.gov.uk
END:VEVENT
END:VCALENDAR