BEGIN:VCALENDAR
VERSION:2.0
PRODID:-//One Chippenham - ECPv6.15.20//NONSGML v1.0//EN
CALSCALE:GREGORIAN
METHOD:PUBLISH
X-WR-CALNAME:One Chippenham
X-ORIGINAL-URL:https://onechippenham.org.uk
X-WR-CALDESC:Events for One Chippenham
REFRESH-INTERVAL;VALUE=DURATION:PT1H
X-Robots-Tag:noindex
X-PUBLISHED-TTL:PT1H
BEGIN:VTIMEZONE
TZID:Europe/London
BEGIN:DAYLIGHT
TZOFFSETFROM:+0000
TZOFFSETTO:+0100
TZNAME:BST
DTSTART:20220327T010000
END:DAYLIGHT
BEGIN:STANDARD
TZOFFSETFROM:+0100
TZOFFSETTO:+0000
TZNAME:GMT
DTSTART:20221030T010000
END:STANDARD
BEGIN:DAYLIGHT
TZOFFSETFROM:+0000
TZOFFSETTO:+0100
TZNAME:BST
DTSTART:20230326T010000
END:DAYLIGHT
BEGIN:STANDARD
TZOFFSETFROM:+0100
TZOFFSETTO:+0000
TZNAME:GMT
DTSTART:20231029T010000
END:STANDARD
BEGIN:DAYLIGHT
TZOFFSETFROM:+0000
TZOFFSETTO:+0100
TZNAME:BST
DTSTART:20240331T010000
END:DAYLIGHT
BEGIN:STANDARD
TZOFFSETFROM:+0100
TZOFFSETTO:+0000
TZNAME:GMT
DTSTART:20241027T010000
END:STANDARD
END:VTIMEZONE
BEGIN:VEVENT
DTSTART;TZID=Europe/London:20231226T110000
DTEND;TZID=Europe/London:20231226T123000
DTSTAMP:20260426T034716
CREATED:20231214T071404Z
LAST-MODIFIED:20231214T071639Z
UID:24857-1703588400-1703593800@onechippenham.org.uk
SUMMARY:'Whatever the weather' wildlife wander
DESCRIPTION:Friendly BOXING DAY walk organised by Chippenham Collective (registered charity 1203080). A gentle\, mainly flat\, route around Monkton Park and surrounds\, with a wildlife expert on hand to identify any wildlife sightings. \nAll welcome\, particularly anyone on their own and those needing a break from family or TV.\nNo pressure to complete the whole walk and no charge to join us. \nDress for the weather and bring binoculars if you have them. Expect a bit of mud. \nMeet at Town Bridge\, Chippenham – look out for the grey and white umbrella.
URL:https://onechippenham.org.uk/event/whatever-the-weather-wildlife-wander/
LOCATION:Town Bridge\, Chippenham Town Bridge\, Chippenham\, Wiltshire\, SN15 1EX\, United Kingdom
CATEGORIES:Walks,Wellbeing,Wildlife/nature
ATTACH;FMTTYPE=image/png:https://onechippenham.org.uk/wp-content/uploads/2023/12/CC-logo.png
ORGANIZER;CN="Chippenham Collective":MAILTO:chippenhamcollective@outlook.com
END:VEVENT
END:VCALENDAR