BEGIN:VCALENDAR
VERSION:2.0
PRODID:-//One Chippenham - ECPv6.15.20//NONSGML v1.0//EN
CALSCALE:GREGORIAN
METHOD:PUBLISH
X-ORIGINAL-URL:https://onechippenham.org.uk
X-WR-CALDESC:Events for One Chippenham
REFRESH-INTERVAL;VALUE=DURATION:PT1H
X-Robots-Tag:noindex
X-PUBLISHED-TTL:PT1H
BEGIN:VTIMEZONE
TZID:Europe/London
BEGIN:DAYLIGHT
TZOFFSETFROM:+0000
TZOFFSETTO:+0100
TZNAME:BST
DTSTART:20230326T010000
END:DAYLIGHT
BEGIN:STANDARD
TZOFFSETFROM:+0100
TZOFFSETTO:+0000
TZNAME:GMT
DTSTART:20231029T010000
END:STANDARD
BEGIN:DAYLIGHT
TZOFFSETFROM:+0000
TZOFFSETTO:+0100
TZNAME:BST
DTSTART:20240331T010000
END:DAYLIGHT
BEGIN:STANDARD
TZOFFSETFROM:+0100
TZOFFSETTO:+0000
TZNAME:GMT
DTSTART:20241027T010000
END:STANDARD
BEGIN:DAYLIGHT
TZOFFSETFROM:+0000
TZOFFSETTO:+0100
TZNAME:BST
DTSTART:20250330T010000
END:DAYLIGHT
BEGIN:STANDARD
TZOFFSETFROM:+0100
TZOFFSETTO:+0000
TZNAME:GMT
DTSTART:20251026T010000
END:STANDARD
END:VTIMEZONE
BEGIN:VEVENT
DTSTART;TZID=Europe/London:20241001T143000
DTEND;TZID=Europe/London:20241001T160000
DTSTAMP:20260421T052851
CREATED:20240919T125658Z
LAST-MODIFIED:20240919T125658Z
UID:33757-1727793000-1727798400@onechippenham.org.uk
SUMMARY:Well-being Singing Group
DESCRIPTION:🎶Well-being Singing Group🎶 \nJoin Sarah and Phil at the Kandu Arts Social Hub every Tuesday for an afternoon of karaoke \nA relaxed group that take part in solo and group singing to improve our well-being\nMusic is a powerful thing – it has a unique ability to lift our mood\, reduce stress and anxiety and provide an outlet for us to take control of our feelings \nOur group has a strong social element – we aim to provide mutual support and friendship \nNew members are welcome – we cater to all singing styles and abilities from experienced singers to people who have never sang before \n🎉Free to attend!\n☕️Enjoy free tea and coffee and chat to our lovely volunteers\n📆No need to book\n📍Kandu Arts S.H.O.P Emery Gate Shopping Centre\, Chippenham
URL:https://onechippenham.org.uk/event/well-being-singing-group/2024-10-01/
LOCATION:Emery Gate shopping centre\, Emery Gate shopping centre\, Chippenham\, Wiltshire\, SN15 3JP
CATEGORIES:Community,Music,Wellbeing,Workshop
ATTACH;FMTTYPE=image/png:https://onechippenham.org.uk/wp-content/uploads/2024/09/Well-being-Singing-Group.png.png
ORGANIZER;CN="Kandu Arts Community Projects CIC":MAILTO:office@kandu-arts.com
END:VEVENT
BEGIN:VEVENT
DTSTART;TZID=Europe/London:20241003T103000
DTEND;TZID=Europe/London:20241003T120000
DTSTAMP:20260421T052851
CREATED:20240514T203203Z
LAST-MODIFIED:20241112T114741Z
UID:30131-1727951400-1727956800@onechippenham.org.uk
SUMMARY:Alzheimer's Support Memory Cafe\, Chippenham
DESCRIPTION:Chippenham Memory café meets fortnightly for activities\, chat\, and a chance to catch up informally with dementia professionals. \nAs well as the general café\, there is also a quieter area where couples can sit and enjoy the refreshments and entertainment. \nIf this is your first time then please call us on 01380 739055. If you are a regular visitor to our cafe just turn up! \nWe look forward to seeing you soon. \nPlease note\, to help towards our costs we ask everyone to pay £4.50 on the door.
URL:https://onechippenham.org.uk/event/alzheimers-support-memory-cafe-chippenham/2024-10-03/
LOCATION:Sheldon Road Methodist Church\, Audley Road\, Chippenham\, SN14 0DU\, Sheldon Road Methodist Church\, Audley Road\, Chippenham\, Wiltshire\, SN14 0DU\, United Kingdom
CATEGORIES:Support,Support group,Wellbeing
ATTACH;FMTTYPE=image/jpeg:https://onechippenham.org.uk/wp-content/uploads/2024/05/Photo-21-03-2024-11-29-43-copy-scaled.jpg
END:VEVENT
BEGIN:VEVENT
DTSTART;TZID=Europe/London:20241005T113000
DTEND;TZID=Europe/London:20241005T130000
DTSTAMP:20260421T052851
CREATED:20240917T094440Z
LAST-MODIFIED:20240917T094440Z
UID:33647-1728127800-1728133200@onechippenham.org.uk
SUMMARY:Art & Crafts Workshops
DESCRIPTION:Join Jane Alexander for weekly Well-being Art Workshops 🎨🖌️ \nExperiencing low mood\, feeling some social exclusion or want to get out of the house to meet others? \nThese workshops are open-to-all adults\, multi-media workshops will include oil pastels\, watercolours\, pencil crayons\, stencils and chalk pastel! \nWhen 📆\n28th September\n5th\, 12th\, 19th\, 26th October\n2nd November\n⏰ 11:30am – 1pm\nWhere 📍Kandu Arts SHOP\nEmery Gate Shopping Centre\nChippenham \nAll materials provided \nMeets the needs of a range of abilities – beginner friendly \nSuggested donation of £5 \nHow to book a space: in Kandu Arts SHOP\nEmail: admin@kandu-arts.com\nPhone: 01249 444009\nMessage: Kandu Arts directly
URL:https://onechippenham.org.uk/event/art-crafts-workshops-2/2024-10-05/
LOCATION:Emery Gate shopping centre\, Emery Gate shopping centre\, Chippenham\, Wiltshire\, SN15 3JP
CATEGORIES:Arts,Crafts,Wellbeing,Workshop
ATTACH;FMTTYPE=image/jpeg:https://onechippenham.org.uk/wp-content/uploads/2024/09/Well-being-Art-sessions.jpg
ORGANIZER;CN="Kandu Arts Community Projects CIC":MAILTO:office@kandu-arts.com
END:VEVENT
BEGIN:VEVENT
DTSTART;TZID=Europe/London:20241007T100000
DTEND;TZID=Europe/London:20241007T110000
DTSTAMP:20260421T052851
CREATED:20241003T094811Z
LAST-MODIFIED:20241003T161527Z
UID:34281-1728295200-1728298800@onechippenham.org.uk
SUMMARY:StayFit With Emma
DESCRIPTION:The fun and super-friendly exercise groups for over 60’s. Suitable for all abilities. Come and join!\nMixed standing and seated exercises focusing on co-ordination\, balance\, core and muscle strength\, stretching\, flexibility and aerobic exercise.
URL:https://onechippenham.org.uk/event/stayfit-with-emma-3/2024-10-07/
LOCATION:St Paul’s Church Hall\, Malmesbury Road\, Chippenham\, SN15 1PS
CATEGORIES:Class,Community,Exercise,Fitness,Health,Over 60's,Wellbeing
ATTACH;FMTTYPE=image/png:https://onechippenham.org.uk/wp-content/uploads/2024/10/Chippenham-2024.png
ORGANIZER;CN="StayFit with Emma":MAILTO:sitfitwiltshire@outlook.com
END:VEVENT
BEGIN:VEVENT
DTSTART;TZID=Europe/London:20241008T100000
DTEND;TZID=Europe/London:20241008T150000
DTSTAMP:20260421T052851
CREATED:20240902T095517Z
LAST-MODIFIED:20240902T095517Z
UID:32899-1728381600-1728399600@onechippenham.org.uk
SUMMARY:Unlock Your Happy
DESCRIPTION:Join me for a transformative workshop on Tuesday\, 8th October 2024 at Pewsham Community Hall\, Chippenham. Dive deep into the science and practice of happiness with expert guidance\, hands-on exercises\, and practical strategies to help you build your “Inner Home for Happiness.” \n🔑 What You’ll Learn:\nUnderstand the Happiness Set-point and Happiness Continuum\nExplore the 7 Keys to Building Your Inner Home for Happiness\n1. Taking Responsibility for Your Happiness\n2. Don’t Believe Everything You Think\n3. Let Love Lead\n4. Make Your Cells Happy\n5. Plug Yourself into Spirit\n6. Live a Life Inspired by Purpose\n7. Cultivate Nourishing Relationships \n🍽️ Lunch & Refreshments: Enjoy a delicious sandwich lunch with teas\, coffees\, and snacks throughout the day.\n🕙 When: 10:00 AM – 3:00 PM\n📍 Where: Pewsham Community Hall\n💷 Cost: £45 per person\n📅 Book Now: www.serotoninsam.com/book-here \nDon’t miss this opportunity to discover the keys to a happier\, more fulfilled life. Limited spaces available—reserve your spot today!
URL:https://onechippenham.org.uk/event/unlock-your-happy/
LOCATION:Pewsham Community Centre\, Lodge Road\, Chippenham\, SN5 3SY
CATEGORIES:Adults,Education,Health,Indoor,Training,Wellbeing,Workshop
ATTACH;FMTTYPE=image/jpeg:https://onechippenham.org.uk/wp-content/uploads/2024/08/1.jpg
ORGANIZER;CN="SerotoninSam":MAILTO:info@serotoninsam.com
END:VEVENT
BEGIN:VEVENT
DTSTART;TZID=Europe/London:20241008T100000
DTEND;TZID=Europe/London:20241008T150000
DTSTAMP:20260421T052851
CREATED:20240909T132903Z
LAST-MODIFIED:20240909T132903Z
UID:33227-1728381600-1728399600@onechippenham.org.uk
SUMMARY:Unlock Your Happy
DESCRIPTION:Are you ready to take control and start living your BEST life? Join us for an incredible day on Tuesday\, 8 October 2024\, from 10 AM to 3 PM\, where we’ll dive into the 7 keys to finding and staying centered in happiness! 😊💛 \nThis hands-on\, science-backed workshop will give you the tools to:\n✨ Raise your happiness levels\n✨ Find purpose and control in your life\n✨ Build emotional resilience\n✨ Leave feeling empowered\, centered\, and ready to take on the world! \n🧠 What to Expect:\nInteractive exercises to boost your happiness\nScience-based techniques proven to help you feel more joyful\nA friendly\, supportive group atmosphere \n🍽 PLUS: A tasty sandwich lunch\, snacks\, and refreshments are included\, all for just £45 per person! 🌿\nSpaces are limited\, so don’t miss out on this life-changing experience. Book your spot today and start unlocking your happiest self! 🎉 \n📅 Date: Tuesday\, 8 October 2024\n📍 Location: Pewsham Hall\, Chippenham\, SN15 3SY\n💸 Price: £45 (including lunch & refreshments) \nTo book visit: https://serotoninsam.com/book-here \nLet’s get happy together—it’s your birthright! 💫💛\nIf you have any queries please feel free to call me on 07492 683427 \n#UnlockYourHappy #LiveYourBestLife #HappinessWorkshop #ChippenhamEvents #mentalwellbeingmatters #happiness#happinesstrainer #chippenham #chippenhamwiltshire #melksham #melksham #calne #devizes #devizeswiltshire #corsham #corshamlife #wiltshire #wiltshirelife #bristol #bristollife #bristoluk #trowbridge #positivevibes #positivethinking
URL:https://onechippenham.org.uk/event/unlock-your-happy-2/
LOCATION:Pewsham Community Centre\, Lodge Road\, Chippenham\, SN5 3SY
CATEGORIES:Talks & lectures,Warm space,Wellbeing,Workshop
ATTACH;FMTTYPE=image/jpeg:https://onechippenham.org.uk/wp-content/uploads/2024/09/Your-paragraph-text-1.jpg
END:VEVENT
BEGIN:VEVENT
DTSTART;TZID=Europe/London:20241008T143000
DTEND;TZID=Europe/London:20241008T160000
DTSTAMP:20260421T052851
CREATED:20240919T125659Z
LAST-MODIFIED:20240919T125659Z
UID:33761-1728397800-1728403200@onechippenham.org.uk
SUMMARY:Well-being Singing Group
DESCRIPTION:🎶Well-being Singing Group🎶 \nJoin Sarah and Phil at the Kandu Arts Social Hub every Tuesday for an afternoon of karaoke \nA relaxed group that take part in solo and group singing to improve our well-being\nMusic is a powerful thing – it has a unique ability to lift our mood\, reduce stress and anxiety and provide an outlet for us to take control of our feelings \nOur group has a strong social element – we aim to provide mutual support and friendship \nNew members are welcome – we cater to all singing styles and abilities from experienced singers to people who have never sang before \n🎉Free to attend!\n☕️Enjoy free tea and coffee and chat to our lovely volunteers\n📆No need to book\n📍Kandu Arts S.H.O.P Emery Gate Shopping Centre\, Chippenham
URL:https://onechippenham.org.uk/event/well-being-singing-group/2024-10-08/
LOCATION:Emery Gate shopping centre\, Emery Gate shopping centre\, Chippenham\, Wiltshire\, SN15 3JP
CATEGORIES:Community,Music,Wellbeing,Workshop
ATTACH;FMTTYPE=image/png:https://onechippenham.org.uk/wp-content/uploads/2024/09/Well-being-Singing-Group.png.png
ORGANIZER;CN="Kandu Arts Community Projects CIC":MAILTO:office@kandu-arts.com
END:VEVENT
BEGIN:VEVENT
DTSTART;TZID=Europe/London:20241012T113000
DTEND;TZID=Europe/London:20241012T130000
DTSTAMP:20260421T052851
CREATED:20240917T094441Z
LAST-MODIFIED:20240917T094441Z
UID:33648-1728732600-1728738000@onechippenham.org.uk
SUMMARY:Art & Crafts Workshops
DESCRIPTION:Join Jane Alexander for weekly Well-being Art Workshops 🎨🖌️ \nExperiencing low mood\, feeling some social exclusion or want to get out of the house to meet others? \nThese workshops are open-to-all adults\, multi-media workshops will include oil pastels\, watercolours\, pencil crayons\, stencils and chalk pastel! \nWhen 📆\n28th September\n5th\, 12th\, 19th\, 26th October\n2nd November\n⏰ 11:30am – 1pm\nWhere 📍Kandu Arts SHOP\nEmery Gate Shopping Centre\nChippenham \nAll materials provided \nMeets the needs of a range of abilities – beginner friendly \nSuggested donation of £5 \nHow to book a space: in Kandu Arts SHOP\nEmail: admin@kandu-arts.com\nPhone: 01249 444009\nMessage: Kandu Arts directly
URL:https://onechippenham.org.uk/event/art-crafts-workshops-2/2024-10-12/
LOCATION:Emery Gate shopping centre\, Emery Gate shopping centre\, Chippenham\, Wiltshire\, SN15 3JP
CATEGORIES:Arts,Crafts,Wellbeing,Workshop
ATTACH;FMTTYPE=image/jpeg:https://onechippenham.org.uk/wp-content/uploads/2024/09/Well-being-Art-sessions.jpg
ORGANIZER;CN="Kandu Arts Community Projects CIC":MAILTO:office@kandu-arts.com
END:VEVENT
BEGIN:VEVENT
DTSTART;TZID=Europe/London:20241015T143000
DTEND;TZID=Europe/London:20241015T160000
DTSTAMP:20260421T052851
CREATED:20240919T125700Z
LAST-MODIFIED:20240919T125700Z
UID:33762-1729002600-1729008000@onechippenham.org.uk
SUMMARY:Well-being Singing Group
DESCRIPTION:🎶Well-being Singing Group🎶 \nJoin Sarah and Phil at the Kandu Arts Social Hub every Tuesday for an afternoon of karaoke \nA relaxed group that take part in solo and group singing to improve our well-being\nMusic is a powerful thing – it has a unique ability to lift our mood\, reduce stress and anxiety and provide an outlet for us to take control of our feelings \nOur group has a strong social element – we aim to provide mutual support and friendship \nNew members are welcome – we cater to all singing styles and abilities from experienced singers to people who have never sang before \n🎉Free to attend!\n☕️Enjoy free tea and coffee and chat to our lovely volunteers\n📆No need to book\n📍Kandu Arts S.H.O.P Emery Gate Shopping Centre\, Chippenham
URL:https://onechippenham.org.uk/event/well-being-singing-group/2024-10-15/
LOCATION:Emery Gate shopping centre\, Emery Gate shopping centre\, Chippenham\, Wiltshire\, SN15 3JP
CATEGORIES:Community,Music,Wellbeing,Workshop
ATTACH;FMTTYPE=image/png:https://onechippenham.org.uk/wp-content/uploads/2024/09/Well-being-Singing-Group.png.png
ORGANIZER;CN="Kandu Arts Community Projects CIC":MAILTO:office@kandu-arts.com
END:VEVENT
BEGIN:VEVENT
DTSTART;TZID=Europe/London:20241017T103000
DTEND;TZID=Europe/London:20241017T120000
DTSTAMP:20260421T052851
CREATED:20240514T203203Z
LAST-MODIFIED:20241112T114801Z
UID:30144-1729161000-1729166400@onechippenham.org.uk
SUMMARY:Alzheimer's Support Memory Cafe\, Chippenham
DESCRIPTION:Chippenham Memory café meets fortnightly for activities\, chat\, and a chance to catch up informally with dementia professionals. \nAs well as the general café\, there is also a quieter area where couples can sit and enjoy the refreshments and entertainment. \nIf this is your first time then please call us on 01380 739055. If you are a regular visitor to our cafe just turn up! \nWe look forward to seeing you soon. \nPlease note\, to help towards our costs we ask everyone to pay £4.50 on the door.
URL:https://onechippenham.org.uk/event/alzheimers-support-memory-cafe-chippenham/2024-10-17/
LOCATION:Sheldon Road Methodist Church\, Audley Road\, Chippenham\, SN14 0DU\, Sheldon Road Methodist Church\, Audley Road\, Chippenham\, Wiltshire\, SN14 0DU\, United Kingdom
CATEGORIES:Support,Support group,Wellbeing
ATTACH;FMTTYPE=image/jpeg:https://onechippenham.org.uk/wp-content/uploads/2024/05/Photo-21-03-2024-11-29-43-copy-scaled.jpg
END:VEVENT
BEGIN:VEVENT
DTSTART;TZID=Europe/London:20241019T113000
DTEND;TZID=Europe/London:20241019T130000
DTSTAMP:20260421T052851
CREATED:20240917T094442Z
LAST-MODIFIED:20240917T094442Z
UID:33649-1729337400-1729342800@onechippenham.org.uk
SUMMARY:Art & Crafts Workshops
DESCRIPTION:Join Jane Alexander for weekly Well-being Art Workshops 🎨🖌️ \nExperiencing low mood\, feeling some social exclusion or want to get out of the house to meet others? \nThese workshops are open-to-all adults\, multi-media workshops will include oil pastels\, watercolours\, pencil crayons\, stencils and chalk pastel! \nWhen 📆\n28th September\n5th\, 12th\, 19th\, 26th October\n2nd November\n⏰ 11:30am – 1pm\nWhere 📍Kandu Arts SHOP\nEmery Gate Shopping Centre\nChippenham \nAll materials provided \nMeets the needs of a range of abilities – beginner friendly \nSuggested donation of £5 \nHow to book a space: in Kandu Arts SHOP\nEmail: admin@kandu-arts.com\nPhone: 01249 444009\nMessage: Kandu Arts directly
URL:https://onechippenham.org.uk/event/art-crafts-workshops-2/2024-10-19/
LOCATION:Emery Gate shopping centre\, Emery Gate shopping centre\, Chippenham\, Wiltshire\, SN15 3JP
CATEGORIES:Arts,Crafts,Wellbeing,Workshop
ATTACH;FMTTYPE=image/jpeg:https://onechippenham.org.uk/wp-content/uploads/2024/09/Well-being-Art-sessions.jpg
ORGANIZER;CN="Kandu Arts Community Projects CIC":MAILTO:office@kandu-arts.com
END:VEVENT
BEGIN:VEVENT
DTSTART;TZID=Europe/London:20241022T143000
DTEND;TZID=Europe/London:20241022T160000
DTSTAMP:20260421T052851
CREATED:20240919T125700Z
LAST-MODIFIED:20240919T125700Z
UID:33763-1729607400-1729612800@onechippenham.org.uk
SUMMARY:Well-being Singing Group
DESCRIPTION:🎶Well-being Singing Group🎶 \nJoin Sarah and Phil at the Kandu Arts Social Hub every Tuesday for an afternoon of karaoke \nA relaxed group that take part in solo and group singing to improve our well-being\nMusic is a powerful thing – it has a unique ability to lift our mood\, reduce stress and anxiety and provide an outlet for us to take control of our feelings \nOur group has a strong social element – we aim to provide mutual support and friendship \nNew members are welcome – we cater to all singing styles and abilities from experienced singers to people who have never sang before \n🎉Free to attend!\n☕️Enjoy free tea and coffee and chat to our lovely volunteers\n📆No need to book\n📍Kandu Arts S.H.O.P Emery Gate Shopping Centre\, Chippenham
URL:https://onechippenham.org.uk/event/well-being-singing-group/2024-10-22/
LOCATION:Emery Gate shopping centre\, Emery Gate shopping centre\, Chippenham\, Wiltshire\, SN15 3JP
CATEGORIES:Community,Music,Wellbeing,Workshop
ATTACH;FMTTYPE=image/png:https://onechippenham.org.uk/wp-content/uploads/2024/09/Well-being-Singing-Group.png.png
ORGANIZER;CN="Kandu Arts Community Projects CIC":MAILTO:office@kandu-arts.com
END:VEVENT
BEGIN:VEVENT
DTSTART;TZID=Europe/London:20241026T113000
DTEND;TZID=Europe/London:20241026T130000
DTSTAMP:20260421T052851
CREATED:20240917T094442Z
LAST-MODIFIED:20240917T094442Z
UID:33650-1729942200-1729947600@onechippenham.org.uk
SUMMARY:Art & Crafts Workshops
DESCRIPTION:Join Jane Alexander for weekly Well-being Art Workshops 🎨🖌️ \nExperiencing low mood\, feeling some social exclusion or want to get out of the house to meet others? \nThese workshops are open-to-all adults\, multi-media workshops will include oil pastels\, watercolours\, pencil crayons\, stencils and chalk pastel! \nWhen 📆\n28th September\n5th\, 12th\, 19th\, 26th October\n2nd November\n⏰ 11:30am – 1pm\nWhere 📍Kandu Arts SHOP\nEmery Gate Shopping Centre\nChippenham \nAll materials provided \nMeets the needs of a range of abilities – beginner friendly \nSuggested donation of £5 \nHow to book a space: in Kandu Arts SHOP\nEmail: admin@kandu-arts.com\nPhone: 01249 444009\nMessage: Kandu Arts directly
URL:https://onechippenham.org.uk/event/art-crafts-workshops-2/2024-10-26/
LOCATION:Emery Gate shopping centre\, Emery Gate shopping centre\, Chippenham\, Wiltshire\, SN15 3JP
CATEGORIES:Arts,Crafts,Wellbeing,Workshop
ATTACH;FMTTYPE=image/jpeg:https://onechippenham.org.uk/wp-content/uploads/2024/09/Well-being-Art-sessions.jpg
ORGANIZER;CN="Kandu Arts Community Projects CIC":MAILTO:office@kandu-arts.com
END:VEVENT
BEGIN:VEVENT
DTSTART;TZID=Europe/London:20241029T143000
DTEND;TZID=Europe/London:20241029T160000
DTSTAMP:20260421T052851
CREATED:20240919T125701Z
LAST-MODIFIED:20240919T125701Z
UID:33764-1730212200-1730217600@onechippenham.org.uk
SUMMARY:Well-being Singing Group
DESCRIPTION:🎶Well-being Singing Group🎶 \nJoin Sarah and Phil at the Kandu Arts Social Hub every Tuesday for an afternoon of karaoke \nA relaxed group that take part in solo and group singing to improve our well-being\nMusic is a powerful thing – it has a unique ability to lift our mood\, reduce stress and anxiety and provide an outlet for us to take control of our feelings \nOur group has a strong social element – we aim to provide mutual support and friendship \nNew members are welcome – we cater to all singing styles and abilities from experienced singers to people who have never sang before \n🎉Free to attend!\n☕️Enjoy free tea and coffee and chat to our lovely volunteers\n📆No need to book\n📍Kandu Arts S.H.O.P Emery Gate Shopping Centre\, Chippenham
URL:https://onechippenham.org.uk/event/well-being-singing-group/2024-10-29/
LOCATION:Emery Gate shopping centre\, Emery Gate shopping centre\, Chippenham\, Wiltshire\, SN15 3JP
CATEGORIES:Community,Music,Wellbeing,Workshop
ATTACH;FMTTYPE=image/png:https://onechippenham.org.uk/wp-content/uploads/2024/09/Well-being-Singing-Group.png.png
ORGANIZER;CN="Kandu Arts Community Projects CIC":MAILTO:office@kandu-arts.com
END:VEVENT
BEGIN:VEVENT
DTSTART;TZID=Europe/London:20241031T103000
DTEND;TZID=Europe/London:20241031T120000
DTSTAMP:20260421T052851
CREATED:20240514T203203Z
LAST-MODIFIED:20241112T114802Z
UID:30145-1730370600-1730376000@onechippenham.org.uk
SUMMARY:Alzheimer's Support Memory Cafe\, Chippenham
DESCRIPTION:Chippenham Memory café meets fortnightly for activities\, chat\, and a chance to catch up informally with dementia professionals. \nAs well as the general café\, there is also a quieter area where couples can sit and enjoy the refreshments and entertainment. \nIf this is your first time then please call us on 01380 739055. If you are a regular visitor to our cafe just turn up! \nWe look forward to seeing you soon. \nPlease note\, to help towards our costs we ask everyone to pay £4.50 on the door.
URL:https://onechippenham.org.uk/event/alzheimers-support-memory-cafe-chippenham/2024-10-31/
LOCATION:Sheldon Road Methodist Church\, Audley Road\, Chippenham\, SN14 0DU\, Sheldon Road Methodist Church\, Audley Road\, Chippenham\, Wiltshire\, SN14 0DU\, United Kingdom
CATEGORIES:Support,Support group,Wellbeing
ATTACH;FMTTYPE=image/jpeg:https://onechippenham.org.uk/wp-content/uploads/2024/05/Photo-21-03-2024-11-29-43-copy-scaled.jpg
END:VEVENT
END:VCALENDAR