BEGIN:VCALENDAR
VERSION:2.0
PRODID:-//One Chippenham - ECPv6.15.20//NONSGML v1.0//EN
CALSCALE:GREGORIAN
METHOD:PUBLISH
X-WR-CALNAME:One Chippenham
X-ORIGINAL-URL:https://onechippenham.org.uk
X-WR-CALDESC:Events for One Chippenham
REFRESH-INTERVAL;VALUE=DURATION:PT1H
X-Robots-Tag:noindex
X-PUBLISHED-TTL:PT1H
BEGIN:VTIMEZONE
TZID:Europe/London
BEGIN:DAYLIGHT
TZOFFSETFROM:+0000
TZOFFSETTO:+0100
TZNAME:BST
DTSTART:20230326T010000
END:DAYLIGHT
BEGIN:STANDARD
TZOFFSETFROM:+0100
TZOFFSETTO:+0000
TZNAME:GMT
DTSTART:20231029T010000
END:STANDARD
BEGIN:DAYLIGHT
TZOFFSETFROM:+0000
TZOFFSETTO:+0100
TZNAME:BST
DTSTART:20240331T010000
END:DAYLIGHT
BEGIN:STANDARD
TZOFFSETFROM:+0100
TZOFFSETTO:+0000
TZNAME:GMT
DTSTART:20241027T010000
END:STANDARD
BEGIN:DAYLIGHT
TZOFFSETFROM:+0000
TZOFFSETTO:+0100
TZNAME:BST
DTSTART:20250330T010000
END:DAYLIGHT
BEGIN:STANDARD
TZOFFSETFROM:+0100
TZOFFSETTO:+0000
TZNAME:GMT
DTSTART:20251026T010000
END:STANDARD
END:VTIMEZONE
BEGIN:VEVENT
DTSTART;TZID=Europe/London:20241202T143000
DTEND;TZID=Europe/London:20241202T160000
DTSTAMP:20260420T235158
CREATED:20241117T095541Z
LAST-MODIFIED:20241117T095541Z
UID:36100-1733149800-1733155200@onechippenham.org.uk
SUMMARY:Grief Encounters\, a talk by Nigel Linacre
DESCRIPTION:Most of us will be unprepared for grief. Nigel will share his journey after his son’s death\, with lyrics and verse from the Grief Opera\, Love Goes On\, as featured on BBC and ITV. There will be an opportunity to share and ask questions. \nThis is a free event\, but space is limited\, so please book in advance. \nThere will be CDs available to purchase and a collection for the charity Suicide & Co. \nTo reserve a place or for more information\, pop in or call us on 01249 650536
URL:https://onechippenham.org.uk/event/grief-encounters-a-talk-by-nigel-linacre/
LOCATION:Chippenham Library
CATEGORIES:Adults,Community,Talks & lectures,Wellbeing
ATTACH;FMTTYPE=image/jpeg:https://onechippenham.org.uk/wp-content/uploads/2024/11/NigelDec24FB.jpg
END:VEVENT
BEGIN:VEVENT
DTSTART;TZID=Europe/London:20241202T193000
DTEND;TZID=Europe/London:20241202T203000
DTSTAMP:20260420T235158
CREATED:20241118T073414Z
LAST-MODIFIED:20241118T073414Z
UID:36076-1733167800-1733171400@onechippenham.org.uk
SUMMARY:Calm with Katerina
DESCRIPTION:FROM ANXIETY\, STRESS AND (Pre-Christmas) OVERWHELM TO PEACE\, TRANQUILITY AND STILLNESS.. \nI’d like to invite you to my monthly meditation and relaxation session\, Calm with Katerina \, held in the beautiful space of Platinum House\, 35 Market Place\, Chippenham. \nI’m Katerina and I am a therapeutic coach\, mindfulness and meditation teacher and a Reiki practitioner based in Chippenham. \nMy session provides an opportunity for you to step away from the busyness and demands of life and spend an hour engaging in calming breath and mindfulness exercises\, guided meditation and a sound bath with soothing sounds of gongs and chimes. \nYou will be welcome in a safe and nurturing space and leave calm\, rested\, rejuvenated and deeply relaxed ready to move through the festive period with more ease.\n✨Give yourself permission to relax.\n✨Experience deep rest.\n✨Leave feeling renewed and reinvigorated.\nNo previous experience necessary. I’ll gently guide you through the session.\nAccompanied teens very welcome. \nTo find out more and to book your place please go to:\nhttps://www.mindcraftkids.com/mindfulness-and-meditation-workshops/ \n“Thank you\, Katerina. You’ve helped me discover and appreciate the power of live meditation and ultimately reach inner peace\, which I was so desperate for. You are a natural.” \n#mindfulness #meditation #breathwork #soundbath #calm #peace #stillness
URL:https://onechippenham.org.uk/event/calm-with-katerina-5/
LOCATION:Platinum House\, Chippenham\, 35 Market Place\, Chippenham\, Wiltshire\, SN15 3HT\, United Kingdom
CATEGORIES:Health,Wellbeing
ATTACH;FMTTYPE=image/jpeg:https://onechippenham.org.uk/wp-content/uploads/2024/11/Calm-with-Katerina-Dec24-Instagram-Post.jpg
ORGANIZER;CN="MindCraft":MAILTO:hello@mindcraftkids.com
END:VEVENT
BEGIN:VEVENT
DTSTART;TZID=Europe/London:20241203T143000
DTEND;TZID=Europe/London:20241203T160000
DTSTAMP:20260420T235158
CREATED:20240919T125705Z
LAST-MODIFIED:20240919T125705Z
UID:33769-1733236200-1733241600@onechippenham.org.uk
SUMMARY:Well-being Singing Group
DESCRIPTION:🎶Well-being Singing Group🎶 \nJoin Sarah and Phil at the Kandu Arts Social Hub every Tuesday for an afternoon of karaoke \nA relaxed group that take part in solo and group singing to improve our well-being\nMusic is a powerful thing – it has a unique ability to lift our mood\, reduce stress and anxiety and provide an outlet for us to take control of our feelings \nOur group has a strong social element – we aim to provide mutual support and friendship \nNew members are welcome – we cater to all singing styles and abilities from experienced singers to people who have never sang before \n🎉Free to attend!\n☕️Enjoy free tea and coffee and chat to our lovely volunteers\n📆No need to book\n📍Kandu Arts S.H.O.P Emery Gate Shopping Centre\, Chippenham
URL:https://onechippenham.org.uk/event/well-being-singing-group/2024-12-03/
LOCATION:Emery Gate shopping centre\, Emery Gate shopping centre\, Chippenham\, Wiltshire\, SN15 3JP
CATEGORIES:Community,Music,Wellbeing,Workshop
ATTACH;FMTTYPE=image/png:https://onechippenham.org.uk/wp-content/uploads/2024/09/Well-being-Singing-Group.png.png
ORGANIZER;CN="Kandu Arts Community Projects CIC":MAILTO:office@kandu-arts.com
END:VEVENT
BEGIN:VEVENT
DTSTART;TZID=Europe/London:20241205T154500
DTEND;TZID=Europe/London:20241205T164500
DTSTAMP:20260420T235158
CREATED:20241127T213441Z
LAST-MODIFIED:20241127T213441Z
UID:36469-1733413500-1733417100@onechippenham.org.uk
SUMMARY:Wellbeing Strategies through Visual Arts
DESCRIPTION:This online workshop will offer Secondary Art Teachers\, SENDCOs\, Support Staff and Pastoral Leads within education in Wiltshire\, with fresh opportunities to refresh and embed their prior learning about trauma-informed practice for wellbeing accompanied by art activities that can be embedded into teacher practice and will show how these activities can develop into a sustained piece to enter into Art Bytes’ national inter-school art competition. \nTo participate in this FREE workshop\, simply ensure you have registered here:\nhttps://wellbeing-strategies-art-workshop.eventbrite.co.uk \nArt Bytes champions creativity of the nation’s next generation using art and virtual technology\, raising aspirations for better futures. Art Bytes is proven to increase pupil’s self-esteem\, particularly important with the growing mental health crisis facing young people as well as helping to close the disadvantage gap. \nFor further information about Art Bytes to see how it can build pupils’ confidence and\nnurture their talent\, please visit: artbytes.co.uk \nSMASH has been mentoring children and young people in and around Swindon and North Wiltshire for over 20 years. A small team of professional mentors working to provide safe spaces and practical support for young people\, with a mission to ensure young people get the support they need when they need it\, no matter what. We will work with them to access support\, amplify their voice and reach their potential. \nFor further information about SMASH and their mentoring options\nplease visit: https://smashyouthproject.co.uk/
URL:https://onechippenham.org.uk/event/wellbeing-strategies-through-visual-arts/
LOCATION:Wiltshire
CATEGORIES:Arts,Education,Wellbeing
ATTACH;FMTTYPE=image/jpeg:https://onechippenham.org.uk/wp-content/uploads/2024/11/IMG_3544.jpeg
ORGANIZER;CN="Art Bytes":MAILTO:emma@artbytes.co.uk
END:VEVENT
BEGIN:VEVENT
DTSTART;TZID=Europe/London:20241210T143000
DTEND;TZID=Europe/London:20241210T160000
DTSTAMP:20260420T235158
CREATED:20240919T125706Z
LAST-MODIFIED:20240919T125706Z
UID:33770-1733841000-1733846400@onechippenham.org.uk
SUMMARY:Well-being Singing Group
DESCRIPTION:🎶Well-being Singing Group🎶 \nJoin Sarah and Phil at the Kandu Arts Social Hub every Tuesday for an afternoon of karaoke \nA relaxed group that take part in solo and group singing to improve our well-being\nMusic is a powerful thing – it has a unique ability to lift our mood\, reduce stress and anxiety and provide an outlet for us to take control of our feelings \nOur group has a strong social element – we aim to provide mutual support and friendship \nNew members are welcome – we cater to all singing styles and abilities from experienced singers to people who have never sang before \n🎉Free to attend!\n☕️Enjoy free tea and coffee and chat to our lovely volunteers\n📆No need to book\n📍Kandu Arts S.H.O.P Emery Gate Shopping Centre\, Chippenham
URL:https://onechippenham.org.uk/event/well-being-singing-group/2024-12-10/
LOCATION:Emery Gate shopping centre\, Emery Gate shopping centre\, Chippenham\, Wiltshire\, SN15 3JP
CATEGORIES:Community,Music,Wellbeing,Workshop
ATTACH;FMTTYPE=image/png:https://onechippenham.org.uk/wp-content/uploads/2024/09/Well-being-Singing-Group.png.png
ORGANIZER;CN="Kandu Arts Community Projects CIC":MAILTO:office@kandu-arts.com
END:VEVENT
BEGIN:VEVENT
DTSTART;TZID=Europe/London:20241212T103000
DTEND;TZID=Europe/London:20241212T120000
DTSTAMP:20260420T235158
CREATED:20240514T203203Z
LAST-MODIFIED:20241112T114804Z
UID:30148-1733999400-1734004800@onechippenham.org.uk
SUMMARY:Alzheimer's Support Memory Cafe\, Chippenham
DESCRIPTION:Chippenham Memory café meets fortnightly for activities\, chat\, and a chance to catch up informally with dementia professionals. \nAs well as the general café\, there is also a quieter area where couples can sit and enjoy the refreshments and entertainment. \nIf this is your first time then please call us on 01380 739055. If you are a regular visitor to our cafe just turn up! \nWe look forward to seeing you soon. \nPlease note\, to help towards our costs we ask everyone to pay £4.50 on the door.
URL:https://onechippenham.org.uk/event/alzheimers-support-memory-cafe-chippenham/2024-12-12/
LOCATION:Sheldon Road Methodist Church\, Audley Road\, Chippenham\, SN14 0DU\, Sheldon Road Methodist Church\, Audley Road\, Chippenham\, Wiltshire\, SN14 0DU\, United Kingdom
CATEGORIES:Support,Support group,Wellbeing
ATTACH;FMTTYPE=image/jpeg:https://onechippenham.org.uk/wp-content/uploads/2024/05/Photo-21-03-2024-11-29-43-copy-scaled.jpg
END:VEVENT
BEGIN:VEVENT
DTSTART;TZID=Europe/London:20241217T143000
DTEND;TZID=Europe/London:20241217T160000
DTSTAMP:20260420T235158
CREATED:20240919T125710Z
LAST-MODIFIED:20240919T125710Z
UID:33774-1734445800-1734451200@onechippenham.org.uk
SUMMARY:Well-being Singing Group
DESCRIPTION:🎶Well-being Singing Group🎶 \nJoin Sarah and Phil at the Kandu Arts Social Hub every Tuesday for an afternoon of karaoke \nA relaxed group that take part in solo and group singing to improve our well-being\nMusic is a powerful thing – it has a unique ability to lift our mood\, reduce stress and anxiety and provide an outlet for us to take control of our feelings \nOur group has a strong social element – we aim to provide mutual support and friendship \nNew members are welcome – we cater to all singing styles and abilities from experienced singers to people who have never sang before \n🎉Free to attend!\n☕️Enjoy free tea and coffee and chat to our lovely volunteers\n📆No need to book\n📍Kandu Arts S.H.O.P Emery Gate Shopping Centre\, Chippenham
URL:https://onechippenham.org.uk/event/well-being-singing-group/2024-12-17/
LOCATION:Emery Gate shopping centre\, Emery Gate shopping centre\, Chippenham\, Wiltshire\, SN15 3JP
CATEGORIES:Community,Music,Wellbeing,Workshop
ATTACH;FMTTYPE=image/png:https://onechippenham.org.uk/wp-content/uploads/2024/09/Well-being-Singing-Group.png.png
ORGANIZER;CN="Kandu Arts Community Projects CIC":MAILTO:office@kandu-arts.com
END:VEVENT
BEGIN:VEVENT
DTSTART;TZID=Europe/London:20241224T143000
DTEND;TZID=Europe/London:20241224T160000
DTSTAMP:20260420T235158
CREATED:20240919T125711Z
LAST-MODIFIED:20240919T125711Z
UID:33775-1735050600-1735056000@onechippenham.org.uk
SUMMARY:Well-being Singing Group
DESCRIPTION:🎶Well-being Singing Group🎶 \nJoin Sarah and Phil at the Kandu Arts Social Hub every Tuesday for an afternoon of karaoke \nA relaxed group that take part in solo and group singing to improve our well-being\nMusic is a powerful thing – it has a unique ability to lift our mood\, reduce stress and anxiety and provide an outlet for us to take control of our feelings \nOur group has a strong social element – we aim to provide mutual support and friendship \nNew members are welcome – we cater to all singing styles and abilities from experienced singers to people who have never sang before \n🎉Free to attend!\n☕️Enjoy free tea and coffee and chat to our lovely volunteers\n📆No need to book\n📍Kandu Arts S.H.O.P Emery Gate Shopping Centre\, Chippenham
URL:https://onechippenham.org.uk/event/well-being-singing-group/2024-12-24/
LOCATION:Emery Gate shopping centre\, Emery Gate shopping centre\, Chippenham\, Wiltshire\, SN15 3JP
CATEGORIES:Community,Music,Wellbeing,Workshop
ATTACH;FMTTYPE=image/png:https://onechippenham.org.uk/wp-content/uploads/2024/09/Well-being-Singing-Group.png.png
ORGANIZER;CN="Kandu Arts Community Projects CIC":MAILTO:office@kandu-arts.com
END:VEVENT
BEGIN:VEVENT
DTSTART;TZID=Europe/London:20241226T103000
DTEND;TZID=Europe/London:20241226T120000
DTSTAMP:20260420T235158
CREATED:20240514T203203Z
LAST-MODIFIED:20241112T114805Z
UID:30149-1735209000-1735214400@onechippenham.org.uk
SUMMARY:Alzheimer's Support Memory Cafe\, Chippenham
DESCRIPTION:Chippenham Memory café meets fortnightly for activities\, chat\, and a chance to catch up informally with dementia professionals. \nAs well as the general café\, there is also a quieter area where couples can sit and enjoy the refreshments and entertainment. \nIf this is your first time then please call us on 01380 739055. If you are a regular visitor to our cafe just turn up! \nWe look forward to seeing you soon. \nPlease note\, to help towards our costs we ask everyone to pay £4.50 on the door.
URL:https://onechippenham.org.uk/event/alzheimers-support-memory-cafe-chippenham/2024-12-26/
LOCATION:Sheldon Road Methodist Church\, Audley Road\, Chippenham\, SN14 0DU\, Sheldon Road Methodist Church\, Audley Road\, Chippenham\, Wiltshire\, SN14 0DU\, United Kingdom
CATEGORIES:Support,Support group,Wellbeing
ATTACH;FMTTYPE=image/jpeg:https://onechippenham.org.uk/wp-content/uploads/2024/05/Photo-21-03-2024-11-29-43-copy-scaled.jpg
END:VEVENT
BEGIN:VEVENT
DTSTART;TZID=Europe/London:20241231T143000
DTEND;TZID=Europe/London:20241231T160000
DTSTAMP:20260420T235158
CREATED:20240919T125712Z
LAST-MODIFIED:20240919T125712Z
UID:33776-1735655400-1735660800@onechippenham.org.uk
SUMMARY:Well-being Singing Group
DESCRIPTION:🎶Well-being Singing Group🎶 \nJoin Sarah and Phil at the Kandu Arts Social Hub every Tuesday for an afternoon of karaoke \nA relaxed group that take part in solo and group singing to improve our well-being\nMusic is a powerful thing – it has a unique ability to lift our mood\, reduce stress and anxiety and provide an outlet for us to take control of our feelings \nOur group has a strong social element – we aim to provide mutual support and friendship \nNew members are welcome – we cater to all singing styles and abilities from experienced singers to people who have never sang before \n🎉Free to attend!\n☕️Enjoy free tea and coffee and chat to our lovely volunteers\n📆No need to book\n📍Kandu Arts S.H.O.P Emery Gate Shopping Centre\, Chippenham
URL:https://onechippenham.org.uk/event/well-being-singing-group/2024-12-31/
LOCATION:Emery Gate shopping centre\, Emery Gate shopping centre\, Chippenham\, Wiltshire\, SN15 3JP
CATEGORIES:Community,Music,Wellbeing,Workshop
ATTACH;FMTTYPE=image/png:https://onechippenham.org.uk/wp-content/uploads/2024/09/Well-being-Singing-Group.png.png
ORGANIZER;CN="Kandu Arts Community Projects CIC":MAILTO:office@kandu-arts.com
END:VEVENT
END:VCALENDAR