BEGIN:VCALENDAR
VERSION:2.0
PRODID:-//One Chippenham - ECPv6.15.20//NONSGML v1.0//EN
CALSCALE:GREGORIAN
METHOD:PUBLISH
X-WR-CALNAME:One Chippenham
X-ORIGINAL-URL:https://onechippenham.org.uk
X-WR-CALDESC:Events for One Chippenham
REFRESH-INTERVAL;VALUE=DURATION:PT1H
X-Robots-Tag:noindex
X-PUBLISHED-TTL:PT1H
BEGIN:VTIMEZONE
TZID:Europe/London
BEGIN:DAYLIGHT
TZOFFSETFROM:+0000
TZOFFSETTO:+0100
TZNAME:BST
DTSTART:20230326T010000
END:DAYLIGHT
BEGIN:STANDARD
TZOFFSETFROM:+0100
TZOFFSETTO:+0000
TZNAME:GMT
DTSTART:20231029T010000
END:STANDARD
BEGIN:DAYLIGHT
TZOFFSETFROM:+0000
TZOFFSETTO:+0100
TZNAME:BST
DTSTART:20240331T010000
END:DAYLIGHT
BEGIN:STANDARD
TZOFFSETFROM:+0100
TZOFFSETTO:+0000
TZNAME:GMT
DTSTART:20241027T010000
END:STANDARD
BEGIN:DAYLIGHT
TZOFFSETFROM:+0000
TZOFFSETTO:+0100
TZNAME:BST
DTSTART:20250330T010000
END:DAYLIGHT
BEGIN:STANDARD
TZOFFSETFROM:+0100
TZOFFSETTO:+0000
TZNAME:GMT
DTSTART:20251026T010000
END:STANDARD
END:VTIMEZONE
BEGIN:VEVENT
DTSTART;TZID=Europe/London:20240521T020000
DTEND;TZID=Europe/London:20240521T153000
DTSTAMP:20260425T230545
CREATED:20240329T094256Z
LAST-MODIFIED:20240329T094256Z
UID:28882-1716256800-1716305400@onechippenham.org.uk
SUMMARY:Happy Cafe
DESCRIPTION:A Happy Café is one which has agreed to be part of the Happy Café Network\, which is being set up by members of the Action for Happiness movement. \nHappy Cafés provide a warm welcome for anyone interested in happiness and wellbeing\, encouraging people to meet together for a drink and friendly chat. \nYour local Happy Café is brought to you by the Wiltshire Mental Health Inclusion Service…. \nChippenham – Rivo Lounge every Tuesday 2-3.30pm \nContact David if you are interested or have any questions: 07483 913159 \n\nVisit Wiltshire Mental Health Inclusion Service online: \nrethink.org/wiltsmhis \nFacebook: WiltshireMHIS \nInstagram: wiltshire_mhis \n 
URL:https://onechippenham.org.uk/event/happy-cafe-2/2024-05-21/
LOCATION:The Rivo Lounge\, 2-4 The Bridge\, Chippenham\, SN151EX
CATEGORIES:Adults,Community,Support,Support group,Wellbeing
ATTACH;FMTTYPE=image/jpeg:https://onechippenham.org.uk/wp-content/uploads/2023/12/IMG_2634.jpeg
END:VEVENT
BEGIN:VEVENT
DTSTART;TZID=Europe/London:20240523T100000
DTEND;TZID=Europe/London:20240523T120000
DTSTAMP:20260425T230545
CREATED:20240130T074539Z
LAST-MODIFIED:20240212T150035Z
UID:26369-1716458400-1716465600@onechippenham.org.uk
SUMMARY:Senior Friendship Group
DESCRIPTION:A weekly friendship group for Senior Members at the Chippenham Community Hub. Lots of laughter\, fun and games with Bingo\, quizzes and lots of biscuits\, tea and coffee and chatter.
URL:https://onechippenham.org.uk/event/senior-friendship-group/2024-05-23/
LOCATION:23 Borough Parade\, Chippenham\, Wiltshire\,  SN15 3WL\, Unit 23\, Chippenham\, SN15 3WL\, United Kingdom
CATEGORIES:Adults,Community,Over 60's,Wellbeing
ATTACH;FMTTYPE=image/jpeg:https://onechippenham.org.uk/wp-content/uploads/2024/01/Seniors-Group.jpg
ORGANIZER;CN="Chippenham Community Hub":MAILTO:chippenhamcommunityecohub@gmail.com
END:VEVENT
BEGIN:VEVENT
DTSTART;TZID=Europe/London:20240525T090000
DTEND;TZID=Europe/London:20240525T100000
DTSTAMP:20260425T230545
CREATED:20230909T145220Z
LAST-MODIFIED:20231218T115753Z
UID:15099-1716627600-1716631200@onechippenham.org.uk
SUMMARY:Chippenham parkrun
DESCRIPTION:A free\, weekly\, timed 5k run\, jog or walk in the park.\nOrganised by local volunteers\, the 5k parkrun event encourages individuals and groups to meet their mental as well as physical health goals in a friendly community atmosphere. \nWe have runners out to beat the course record\, their own Personal Best and meet with friends as well as walkers out to do almost exactly the same!
URL:https://onechippenham.org.uk/event/chippenham-parkrun-2/2024-05-25/
LOCATION:Monkton Park\, Chippenham
CATEGORIES:Health,Sport,Wellbeing
ATTACH;FMTTYPE=image/png:https://onechippenham.org.uk/wp-content/uploads/2023/09/inbound5435510492952247169.png
ORGANIZER;CN="Chippenham Parkrun":MAILTO:chippenham@parkrun.com
END:VEVENT
END:VCALENDAR