BEGIN:VCALENDAR
VERSION:2.0
PRODID:-//One Chippenham - ECPv6.15.20//NONSGML v1.0//EN
CALSCALE:GREGORIAN
METHOD:PUBLISH
X-ORIGINAL-URL:https://onechippenham.org.uk
X-WR-CALDESC:Events for One Chippenham
REFRESH-INTERVAL;VALUE=DURATION:PT1H
X-Robots-Tag:noindex
X-PUBLISHED-TTL:PT1H
BEGIN:VTIMEZONE
TZID:Europe/London
BEGIN:DAYLIGHT
TZOFFSETFROM:+0000
TZOFFSETTO:+0100
TZNAME:BST
DTSTART:20220327T010000
END:DAYLIGHT
BEGIN:STANDARD
TZOFFSETFROM:+0100
TZOFFSETTO:+0000
TZNAME:GMT
DTSTART:20221030T010000
END:STANDARD
BEGIN:DAYLIGHT
TZOFFSETFROM:+0000
TZOFFSETTO:+0100
TZNAME:BST
DTSTART:20230326T010000
END:DAYLIGHT
BEGIN:STANDARD
TZOFFSETFROM:+0100
TZOFFSETTO:+0000
TZNAME:GMT
DTSTART:20231029T010000
END:STANDARD
BEGIN:DAYLIGHT
TZOFFSETFROM:+0000
TZOFFSETTO:+0100
TZNAME:BST
DTSTART:20240331T010000
END:DAYLIGHT
BEGIN:STANDARD
TZOFFSETFROM:+0100
TZOFFSETTO:+0000
TZNAME:GMT
DTSTART:20241027T010000
END:STANDARD
END:VTIMEZONE
BEGIN:VEVENT
DTSTART;TZID=Europe/London:20230802T100000
DTEND;TZID=Europe/London:20230802T130000
DTSTAMP:20260423T095657
CREATED:20230713T132836Z
LAST-MODIFIED:20230713T133206Z
UID:14302-1690970400-1690981200@onechippenham.org.uk
SUMMARY:Summer Fun with Clare’s Circus
DESCRIPTION:Roll up! Roll up! The fantastic Clare’s Circus is coming to the Neeld. \nLearn how to spin plates\, juggle and even walk a tight-wire!  Many other activities will be available including hula hoops\, stilts\, poi and fun games such as giant Jenga. For those under 4 there will be a special area with tents\, tunnels\, scuttle bugs and suitable games to keep them entertained. A great family activity for the summer holidays suitable for ages 18 months + \nDrop-in session: 10am-1pm \nPlease note: All children must be accompanied by a responsible adult at all times. \nTo book and for more information the Neeld Community & Arts Centre website.
URL:https://onechippenham.org.uk/event/summer-fun-with-clares-circus/2023-08-02/
LOCATION:The Neeld
CATEGORIES:Children,Circus,Family Friendly,Workshop
ATTACH;FMTTYPE=image/png:https://onechippenham.org.uk/wp-content/uploads/2023/07/Clares-Circus.png
END:VEVENT
BEGIN:VEVENT
DTSTART;TZID=Europe/London:20230826T100000
DTEND;TZID=Europe/London:20230826T160000
DTSTAMP:20260423T095657
CREATED:20230814T103214Z
LAST-MODIFIED:20230814T103300Z
UID:14554-1693044000-1693065600@onechippenham.org.uk
SUMMARY:Whole Day Life Drawing - Beginners
DESCRIPTION:We’re excited to bring you one more whole day of life drawing for the summer holidays. Join Charlie for an indulgent day of life drawing in the beautiful surroundings of the Cause Arts Centre\, Chippenham. Designed for the complete beginner – why not dip your toes in and see if it’s for you? \nFresh coffee\, biscuits and all art materials provided. £70 per day. Treat yourself and add on £5 for a hand made sandwich\, crisps and a soft drink. \nPlease complete this enrolment form. \nWe look forward to meeting you and producing some gorgeous work. Feel free to get in touch with any questions.
URL:https://onechippenham.org.uk/event/whole-day-life-drawing-beginners/
LOCATION:The Cause Music and Arts Centre\, 42 The Causeway\, Chippenham\, Wiltshire\, SN15 3DD\, United Kingdom
CATEGORIES:Adults,Arts,Visual Arts,Workshop
ATTACH;FMTTYPE=image/png:https://onechippenham.org.uk/wp-content/uploads/2023/07/life-drawing-26th-august.png
ORGANIZER;CN="Rag and Bone Arts CIC":MAILTO:ragandbonearts@gmail.com
END:VEVENT
BEGIN:VEVENT
DTSTART;TZID=Europe/London:20230829T103000
DTEND;TZID=Europe/London:20230829T123000
DTSTAMP:20260423T095657
CREATED:20230821T122642Z
LAST-MODIFIED:20230822T135116Z
UID:14722-1693305000-1693312200@onechippenham.org.uk
SUMMARY:Tell Your Story
DESCRIPTION:Tell Your Story \nFind your creative voice. Talk about what matters. Make your voice heard.\nFree workshops with professional creatives in stand-up\, performance poetry\, music\, podcasting\, script-writing and devising.\nLimited spaces. Age 13+ \nChippenham Town Hall:\nTues 29th August 10.30 – 12.30\nThurs 31st August 10.30 – 12.30\nThurs 31st August 1.30 – 3.30 \nemail: tellyourstorychippenham@gmail.com for more information \nTell Your Story is a Brave Bold Drama project in collaboration with Knapsack Productions. It was funded by The National Lottery Community Fund – Million Hours Funding. \nwww.bravebolddrama.co.uk/ \nwww.knapsackproductions.co.uk/
URL:https://onechippenham.org.uk/event/tell-your-story/2023-08-29/
LOCATION:Chippenham Town Hall\, High Street\, Chippenham\, Afghanistan
CATEGORIES:Arts,Books/poetry,Creative Writing,Performing Arts,Teens,Theatre,Workshop,Young adults
ATTACH;FMTTYPE=image/png:https://onechippenham.org.uk/wp-content/uploads/2023/08/Tell-your-story-2.png
END:VEVENT
END:VCALENDAR