BEGIN:VCALENDAR
VERSION:2.0
PRODID:-//One Chippenham - ECPv6.15.20//NONSGML v1.0//EN
CALSCALE:GREGORIAN
METHOD:PUBLISH
X-WR-CALNAME:One Chippenham
X-ORIGINAL-URL:https://onechippenham.org.uk
X-WR-CALDESC:Events for One Chippenham
REFRESH-INTERVAL;VALUE=DURATION:PT1H
X-Robots-Tag:noindex
X-PUBLISHED-TTL:PT1H
BEGIN:VTIMEZONE
TZID:Europe/London
BEGIN:DAYLIGHT
TZOFFSETFROM:+0000
TZOFFSETTO:+0100
TZNAME:BST
DTSTART:20210328T010000
END:DAYLIGHT
BEGIN:STANDARD
TZOFFSETFROM:+0100
TZOFFSETTO:+0000
TZNAME:GMT
DTSTART:20211031T010000
END:STANDARD
BEGIN:DAYLIGHT
TZOFFSETFROM:+0000
TZOFFSETTO:+0100
TZNAME:BST
DTSTART:20220327T010000
END:DAYLIGHT
BEGIN:STANDARD
TZOFFSETFROM:+0100
TZOFFSETTO:+0000
TZNAME:GMT
DTSTART:20221030T010000
END:STANDARD
BEGIN:DAYLIGHT
TZOFFSETFROM:+0000
TZOFFSETTO:+0100
TZNAME:BST
DTSTART:20230326T010000
END:DAYLIGHT
BEGIN:STANDARD
TZOFFSETFROM:+0100
TZOFFSETTO:+0000
TZNAME:GMT
DTSTART:20231029T010000
END:STANDARD
END:VTIMEZONE
BEGIN:VEVENT
DTSTART;TZID=Europe/London:20221004T183000
DTEND;TZID=Europe/London:20221004T193000
DTSTAMP:20260426T040732
CREATED:20220927T210507Z
LAST-MODIFIED:20220927T210507Z
UID:7839-1664908200-1664911800@onechippenham.org.uk
SUMMARY:Spanish Lessons
DESCRIPTION:Come and learn Spanish in Chippenham! \nThe lessons are taught in Platinum House\, Chippenham\, SN15 3HT (Next to St. Andrew’s Church) every Tuesday evening from 6.30pm to 7.30pm or every Sunday afternoon from 4.30pm- 5.30pm \nFirst Lesson is FREE then lessons are £7.00 per person/per lesson. \nContact Carlos or Faye 07858 122 119 / 07410 386 436
URL:https://onechippenham.org.uk/event/spanish-lessons/2022-10-04/
CATEGORIES:Language lesson,Workshop,Young adults
ATTACH;FMTTYPE=image/jpeg:https://onechippenham.org.uk/wp-content/uploads/2022/09/F3BB6229-573E-47DD-BA6F-2B48AB4F0D0E.jpeg
ORGANIZER;CN="Carlos L%C3%B3pez and Faye Andrews":MAILTO:N/A
END:VEVENT
END:VCALENDAR