BEGIN:VCALENDAR
VERSION:2.0
PRODID:-//One Chippenham - ECPv6.15.20//NONSGML v1.0//EN
CALSCALE:GREGORIAN
METHOD:PUBLISH
X-WR-CALNAME:One Chippenham
X-ORIGINAL-URL:https://onechippenham.org.uk
X-WR-CALDESC:Events for One Chippenham
REFRESH-INTERVAL;VALUE=DURATION:PT1H
X-Robots-Tag:noindex
X-PUBLISHED-TTL:PT1H
BEGIN:VTIMEZONE
TZID:Europe/London
BEGIN:DAYLIGHT
TZOFFSETFROM:+0000
TZOFFSETTO:+0100
TZNAME:BST
DTSTART:20220327T010000
END:DAYLIGHT
BEGIN:STANDARD
TZOFFSETFROM:+0100
TZOFFSETTO:+0000
TZNAME:GMT
DTSTART:20221030T010000
END:STANDARD
BEGIN:DAYLIGHT
TZOFFSETFROM:+0000
TZOFFSETTO:+0100
TZNAME:BST
DTSTART:20230326T010000
END:DAYLIGHT
BEGIN:STANDARD
TZOFFSETFROM:+0100
TZOFFSETTO:+0000
TZNAME:GMT
DTSTART:20231029T010000
END:STANDARD
BEGIN:DAYLIGHT
TZOFFSETFROM:+0000
TZOFFSETTO:+0100
TZNAME:BST
DTSTART:20240331T010000
END:DAYLIGHT
BEGIN:STANDARD
TZOFFSETFROM:+0100
TZOFFSETTO:+0000
TZNAME:GMT
DTSTART:20241027T010000
END:STANDARD
END:VTIMEZONE
BEGIN:VEVENT
DTSTART;TZID=Europe/London:20230225T200000
DTEND;TZID=Europe/London:20230225T200000
DTSTAMP:20260423T194830
CREATED:20230207T222201Z
LAST-MODIFIED:20230224T092035Z
UID:11075-1677355200-1677355200@onechippenham.org.uk
SUMMARY:Instant Wit - The quick fire comedy improvisation show
DESCRIPTION:A quick-fire comedy improvisation show packed full of sketches\, gags\, songs\, surreal situations\, flying packets of ‘Instant Whip’ and prizes! \nCompletely improvised and directed by the audience the show is highly addictive\, interactive\, engaging & fun. \nParticipate as much or as little you like: shout out during the show or write down suggestions in the interval to win prizes. For audiences aged 12+. \n\n‘Expect the unexpected\, smirk for the bizarre in an evening of unalloyed merriment\, courtesy of the brilliant Instant Wit – a show to make you literally wobble with laughter!‘ Hackney Gazette\n\n\n\n‘Instant Wit are a team of very funny people who produce a professional\, very funny show.’\n\n\n\nBrought to you by Rag and Bone Arts CIC – dedicated to increasing the arts provision in Chippenham\n\n\n\nBag your tickets here: https://www.ticketsource.co.uk/rag-and-bone-arts-cic
URL:https://onechippenham.org.uk/event/instant-wit-the-quick-fire-comedy-improvisation-show/
LOCATION:The Cause Music and Arts Centre\, 42 The Causeway\, Chippenham\, Wiltshire\, SN15 3DD\, United Kingdom
CATEGORIES:Adults,Arts,Comedy,Fringe Feb,Performance,Performing Arts,Teens,Young adults
ATTACH;FMTTYPE=image/jpeg:https://onechippenham.org.uk/wp-content/uploads/2023/02/329152121_836869910739808_2385418769051755229_n.jpg
ORGANIZER;CN="Rag and Bone Arts CIC":MAILTO:ragandbonearts@gmail.com
END:VEVENT
END:VCALENDAR