BEGIN:VCALENDAR
VERSION:2.0
PRODID:-//One Chippenham - ECPv6.15.20//NONSGML v1.0//EN
CALSCALE:GREGORIAN
METHOD:PUBLISH
X-ORIGINAL-URL:https://onechippenham.org.uk
X-WR-CALDESC:Events for One Chippenham
REFRESH-INTERVAL;VALUE=DURATION:PT1H
X-Robots-Tag:noindex
X-PUBLISHED-TTL:PT1H
BEGIN:VTIMEZONE
TZID:Europe/London
BEGIN:DAYLIGHT
TZOFFSETFROM:+0000
TZOFFSETTO:+0100
TZNAME:BST
DTSTART:20210328T010000
END:DAYLIGHT
BEGIN:STANDARD
TZOFFSETFROM:+0100
TZOFFSETTO:+0000
TZNAME:GMT
DTSTART:20211031T010000
END:STANDARD
BEGIN:DAYLIGHT
TZOFFSETFROM:+0000
TZOFFSETTO:+0100
TZNAME:BST
DTSTART:20220327T010000
END:DAYLIGHT
BEGIN:STANDARD
TZOFFSETFROM:+0100
TZOFFSETTO:+0000
TZNAME:GMT
DTSTART:20221030T010000
END:STANDARD
BEGIN:DAYLIGHT
TZOFFSETFROM:+0000
TZOFFSETTO:+0100
TZNAME:BST
DTSTART:20230326T010000
END:DAYLIGHT
BEGIN:STANDARD
TZOFFSETFROM:+0100
TZOFFSETTO:+0000
TZNAME:GMT
DTSTART:20231029T010000
END:STANDARD
END:VTIMEZONE
BEGIN:VEVENT
DTSTART;TZID=Europe/London:20221105T200000
DTEND;TZID=Europe/London:20221105T223000
DTSTAMP:20260423T233851
CREATED:20220614T132034Z
LAST-MODIFIED:20220614T132034Z
UID:6078-1667678400-1667687400@onechippenham.org.uk
SUMMARY:Genesis Visible Touch: Abacab @ 40 (+1) Tour
DESCRIPTION:Genesis Visible Touch are the ultimate Phil Collins-era Genesis show! \nIn 1981\, Genesis released their iconic and ground-breaking album “Abacab”. To celebrate the 40th (+1 metre!) anniversary\, GVT are touring in 2022 performing material from the album alongside hits like “Mama” and “Land Of Confusion”\, as well as some favourites and old classics for good measure! \n“The best exponents of Collins-fronted Genesis I’ve seen”\n(Nick Davis\, Genesis’ producer) \nA ‘must see’ show!”\n(Dave Hutchins\, Genesis’ engineer on The Lamb…)\, \nThis is a seated event. Please contact the venue for any access requirements.\nPlease note: Tickets are also available through our Box Office on 01249 446699\, or at the Town Hall. \nTickets are non-refundable unless this event is cancelled or postponed \nFor more information\, please see: https://www.chippenham.gov.uk/event/genesis-visible-touch-abacab-40-1-tour
URL:https://onechippenham.org.uk/event/genesis-visible-touch-abacab-40-1-tour/
LOCATION:Neeld Community & Arts Centre\, The Neeld\, High Street\, Chippenham\, Wiltshire\, SN15 3ER\, United Kingdom
CATEGORIES:Concert,Gig,Music,Performance
ATTACH;FMTTYPE=image/jpeg:https://onechippenham.org.uk/wp-content/uploads/2022/06/logo-band-abacab-at-40-825x440-003.jpg
END:VEVENT
END:VCALENDAR