BEGIN:VCALENDAR
VERSION:2.0
PRODID:-//One Chippenham - ECPv6.15.20//NONSGML v1.0//EN
CALSCALE:GREGORIAN
METHOD:PUBLISH
X-WR-CALNAME:One Chippenham
X-ORIGINAL-URL:https://onechippenham.org.uk
X-WR-CALDESC:Events for One Chippenham
REFRESH-INTERVAL;VALUE=DURATION:PT1H
X-Robots-Tag:noindex
X-PUBLISHED-TTL:PT1H
BEGIN:VTIMEZONE
TZID:Europe/London
BEGIN:DAYLIGHT
TZOFFSETFROM:+0000
TZOFFSETTO:+0100
TZNAME:BST
DTSTART:20210328T010000
END:DAYLIGHT
BEGIN:STANDARD
TZOFFSETFROM:+0100
TZOFFSETTO:+0000
TZNAME:GMT
DTSTART:20211031T010000
END:STANDARD
BEGIN:DAYLIGHT
TZOFFSETFROM:+0000
TZOFFSETTO:+0100
TZNAME:BST
DTSTART:20220327T010000
END:DAYLIGHT
BEGIN:STANDARD
TZOFFSETFROM:+0100
TZOFFSETTO:+0000
TZNAME:GMT
DTSTART:20221030T010000
END:STANDARD
BEGIN:DAYLIGHT
TZOFFSETFROM:+0000
TZOFFSETTO:+0100
TZNAME:BST
DTSTART:20230326T010000
END:DAYLIGHT
BEGIN:STANDARD
TZOFFSETFROM:+0100
TZOFFSETTO:+0000
TZNAME:GMT
DTSTART:20231029T010000
END:STANDARD
END:VTIMEZONE
BEGIN:VEVENT
DTSTART;TZID=Europe/London:20221015T193000
DTEND;TZID=Europe/London:20221015T210000
DTSTAMP:20260425T170903
CREATED:20220521T203042Z
LAST-MODIFIED:20220607T125819Z
UID:5742-1665862200-1665867600@onechippenham.org.uk
SUMMARY:The Tom Petty Legacy
DESCRIPTION:Experience Europe’s No. 1 tribute to Tom Petty and the Heartbreakers with classic songs\, plus their covers including The Travelling Wilburys\, Stevie Nicks\, The Byrds and Thunderclap Newman. \nTo book tickets\, please visit: https://thelittleboxoffice.com/neeld/book/event/156969
URL:https://onechippenham.org.uk/event/the-tom-petty-legacy/
LOCATION:The Neeld
CATEGORIES:Arts,Concert,Performance,Performing Arts
ATTACH;FMTTYPE=image/jpeg:https://onechippenham.org.uk/wp-content/uploads/2022/05/A3-Tom-Petty-poster-Neeld-scaled-1.jpg
END:VEVENT
END:VCALENDAR