BEGIN:VCALENDAR
VERSION:2.0
PRODID:-//One Chippenham - ECPv6.15.20//NONSGML v1.0//EN
CALSCALE:GREGORIAN
METHOD:PUBLISH
X-WR-CALNAME:One Chippenham
X-ORIGINAL-URL:https://onechippenham.org.uk
X-WR-CALDESC:Events for One Chippenham
REFRESH-INTERVAL;VALUE=DURATION:PT1H
X-Robots-Tag:noindex
X-PUBLISHED-TTL:PT1H
BEGIN:VTIMEZONE
TZID:Europe/London
BEGIN:DAYLIGHT
TZOFFSETFROM:+0000
TZOFFSETTO:+0100
TZNAME:BST
DTSTART:20250330T010000
END:DAYLIGHT
BEGIN:STANDARD
TZOFFSETFROM:+0100
TZOFFSETTO:+0000
TZNAME:GMT
DTSTART:20251026T010000
END:STANDARD
BEGIN:DAYLIGHT
TZOFFSETFROM:+0000
TZOFFSETTO:+0100
TZNAME:BST
DTSTART:20260329T010000
END:DAYLIGHT
BEGIN:STANDARD
TZOFFSETFROM:+0100
TZOFFSETTO:+0000
TZNAME:GMT
DTSTART:20261025T010000
END:STANDARD
BEGIN:DAYLIGHT
TZOFFSETFROM:+0000
TZOFFSETTO:+0100
TZNAME:BST
DTSTART:20270328T010000
END:DAYLIGHT
BEGIN:STANDARD
TZOFFSETFROM:+0100
TZOFFSETTO:+0000
TZNAME:GMT
DTSTART:20271031T010000
END:STANDARD
END:VTIMEZONE
BEGIN:VEVENT
DTSTART;TZID=Europe/London:20260119T120000
DTEND;TZID=Europe/London:20260119T130000
DTSTAMP:20260423T235553
CREATED:20251224T095939Z
LAST-MODIFIED:20251224T095939Z
UID:54644-1768824000-1768827600@onechippenham.org.uk
SUMMARY:Sparkly Lite singing group
DESCRIPTION:Sparkly Singers is the award-winning Wiltshire-based choir experience\, founded with the simple aim of bringing the joy and benefits of group singing to everyone\, regardless of age\, experience or ability.\nOur ‘lighter’ daytime sessions are perfect for anyone who just fancies popping out for an hour or so each week to meet new people and sing a selection of fabulous feel-good songs. No part-singing\, no practising\, no performing in public – just turn up each week and sing!\nSo if you love the idea of simply singing for the fun of it\, why not enquire about one of our FREE taster sessions and come and see what we’re all about.
URL:https://onechippenham.org.uk/event/sparkly-lite-singing-group-5/2026-01-19/
LOCATION:Pewsham Community Centre\, Lodge Road\, Chippenham\, SN5 3SY
CATEGORIES:Adults,Choir,Community,Music,Performing Arts,Singing
ATTACH;FMTTYPE=image/png:https://onechippenham.org.uk/wp-content/uploads/2025/12/Sparkly-Lite-sessions-for-One-Chippenham.png
ORGANIZER;CN="Sparkly Singers":MAILTO:hello@sparklysingers.co.uk
END:VEVENT
BEGIN:VEVENT
DTSTART;TZID=Europe/London:20260123T100000
DTEND;TZID=Europe/London:20260123T150000
DTSTAMP:20260423T235553
CREATED:20260105T113033Z
LAST-MODIFIED:20260105T113033Z
UID:54896-1769162400-1769180400@onechippenham.org.uk
SUMMARY:T. Baker & Co. Roadshow
DESCRIPTION:These events are for the public to bring along their items (old or new!) for our expert valuation team to evaluate. This is a free service that we offer. Of course\, we are always happy to purchase these items if you are looking to sell\, but this is entirely up to you! There is no obligation to do so. \nFind out more on our website: tbakerroadshow.co.uk \n 
URL:https://onechippenham.org.uk/event/t-baker-co-roadshow/
LOCATION:Pewsham Community Centre\, Lodge Road\, Chippenham\, SN5 3SY
CATEGORIES:Valuation Day
ATTACH;FMTTYPE=image/png:https://onechippenham.org.uk/wp-content/uploads/2026/01/T.Baker-Co.-Roadshow.png
END:VEVENT
BEGIN:VEVENT
DTSTART;TZID=Europe/London:20260125T130000
DTEND;TZID=Europe/London:20260125T140000
DTSTAMP:20260423T235553
CREATED:20260113T105308Z
LAST-MODIFIED:20260113T105308Z
UID:55016-1769346000-1769349600@onechippenham.org.uk
SUMMARY:Trainmaster Wiltshire: Play Trains
DESCRIPTION:We are stopping in Chippenham!\n\nCome play trains for an hour or two on the 25th January – we’d love to see you 🚂\nThere’s only limited spaces remaining now! \nIf you haven’t booked yet\, and want to come along\, you can secure your space here: www.trainmaster.co.uk/gloucestershire
URL:https://onechippenham.org.uk/event/trainmaster-wiltshire-play-trains/2026-01-25/
LOCATION:Pewsham Community Centre\, Lodge Road\, Chippenham\, SN5 3SY
ATTACH;FMTTYPE=image/jpeg:https://onechippenham.org.uk/wp-content/uploads/2026/01/IMG_3840.jpeg
END:VEVENT
END:VCALENDAR