BEGIN:VCALENDAR
VERSION:2.0
PRODID:-//One Chippenham - ECPv6.15.20//NONSGML v1.0//EN
CALSCALE:GREGORIAN
METHOD:PUBLISH
X-ORIGINAL-URL:https://onechippenham.org.uk
X-WR-CALDESC:Events for One Chippenham
REFRESH-INTERVAL;VALUE=DURATION:PT1H
X-Robots-Tag:noindex
X-PUBLISHED-TTL:PT1H
BEGIN:VTIMEZONE
TZID:Europe/London
BEGIN:DAYLIGHT
TZOFFSETFROM:+0000
TZOFFSETTO:+0100
TZNAME:BST
DTSTART:20210328T010000
END:DAYLIGHT
BEGIN:STANDARD
TZOFFSETFROM:+0100
TZOFFSETTO:+0000
TZNAME:GMT
DTSTART:20211031T010000
END:STANDARD
BEGIN:DAYLIGHT
TZOFFSETFROM:+0000
TZOFFSETTO:+0100
TZNAME:BST
DTSTART:20220327T010000
END:DAYLIGHT
BEGIN:STANDARD
TZOFFSETFROM:+0100
TZOFFSETTO:+0000
TZNAME:GMT
DTSTART:20221030T010000
END:STANDARD
BEGIN:DAYLIGHT
TZOFFSETFROM:+0000
TZOFFSETTO:+0100
TZNAME:BST
DTSTART:20230326T010000
END:DAYLIGHT
BEGIN:STANDARD
TZOFFSETFROM:+0100
TZOFFSETTO:+0000
TZNAME:GMT
DTSTART:20231029T010000
END:STANDARD
BEGIN:DAYLIGHT
TZOFFSETFROM:+0000
TZOFFSETTO:+0100
TZNAME:BST
DTSTART:20240331T010000
END:DAYLIGHT
BEGIN:STANDARD
TZOFFSETFROM:+0100
TZOFFSETTO:+0000
TZNAME:GMT
DTSTART:20241027T010000
END:STANDARD
BEGIN:DAYLIGHT
TZOFFSETFROM:+0000
TZOFFSETTO:+0100
TZNAME:BST
DTSTART:20250330T010000
END:DAYLIGHT
BEGIN:STANDARD
TZOFFSETFROM:+0100
TZOFFSETTO:+0000
TZNAME:GMT
DTSTART:20251026T010000
END:STANDARD
BEGIN:DAYLIGHT
TZOFFSETFROM:+0000
TZOFFSETTO:+0100
TZNAME:BST
DTSTART:20260329T010000
END:DAYLIGHT
BEGIN:STANDARD
TZOFFSETFROM:+0100
TZOFFSETTO:+0000
TZNAME:GMT
DTSTART:20261025T010000
END:STANDARD
END:VTIMEZONE
BEGIN:VEVENT
DTSTART;TZID=Europe/London:20251208T080000
DTEND;TZID=Europe/London:20251208T170000
DTSTAMP:20260424T132921
CREATED:20250623T085536Z
LAST-MODIFIED:20250623T085536Z
UID:43323-1765180800-1765213200@onechippenham.org.uk
SUMMARY:Chippenham Menopause Cuppa & Chat
DESCRIPTION:A quarterly menopause café at Bargammon’s Tavern\, right in the middle of Chippenham\, with easy on street parking nearby or within a short walk of public carparks. \nCome along to chat in a supportive and informative environment. I invite guest speakers to talk about related topics that we might find helpful in this very normal but sometimes tough transition time. \nAll ticket sales are donated to Olive Branch Counselling. \nRemaining 2025 dates: \n\n23rd June 7-9pm\n8th September 7-9pm\n8th December 7-9pm
URL:https://onechippenham.org.uk/event/chippenham-menopause-cuppa-chat-3/2025-12-08/
ATTACH;FMTTYPE=image/jpeg:https://onechippenham.org.uk/wp-content/uploads/2025/06/IMG_6488.jpeg
ORGANIZER;CN="Affinity Bodyworks":MAILTO:sarahjones@affinitybodyworks.co.uk
END:VEVENT
BEGIN:VEVENT
DTSTART;TZID=Europe/London:20250908T080000
DTEND;TZID=Europe/London:20250908T170000
DTSTAMP:20260424T132921
CREATED:20250623T085536Z
LAST-MODIFIED:20250623T085536Z
UID:43322-1757318400-1757350800@onechippenham.org.uk
SUMMARY:Chippenham Menopause Cuppa & Chat
DESCRIPTION:A quarterly menopause café at Bargammon’s Tavern\, right in the middle of Chippenham\, with easy on street parking nearby or within a short walk of public carparks. \nCome along to chat in a supportive and informative environment. I invite guest speakers to talk about related topics that we might find helpful in this very normal but sometimes tough transition time. \nAll ticket sales are donated to Olive Branch Counselling. \nRemaining 2025 dates: \n\n23rd June 7-9pm\n8th September 7-9pm\n8th December 7-9pm
URL:https://onechippenham.org.uk/event/chippenham-menopause-cuppa-chat-3/2025-09-08/
ATTACH;FMTTYPE=image/jpeg:https://onechippenham.org.uk/wp-content/uploads/2025/06/IMG_6488.jpeg
ORGANIZER;CN="Affinity Bodyworks":MAILTO:sarahjones@affinitybodyworks.co.uk
END:VEVENT
BEGIN:VEVENT
DTSTART;TZID=Europe/London:20250623T080000
DTEND;TZID=Europe/London:20250623T170000
DTSTAMP:20260424T132921
CREATED:20250623T085536Z
LAST-MODIFIED:20250623T085536Z
UID:43313-1750665600-1750698000@onechippenham.org.uk
SUMMARY:Chippenham Menopause Cuppa & Chat
DESCRIPTION:A quarterly menopause café at Bargammon’s Tavern\, right in the middle of Chippenham\, with easy on street parking nearby or within a short walk of public carparks. \nCome along to chat in a supportive and informative environment. I invite guest speakers to talk about related topics that we might find helpful in this very normal but sometimes tough transition time. \nAll ticket sales are donated to Olive Branch Counselling. \nRemaining 2025 dates: \n\n23rd June 7-9pm\n8th September 7-9pm\n8th December 7-9pm
URL:https://onechippenham.org.uk/event/chippenham-menopause-cuppa-chat-3/2025-06-23/
ATTACH;FMTTYPE=image/jpeg:https://onechippenham.org.uk/wp-content/uploads/2025/06/IMG_6488.jpeg
ORGANIZER;CN="Affinity Bodyworks":MAILTO:sarahjones@affinitybodyworks.co.uk
END:VEVENT
BEGIN:VEVENT
DTSTART;TZID=Europe/London:20240603T190000
DTEND;TZID=Europe/London:20240603T210000
DTSTAMP:20260424T132921
CREATED:20240424T215511Z
LAST-MODIFIED:20240424T215511Z
UID:29485-1717441200-1717448400@onechippenham.org.uk
SUMMARY:Chippenham Menopause Cuppa & Chat
DESCRIPTION:Welcome to the Chippenham Menopause Cuppa & Chat event! Join us at Inspire Fitness for a cozy gathering where we can share experiences\, tips\, and support each other through the menopause journey. This is a fantastic opportunity to connect with like-minded individuals in a relaxed setting. Grab a cuppa\, pull up a chair\, and let’s chat about all things menopause. Whether you’re seeking advice\, camaraderie\, or just a friendly chat\, this event is for you. Don’t miss out on this chance to bond with others who understand what you’re going through. We can’t wait to see you there! \nWe will be welcoming Tracey from Tracey Andresen Reflexology who will be going through some self help techniques. Tracey is based in Chippenham and provides wonderful reflexology treatments. As always there will be plenty of time for chat afterwards. \nDonations will all go to Fear Free charity.
URL:https://onechippenham.org.uk/event/chippenham-menopause-cuppa-chat-2/
LOCATION:Inspire Fitness\, 3a Union Street\, Chippenham\, Wiltshire\, SN15 1HW\, United Kingdom
CATEGORIES:Community,Health,Meeting,Support group,Wellbeing
ATTACH;FMTTYPE=image/jpeg:https://onechippenham.org.uk/wp-content/uploads/2024/04/Meno-cafe-cuppa-and-chat.jpg
ORGANIZER;CN="Affinity Bodyworks":MAILTO:sarahjones@affinitybodyworks.co.uk
END:VEVENT
BEGIN:VEVENT
DTSTART;TZID=Europe/London:20240304T190000
DTEND;TZID=Europe/London:20240304T210000
DTSTAMP:20260424T132921
CREATED:20240303T200808Z
LAST-MODIFIED:20240303T200808Z
UID:28056-1709578800-1709586000@onechippenham.org.uk
SUMMARY:Chippenham Menopause Cuppa & Chat
DESCRIPTION:A supportive group for guidance\, signposting and a good chat! Held at Inspire Fitness in Chippenham. Bring your own keep cup for a hot drink.
URL:https://onechippenham.org.uk/event/chippenham-menopause-cuppa-chat/
LOCATION:3A Union Road Chippenham SN15 1HW\, Inspire Fitness\, 3a Union Road\, Chippenham\, Wiltshire\, SN15 1HW\, United Kingdom
CATEGORIES:Support,Wellbeing
ATTACH;FMTTYPE=image/jpeg:https://onechippenham.org.uk/wp-content/uploads/2024/03/IMG_8865.jpeg
ORGANIZER;CN="Affinity Bodyworks":MAILTO:sarahjones@affinitybodyworks.co.uk
END:VEVENT
BEGIN:VEVENT
DTSTART;TZID=Europe/London:20220701T103000
DTEND;TZID=Europe/London:20220701T120000
DTSTAMP:20260424T132921
CREATED:20220630T132100Z
LAST-MODIFIED:20220630T132116Z
UID:6222-1656671400-1656676800@onechippenham.org.uk
SUMMARY:Self Help Wellbeing Coffee Morning
DESCRIPTION:Pop along to Grounded in Chippenham to learn self help techniques for headaches and migraines from Sarah Jones Soft Tissue Therapist and Tracey Andresen Reflexology. £15 per person with a drink included.\nEmail to book. Payment in advance required.
URL:https://onechippenham.org.uk/event/self-help-wellbeing-coffee-morning/
LOCATION:Cafe Grounded\, 1 Bath Rd\, Chippenham\, Wiltshire\, SN15 2BB\, United Kingdom
CATEGORIES:Wellbeing
ATTACH;FMTTYPE=image/jpeg:https://onechippenham.org.uk/wp-content/uploads/2022/06/9ED9C1F9-0847-4186-B719-434E42EA165D-scaled.jpeg
ORGANIZER;CN="Affinity Bodyworks":MAILTO:sarahjones@affinitybodyworks.co.uk
END:VEVENT
END:VCALENDAR