BEGIN:VCALENDAR
VERSION:2.0
PRODID:-//One Chippenham - ECPv6.15.20//NONSGML v1.0//EN
CALSCALE:GREGORIAN
METHOD:PUBLISH
X-ORIGINAL-URL:https://onechippenham.org.uk
X-WR-CALDESC:Events for One Chippenham
REFRESH-INTERVAL;VALUE=DURATION:PT1H
X-Robots-Tag:noindex
X-PUBLISHED-TTL:PT1H
BEGIN:VTIMEZONE
TZID:Europe/London
BEGIN:DAYLIGHT
TZOFFSETFROM:+0000
TZOFFSETTO:+0100
TZNAME:BST
DTSTART:20240331T010000
END:DAYLIGHT
BEGIN:STANDARD
TZOFFSETFROM:+0100
TZOFFSETTO:+0000
TZNAME:GMT
DTSTART:20241027T010000
END:STANDARD
BEGIN:DAYLIGHT
TZOFFSETFROM:+0000
TZOFFSETTO:+0100
TZNAME:BST
DTSTART:20250330T010000
END:DAYLIGHT
BEGIN:STANDARD
TZOFFSETFROM:+0100
TZOFFSETTO:+0000
TZNAME:GMT
DTSTART:20251026T010000
END:STANDARD
BEGIN:DAYLIGHT
TZOFFSETFROM:+0000
TZOFFSETTO:+0100
TZNAME:BST
DTSTART:20260329T010000
END:DAYLIGHT
BEGIN:STANDARD
TZOFFSETFROM:+0100
TZOFFSETTO:+0000
TZNAME:GMT
DTSTART:20261025T010000
END:STANDARD
END:VTIMEZONE
BEGIN:VEVENT
DTSTART;TZID=Europe/London:20251122T140000
DTEND;TZID=Europe/London:20251122T200000
DTSTAMP:20260425T222502
CREATED:20251013T111430Z
LAST-MODIFIED:20251013T111430Z
UID:51492-1763820000-1763841600@onechippenham.org.uk
SUMMARY:Christmas Cracker
DESCRIPTION:Join us for our Christmas Cracker to begin this season of merriment. \nThere will be beautiful stalls selling an array of gifts. Homemade cakes and Christmas\nTea to enjoy. Mulled wine and cocktails to get you into the Christmas spirit. \nYatton Keynell Village Hall is accessible for everyone and has onsite floodlit parking.\nBybrook Pre-School will have a Santa’s Grotto to raise funds. \nEveryone is welcome! 2pm-8pm on Saturday 22nd November 2025. Free entry. \nYatton Keynell Village Hall\nBiddestone Lane\nChippenham\nWiltshire\nSN14 7EJ
URL:https://onechippenham.org.uk/event/christmas-cracker/
LOCATION:Yatton Keynell Village Hall\, Biddestone Lane\, Chippenham\, Wiltshire\, SN14 7EJ\, United Kingdom
CATEGORIES:Christmas,Fairs & Fetes
ATTACH;FMTTYPE=image/jpeg:https://onechippenham.org.uk/wp-content/uploads/2025/10/Christmas-Cracker-Facebook-Post1.jpg
ORGANIZER;CN="Castle Combe Market":MAILTO:castlecombemarket@gmail.com
END:VEVENT
END:VCALENDAR