BEGIN:VCALENDAR
VERSION:2.0
PRODID:-//One Chippenham - ECPv6.15.20//NONSGML v1.0//EN
CALSCALE:GREGORIAN
METHOD:PUBLISH
X-ORIGINAL-URL:https://onechippenham.org.uk
X-WR-CALDESC:Events for One Chippenham
REFRESH-INTERVAL;VALUE=DURATION:PT1H
X-Robots-Tag:noindex
X-PUBLISHED-TTL:PT1H
BEGIN:VTIMEZONE
TZID:Europe/London
BEGIN:DAYLIGHT
TZOFFSETFROM:+0000
TZOFFSETTO:+0100
TZNAME:BST
DTSTART:20240331T010000
END:DAYLIGHT
BEGIN:STANDARD
TZOFFSETFROM:+0100
TZOFFSETTO:+0000
TZNAME:GMT
DTSTART:20241027T010000
END:STANDARD
BEGIN:DAYLIGHT
TZOFFSETFROM:+0000
TZOFFSETTO:+0100
TZNAME:BST
DTSTART:20250330T010000
END:DAYLIGHT
BEGIN:STANDARD
TZOFFSETFROM:+0100
TZOFFSETTO:+0000
TZNAME:GMT
DTSTART:20251026T010000
END:STANDARD
BEGIN:DAYLIGHT
TZOFFSETFROM:+0000
TZOFFSETTO:+0100
TZNAME:BST
DTSTART:20260329T010000
END:DAYLIGHT
BEGIN:STANDARD
TZOFFSETFROM:+0100
TZOFFSETTO:+0000
TZNAME:GMT
DTSTART:20261025T010000
END:STANDARD
END:VTIMEZONE
BEGIN:VEVENT
DTSTART;TZID=Europe/London:20251212T193000
DTEND;TZID=Europe/London:20251212T213000
DTSTAMP:20260423T163942
CREATED:20251122T071935Z
LAST-MODIFIED:20251122T071935Z
UID:53134-1765567800-1765575000@onechippenham.org.uk
SUMMARY:Christmas Spectacular
DESCRIPTION:Chippenham & Swindon Show Choirs invite you to join them for some serious festive fun on Friday 12th December\, for a Show Choir Christmas Spectacular. \nThese two wonderful choirs will be serving up a sumptuous setlist of show tunes\, with a few seasonal pieces to get you well and truly in the Christmas spirit. \nSupport will come from the fabulous Kettle of Fish. \nTickets: £12/£8 concession
URL:https://onechippenham.org.uk/event/christmas-spectacular/
LOCATION:Neeld Community & Arts Centre\, The Neeld\, High Street\, Chippenham\, Wiltshire\, SN15 3ER\, United Kingdom
CATEGORIES:Christmas
ATTACH;FMTTYPE=image/jpeg:https://onechippenham.org.uk/wp-content/uploads/2025/11/CHIPPENHAM.jpeg
ORGANIZER;CN="Chippenham Show Choir":MAILTO:mail@ukshowchoir.com
END:VEVENT
BEGIN:VEVENT
DTSTART;TZID=Europe/London:20251202T193000
DTEND;TZID=Europe/London:20251202T210000
DTSTAMP:20260423T163942
CREATED:20250905T095956Z
LAST-MODIFIED:20250905T095956Z
UID:46433-1764703800-1764709200@onechippenham.org.uk
SUMMARY:Chippenham Show Choir
DESCRIPTION:Singing songs from smash hit West End musicals as well as lesser-known off-Broadway gems\, all in a cappella\, Chippenham Show Choir is fast-paced\, exciting and seriously good fun! With no auditions\, and regular performances come and try out Chippenham Show Choir – your first session is completely FREE!
URL:https://onechippenham.org.uk/event/chippenham-show-choir/2025-12-02/
LOCATION:King Alfred Hall\, Market Place\, Chippenham\, SN15 3HT
CATEGORIES:Adults,Choir,Community,Music,Performing Arts,Singing
ATTACH;FMTTYPE=image/jpeg:https://onechippenham.org.uk/wp-content/uploads/2025/09/Show-Choir-scaled.jpg
ORGANIZER;CN="Chippenham Show Choir":MAILTO:mail@ukshowchoir.com
END:VEVENT
BEGIN:VEVENT
DTSTART;TZID=Europe/London:20251125T193000
DTEND;TZID=Europe/London:20251125T210000
DTSTAMP:20260423T163942
CREATED:20250918T094706Z
LAST-MODIFIED:20250918T094706Z
UID:48637-1764099000-1764104400@onechippenham.org.uk
SUMMARY:Chippenham Show Choir Autumn Term!
DESCRIPTION:⭐ Hot off our second SOLD OUT run at Edinburgh Fringe\, Show Choir’s Chippenham branch is accepting new members for our Autumn term \nWe’d particularly LOVE more deep voices (tenor / bass) regardless of gender! \n♥️ No Auditions\, everyone welcome!\n🍻 Regular socials\, events and performances\n✨ First session completely FREE \n📆 Tuesdays 7:30-9pm\n📍King Alfred Hall in Chippenham town centre. \n⭐ Sign up at https://www.ukshowchoir.com/join-us to book a FREE trial session!
URL:https://onechippenham.org.uk/event/chippenham-show-choir-autumn-term/2025-11-25/
LOCATION:King Alfred Hall\, Market Place\, Chippenham\, SN15 3HT
CATEGORIES:Choir,Community,Music,Singing
ATTACH;FMTTYPE=image/jpeg:https://onechippenham.org.uk/wp-content/uploads/2025/09/inbound5901542685781838333.jpg
ORGANIZER;CN="Chippenham Show Choir":MAILTO:mail@ukshowchoir.com
END:VEVENT
BEGIN:VEVENT
DTSTART;TZID=Europe/London:20251125T193000
DTEND;TZID=Europe/London:20251125T210000
DTSTAMP:20260423T163942
CREATED:20250905T095952Z
LAST-MODIFIED:20250905T095952Z
UID:46423-1764099000-1764104400@onechippenham.org.uk
SUMMARY:Chippenham Show Choir
DESCRIPTION:Singing songs from smash hit West End musicals as well as lesser-known off-Broadway gems\, all in a cappella\, Chippenham Show Choir is fast-paced\, exciting and seriously good fun! With no auditions\, and regular performances come and try out Chippenham Show Choir – your first session is completely FREE!
URL:https://onechippenham.org.uk/event/chippenham-show-choir/2025-11-25/
LOCATION:King Alfred Hall\, Market Place\, Chippenham\, SN15 3HT
CATEGORIES:Adults,Choir,Community,Music,Performing Arts,Singing
ATTACH;FMTTYPE=image/jpeg:https://onechippenham.org.uk/wp-content/uploads/2025/09/Show-Choir-scaled.jpg
ORGANIZER;CN="Chippenham Show Choir":MAILTO:mail@ukshowchoir.com
END:VEVENT
BEGIN:VEVENT
DTSTART;TZID=Europe/London:20251118T193000
DTEND;TZID=Europe/London:20251118T210000
DTSTAMP:20260423T163942
CREATED:20250918T094705Z
LAST-MODIFIED:20250918T094705Z
UID:48636-1763494200-1763499600@onechippenham.org.uk
SUMMARY:Chippenham Show Choir Autumn Term!
DESCRIPTION:⭐ Hot off our second SOLD OUT run at Edinburgh Fringe\, Show Choir’s Chippenham branch is accepting new members for our Autumn term \nWe’d particularly LOVE more deep voices (tenor / bass) regardless of gender! \n♥️ No Auditions\, everyone welcome!\n🍻 Regular socials\, events and performances\n✨ First session completely FREE \n📆 Tuesdays 7:30-9pm\n📍King Alfred Hall in Chippenham town centre. \n⭐ Sign up at https://www.ukshowchoir.com/join-us to book a FREE trial session!
URL:https://onechippenham.org.uk/event/chippenham-show-choir-autumn-term/2025-11-18/
LOCATION:King Alfred Hall\, Market Place\, Chippenham\, SN15 3HT
CATEGORIES:Choir,Community,Music,Singing
ATTACH;FMTTYPE=image/jpeg:https://onechippenham.org.uk/wp-content/uploads/2025/09/inbound5901542685781838333.jpg
ORGANIZER;CN="Chippenham Show Choir":MAILTO:mail@ukshowchoir.com
END:VEVENT
BEGIN:VEVENT
DTSTART;TZID=Europe/London:20251118T193000
DTEND;TZID=Europe/London:20251118T210000
DTSTAMP:20260423T163942
CREATED:20250905T095951Z
LAST-MODIFIED:20250905T095951Z
UID:46422-1763494200-1763499600@onechippenham.org.uk
SUMMARY:Chippenham Show Choir
DESCRIPTION:Singing songs from smash hit West End musicals as well as lesser-known off-Broadway gems\, all in a cappella\, Chippenham Show Choir is fast-paced\, exciting and seriously good fun! With no auditions\, and regular performances come and try out Chippenham Show Choir – your first session is completely FREE!
URL:https://onechippenham.org.uk/event/chippenham-show-choir/2025-11-18/
LOCATION:King Alfred Hall\, Market Place\, Chippenham\, SN15 3HT
CATEGORIES:Adults,Choir,Community,Music,Performing Arts,Singing
ATTACH;FMTTYPE=image/jpeg:https://onechippenham.org.uk/wp-content/uploads/2025/09/Show-Choir-scaled.jpg
ORGANIZER;CN="Chippenham Show Choir":MAILTO:mail@ukshowchoir.com
END:VEVENT
BEGIN:VEVENT
DTSTART;TZID=Europe/London:20251115T193000
DTEND;TZID=Europe/London:20251115T213000
DTSTAMP:20260423T163942
CREATED:20251112T101246Z
LAST-MODIFIED:20251112T101246Z
UID:52735-1763235000-1763242200@onechippenham.org.uk
SUMMARY:Three Choirs\, One Cause at St. Andrew's Church
DESCRIPTION:Join three of Chippenham’s choirs for a night of songs from The West End\, Broadway\, and all over the world as over 100 voices come together to raise vital funds for WellBoring! \nFeaturing: \n🌟Lingmara: World Music Choir\n🌟Chippenham Show Choir\n🌟The Cause Community Choir \nSaturday 15th November\n7:30 p.m\nSt. Andrews Church \nTickets £10\nAvailable at the door from 7pm\, online at bit.ly/476nLzc or from The Neeld (Town Hall) \nYour ticket will help provide clean water for one child – together\, we can help save the lives of thousands
URL:https://onechippenham.org.uk/event/three-choirs-one-cause-at-st-andrews-church/
LOCATION:St Andrew’s Church\, St Mary’s Street\, Chippenham\, SN15 3JN\, United Kingdom
CATEGORIES:Charity,Choir,Community,Family Friendly,Indoor,Music,Performance,Performing Arts
ATTACH;FMTTYPE=image/jpeg:https://onechippenham.org.uk/wp-content/uploads/2025/11/IMG_20251112_095135.jpg
ORGANIZER;CN="The Cause Music and Arts":MAILTO:fred@thecausevenue.com
END:VEVENT
BEGIN:VEVENT
DTSTART;TZID=Europe/London:20251111T193000
DTEND;TZID=Europe/London:20251111T210000
DTSTAMP:20260423T163942
CREATED:20250918T094704Z
LAST-MODIFIED:20250918T094704Z
UID:48635-1762889400-1762894800@onechippenham.org.uk
SUMMARY:Chippenham Show Choir Autumn Term!
DESCRIPTION:⭐ Hot off our second SOLD OUT run at Edinburgh Fringe\, Show Choir’s Chippenham branch is accepting new members for our Autumn term \nWe’d particularly LOVE more deep voices (tenor / bass) regardless of gender! \n♥️ No Auditions\, everyone welcome!\n🍻 Regular socials\, events and performances\n✨ First session completely FREE \n📆 Tuesdays 7:30-9pm\n📍King Alfred Hall in Chippenham town centre. \n⭐ Sign up at https://www.ukshowchoir.com/join-us to book a FREE trial session!
URL:https://onechippenham.org.uk/event/chippenham-show-choir-autumn-term/2025-11-11/
LOCATION:King Alfred Hall\, Market Place\, Chippenham\, SN15 3HT
CATEGORIES:Choir,Community,Music,Singing
ATTACH;FMTTYPE=image/jpeg:https://onechippenham.org.uk/wp-content/uploads/2025/09/inbound5901542685781838333.jpg
ORGANIZER;CN="Chippenham Show Choir":MAILTO:mail@ukshowchoir.com
END:VEVENT
BEGIN:VEVENT
DTSTART;TZID=Europe/London:20251111T193000
DTEND;TZID=Europe/London:20251111T210000
DTSTAMP:20260423T163942
CREATED:20250905T095950Z
LAST-MODIFIED:20250905T095950Z
UID:46421-1762889400-1762894800@onechippenham.org.uk
SUMMARY:Chippenham Show Choir
DESCRIPTION:Singing songs from smash hit West End musicals as well as lesser-known off-Broadway gems\, all in a cappella\, Chippenham Show Choir is fast-paced\, exciting and seriously good fun! With no auditions\, and regular performances come and try out Chippenham Show Choir – your first session is completely FREE!
URL:https://onechippenham.org.uk/event/chippenham-show-choir/2025-11-11/
LOCATION:King Alfred Hall\, Market Place\, Chippenham\, SN15 3HT
CATEGORIES:Adults,Choir,Community,Music,Performing Arts,Singing
ATTACH;FMTTYPE=image/jpeg:https://onechippenham.org.uk/wp-content/uploads/2025/09/Show-Choir-scaled.jpg
ORGANIZER;CN="Chippenham Show Choir":MAILTO:mail@ukshowchoir.com
END:VEVENT
BEGIN:VEVENT
DTSTART;TZID=Europe/London:20251104T193000
DTEND;TZID=Europe/London:20251104T210000
DTSTAMP:20260423T163942
CREATED:20250918T094704Z
LAST-MODIFIED:20250918T094704Z
UID:48634-1762284600-1762290000@onechippenham.org.uk
SUMMARY:Chippenham Show Choir Autumn Term!
DESCRIPTION:⭐ Hot off our second SOLD OUT run at Edinburgh Fringe\, Show Choir’s Chippenham branch is accepting new members for our Autumn term \nWe’d particularly LOVE more deep voices (tenor / bass) regardless of gender! \n♥️ No Auditions\, everyone welcome!\n🍻 Regular socials\, events and performances\n✨ First session completely FREE \n📆 Tuesdays 7:30-9pm\n📍King Alfred Hall in Chippenham town centre. \n⭐ Sign up at https://www.ukshowchoir.com/join-us to book a FREE trial session!
URL:https://onechippenham.org.uk/event/chippenham-show-choir-autumn-term/2025-11-04/
LOCATION:King Alfred Hall\, Market Place\, Chippenham\, SN15 3HT
CATEGORIES:Choir,Community,Music,Singing
ATTACH;FMTTYPE=image/jpeg:https://onechippenham.org.uk/wp-content/uploads/2025/09/inbound5901542685781838333.jpg
ORGANIZER;CN="Chippenham Show Choir":MAILTO:mail@ukshowchoir.com
END:VEVENT
BEGIN:VEVENT
DTSTART;TZID=Europe/London:20251104T193000
DTEND;TZID=Europe/London:20251104T210000
DTSTAMP:20260423T163942
CREATED:20250905T095949Z
LAST-MODIFIED:20250905T095949Z
UID:46420-1762284600-1762290000@onechippenham.org.uk
SUMMARY:Chippenham Show Choir
DESCRIPTION:Singing songs from smash hit West End musicals as well as lesser-known off-Broadway gems\, all in a cappella\, Chippenham Show Choir is fast-paced\, exciting and seriously good fun! With no auditions\, and regular performances come and try out Chippenham Show Choir – your first session is completely FREE!
URL:https://onechippenham.org.uk/event/chippenham-show-choir/2025-11-04/
LOCATION:King Alfred Hall\, Market Place\, Chippenham\, SN15 3HT
CATEGORIES:Adults,Choir,Community,Music,Performing Arts,Singing
ATTACH;FMTTYPE=image/jpeg:https://onechippenham.org.uk/wp-content/uploads/2025/09/Show-Choir-scaled.jpg
ORGANIZER;CN="Chippenham Show Choir":MAILTO:mail@ukshowchoir.com
END:VEVENT
BEGIN:VEVENT
DTSTART;TZID=Europe/London:20251028T193000
DTEND;TZID=Europe/London:20251028T210000
DTSTAMP:20260423T163942
CREATED:20250918T094703Z
LAST-MODIFIED:20250918T094703Z
UID:48633-1761679800-1761685200@onechippenham.org.uk
SUMMARY:Chippenham Show Choir Autumn Term!
DESCRIPTION:⭐ Hot off our second SOLD OUT run at Edinburgh Fringe\, Show Choir’s Chippenham branch is accepting new members for our Autumn term \nWe’d particularly LOVE more deep voices (tenor / bass) regardless of gender! \n♥️ No Auditions\, everyone welcome!\n🍻 Regular socials\, events and performances\n✨ First session completely FREE \n📆 Tuesdays 7:30-9pm\n📍King Alfred Hall in Chippenham town centre. \n⭐ Sign up at https://www.ukshowchoir.com/join-us to book a FREE trial session!
URL:https://onechippenham.org.uk/event/chippenham-show-choir-autumn-term/2025-10-28/
LOCATION:King Alfred Hall\, Market Place\, Chippenham\, SN15 3HT
CATEGORIES:Choir,Community,Music,Singing
ATTACH;FMTTYPE=image/jpeg:https://onechippenham.org.uk/wp-content/uploads/2025/09/inbound5901542685781838333.jpg
ORGANIZER;CN="Chippenham Show Choir":MAILTO:mail@ukshowchoir.com
END:VEVENT
BEGIN:VEVENT
DTSTART;TZID=Europe/London:20251028T193000
DTEND;TZID=Europe/London:20251028T210000
DTSTAMP:20260423T163942
CREATED:20250905T095947Z
LAST-MODIFIED:20250905T095947Z
UID:46419-1761679800-1761685200@onechippenham.org.uk
SUMMARY:Chippenham Show Choir
DESCRIPTION:Singing songs from smash hit West End musicals as well as lesser-known off-Broadway gems\, all in a cappella\, Chippenham Show Choir is fast-paced\, exciting and seriously good fun! With no auditions\, and regular performances come and try out Chippenham Show Choir – your first session is completely FREE!
URL:https://onechippenham.org.uk/event/chippenham-show-choir/2025-10-28/
LOCATION:King Alfred Hall\, Market Place\, Chippenham\, SN15 3HT
CATEGORIES:Adults,Choir,Community,Music,Performing Arts,Singing
ATTACH;FMTTYPE=image/jpeg:https://onechippenham.org.uk/wp-content/uploads/2025/09/Show-Choir-scaled.jpg
ORGANIZER;CN="Chippenham Show Choir":MAILTO:mail@ukshowchoir.com
END:VEVENT
BEGIN:VEVENT
DTSTART;TZID=Europe/London:20251021T193000
DTEND;TZID=Europe/London:20251021T210000
DTSTAMP:20260423T163942
CREATED:20250918T094702Z
LAST-MODIFIED:20250918T094702Z
UID:48632-1761075000-1761080400@onechippenham.org.uk
SUMMARY:Chippenham Show Choir Autumn Term!
DESCRIPTION:⭐ Hot off our second SOLD OUT run at Edinburgh Fringe\, Show Choir’s Chippenham branch is accepting new members for our Autumn term \nWe’d particularly LOVE more deep voices (tenor / bass) regardless of gender! \n♥️ No Auditions\, everyone welcome!\n🍻 Regular socials\, events and performances\n✨ First session completely FREE \n📆 Tuesdays 7:30-9pm\n📍King Alfred Hall in Chippenham town centre. \n⭐ Sign up at https://www.ukshowchoir.com/join-us to book a FREE trial session!
URL:https://onechippenham.org.uk/event/chippenham-show-choir-autumn-term/2025-10-21/
LOCATION:King Alfred Hall\, Market Place\, Chippenham\, SN15 3HT
CATEGORIES:Choir,Community,Music,Singing
ATTACH;FMTTYPE=image/jpeg:https://onechippenham.org.uk/wp-content/uploads/2025/09/inbound5901542685781838333.jpg
ORGANIZER;CN="Chippenham Show Choir":MAILTO:mail@ukshowchoir.com
END:VEVENT
BEGIN:VEVENT
DTSTART;TZID=Europe/London:20251021T193000
DTEND;TZID=Europe/London:20251021T210000
DTSTAMP:20260423T163942
CREATED:20250905T095946Z
LAST-MODIFIED:20250905T095946Z
UID:46418-1761075000-1761080400@onechippenham.org.uk
SUMMARY:Chippenham Show Choir
DESCRIPTION:Singing songs from smash hit West End musicals as well as lesser-known off-Broadway gems\, all in a cappella\, Chippenham Show Choir is fast-paced\, exciting and seriously good fun! With no auditions\, and regular performances come and try out Chippenham Show Choir – your first session is completely FREE!
URL:https://onechippenham.org.uk/event/chippenham-show-choir/2025-10-21/
LOCATION:King Alfred Hall\, Market Place\, Chippenham\, SN15 3HT
CATEGORIES:Adults,Choir,Community,Music,Performing Arts,Singing
ATTACH;FMTTYPE=image/jpeg:https://onechippenham.org.uk/wp-content/uploads/2025/09/Show-Choir-scaled.jpg
ORGANIZER;CN="Chippenham Show Choir":MAILTO:mail@ukshowchoir.com
END:VEVENT
BEGIN:VEVENT
DTSTART;TZID=Europe/London:20251014T193000
DTEND;TZID=Europe/London:20251014T210000
DTSTAMP:20260423T163942
CREATED:20250918T094701Z
LAST-MODIFIED:20250918T094701Z
UID:48631-1760470200-1760475600@onechippenham.org.uk
SUMMARY:Chippenham Show Choir Autumn Term!
DESCRIPTION:⭐ Hot off our second SOLD OUT run at Edinburgh Fringe\, Show Choir’s Chippenham branch is accepting new members for our Autumn term \nWe’d particularly LOVE more deep voices (tenor / bass) regardless of gender! \n♥️ No Auditions\, everyone welcome!\n🍻 Regular socials\, events and performances\n✨ First session completely FREE \n📆 Tuesdays 7:30-9pm\n📍King Alfred Hall in Chippenham town centre. \n⭐ Sign up at https://www.ukshowchoir.com/join-us to book a FREE trial session!
URL:https://onechippenham.org.uk/event/chippenham-show-choir-autumn-term/2025-10-14/
LOCATION:King Alfred Hall\, Market Place\, Chippenham\, SN15 3HT
CATEGORIES:Choir,Community,Music,Singing
ATTACH;FMTTYPE=image/jpeg:https://onechippenham.org.uk/wp-content/uploads/2025/09/inbound5901542685781838333.jpg
ORGANIZER;CN="Chippenham Show Choir":MAILTO:mail@ukshowchoir.com
END:VEVENT
BEGIN:VEVENT
DTSTART;TZID=Europe/London:20251014T193000
DTEND;TZID=Europe/London:20251014T210000
DTSTAMP:20260423T163942
CREATED:20250905T095944Z
LAST-MODIFIED:20250905T095944Z
UID:46417-1760470200-1760475600@onechippenham.org.uk
SUMMARY:Chippenham Show Choir
DESCRIPTION:Singing songs from smash hit West End musicals as well as lesser-known off-Broadway gems\, all in a cappella\, Chippenham Show Choir is fast-paced\, exciting and seriously good fun! With no auditions\, and regular performances come and try out Chippenham Show Choir – your first session is completely FREE!
URL:https://onechippenham.org.uk/event/chippenham-show-choir/2025-10-14/
LOCATION:King Alfred Hall\, Market Place\, Chippenham\, SN15 3HT
CATEGORIES:Adults,Choir,Community,Music,Performing Arts,Singing
ATTACH;FMTTYPE=image/jpeg:https://onechippenham.org.uk/wp-content/uploads/2025/09/Show-Choir-scaled.jpg
ORGANIZER;CN="Chippenham Show Choir":MAILTO:mail@ukshowchoir.com
END:VEVENT
BEGIN:VEVENT
DTSTART;TZID=Europe/London:20251007T193000
DTEND;TZID=Europe/London:20251007T210000
DTSTAMP:20260423T163942
CREATED:20250918T094701Z
LAST-MODIFIED:20250918T094701Z
UID:48630-1759865400-1759870800@onechippenham.org.uk
SUMMARY:Chippenham Show Choir Autumn Term!
DESCRIPTION:⭐ Hot off our second SOLD OUT run at Edinburgh Fringe\, Show Choir’s Chippenham branch is accepting new members for our Autumn term \nWe’d particularly LOVE more deep voices (tenor / bass) regardless of gender! \n♥️ No Auditions\, everyone welcome!\n🍻 Regular socials\, events and performances\n✨ First session completely FREE \n📆 Tuesdays 7:30-9pm\n📍King Alfred Hall in Chippenham town centre. \n⭐ Sign up at https://www.ukshowchoir.com/join-us to book a FREE trial session!
URL:https://onechippenham.org.uk/event/chippenham-show-choir-autumn-term/2025-10-07/
LOCATION:King Alfred Hall\, Market Place\, Chippenham\, SN15 3HT
CATEGORIES:Choir,Community,Music,Singing
ATTACH;FMTTYPE=image/jpeg:https://onechippenham.org.uk/wp-content/uploads/2025/09/inbound5901542685781838333.jpg
ORGANIZER;CN="Chippenham Show Choir":MAILTO:mail@ukshowchoir.com
END:VEVENT
BEGIN:VEVENT
DTSTART;TZID=Europe/London:20251007T193000
DTEND;TZID=Europe/London:20251007T210000
DTSTAMP:20260423T163942
CREATED:20250905T095943Z
LAST-MODIFIED:20250905T095943Z
UID:46416-1759865400-1759870800@onechippenham.org.uk
SUMMARY:Chippenham Show Choir
DESCRIPTION:Singing songs from smash hit West End musicals as well as lesser-known off-Broadway gems\, all in a cappella\, Chippenham Show Choir is fast-paced\, exciting and seriously good fun! With no auditions\, and regular performances come and try out Chippenham Show Choir – your first session is completely FREE!
URL:https://onechippenham.org.uk/event/chippenham-show-choir/2025-10-07/
LOCATION:King Alfred Hall\, Market Place\, Chippenham\, SN15 3HT
CATEGORIES:Adults,Choir,Community,Music,Performing Arts,Singing
ATTACH;FMTTYPE=image/jpeg:https://onechippenham.org.uk/wp-content/uploads/2025/09/Show-Choir-scaled.jpg
ORGANIZER;CN="Chippenham Show Choir":MAILTO:mail@ukshowchoir.com
END:VEVENT
BEGIN:VEVENT
DTSTART;TZID=Europe/London:20250930T193000
DTEND;TZID=Europe/London:20250930T210000
DTSTAMP:20260423T163942
CREATED:20250918T094700Z
LAST-MODIFIED:20250918T094700Z
UID:48629-1759260600-1759266000@onechippenham.org.uk
SUMMARY:Chippenham Show Choir Autumn Term!
DESCRIPTION:⭐ Hot off our second SOLD OUT run at Edinburgh Fringe\, Show Choir’s Chippenham branch is accepting new members for our Autumn term \nWe’d particularly LOVE more deep voices (tenor / bass) regardless of gender! \n♥️ No Auditions\, everyone welcome!\n🍻 Regular socials\, events and performances\n✨ First session completely FREE \n📆 Tuesdays 7:30-9pm\n📍King Alfred Hall in Chippenham town centre. \n⭐ Sign up at https://www.ukshowchoir.com/join-us to book a FREE trial session!
URL:https://onechippenham.org.uk/event/chippenham-show-choir-autumn-term/2025-09-30/
LOCATION:King Alfred Hall\, Market Place\, Chippenham\, SN15 3HT
CATEGORIES:Choir,Community,Music,Singing
ATTACH;FMTTYPE=image/jpeg:https://onechippenham.org.uk/wp-content/uploads/2025/09/inbound5901542685781838333.jpg
ORGANIZER;CN="Chippenham Show Choir":MAILTO:mail@ukshowchoir.com
END:VEVENT
BEGIN:VEVENT
DTSTART;TZID=Europe/London:20250930T193000
DTEND;TZID=Europe/London:20250930T210000
DTSTAMP:20260423T163942
CREATED:20250905T095941Z
LAST-MODIFIED:20250905T095941Z
UID:46415-1759260600-1759266000@onechippenham.org.uk
SUMMARY:Chippenham Show Choir
DESCRIPTION:Singing songs from smash hit West End musicals as well as lesser-known off-Broadway gems\, all in a cappella\, Chippenham Show Choir is fast-paced\, exciting and seriously good fun! With no auditions\, and regular performances come and try out Chippenham Show Choir – your first session is completely FREE!
URL:https://onechippenham.org.uk/event/chippenham-show-choir/2025-09-30/
LOCATION:King Alfred Hall\, Market Place\, Chippenham\, SN15 3HT
CATEGORIES:Adults,Choir,Community,Music,Performing Arts,Singing
ATTACH;FMTTYPE=image/jpeg:https://onechippenham.org.uk/wp-content/uploads/2025/09/Show-Choir-scaled.jpg
ORGANIZER;CN="Chippenham Show Choir":MAILTO:mail@ukshowchoir.com
END:VEVENT
BEGIN:VEVENT
DTSTART;TZID=Europe/London:20250923T193000
DTEND;TZID=Europe/London:20250923T210000
DTSTAMP:20260423T163942
CREATED:20250918T094659Z
LAST-MODIFIED:20250918T094659Z
UID:48622-1758655800-1758661200@onechippenham.org.uk
SUMMARY:Chippenham Show Choir Autumn Term!
DESCRIPTION:⭐ Hot off our second SOLD OUT run at Edinburgh Fringe\, Show Choir’s Chippenham branch is accepting new members for our Autumn term \nWe’d particularly LOVE more deep voices (tenor / bass) regardless of gender! \n♥️ No Auditions\, everyone welcome!\n🍻 Regular socials\, events and performances\n✨ First session completely FREE \n📆 Tuesdays 7:30-9pm\n📍King Alfred Hall in Chippenham town centre. \n⭐ Sign up at https://www.ukshowchoir.com/join-us to book a FREE trial session!
URL:https://onechippenham.org.uk/event/chippenham-show-choir-autumn-term/2025-09-23/
LOCATION:King Alfred Hall\, Market Place\, Chippenham\, SN15 3HT
CATEGORIES:Choir,Community,Music,Singing
ATTACH;FMTTYPE=image/jpeg:https://onechippenham.org.uk/wp-content/uploads/2025/09/inbound5901542685781838333.jpg
ORGANIZER;CN="Chippenham Show Choir":MAILTO:mail@ukshowchoir.com
END:VEVENT
BEGIN:VEVENT
DTSTART;TZID=Europe/London:20250923T193000
DTEND;TZID=Europe/London:20250923T210000
DTSTAMP:20260423T163942
CREATED:20250905T095940Z
LAST-MODIFIED:20250905T095940Z
UID:46414-1758655800-1758661200@onechippenham.org.uk
SUMMARY:Chippenham Show Choir
DESCRIPTION:Singing songs from smash hit West End musicals as well as lesser-known off-Broadway gems\, all in a cappella\, Chippenham Show Choir is fast-paced\, exciting and seriously good fun! With no auditions\, and regular performances come and try out Chippenham Show Choir – your first session is completely FREE!
URL:https://onechippenham.org.uk/event/chippenham-show-choir/2025-09-23/
LOCATION:King Alfred Hall\, Market Place\, Chippenham\, SN15 3HT
CATEGORIES:Adults,Choir,Community,Music,Performing Arts,Singing
ATTACH;FMTTYPE=image/jpeg:https://onechippenham.org.uk/wp-content/uploads/2025/09/Show-Choir-scaled.jpg
ORGANIZER;CN="Chippenham Show Choir":MAILTO:mail@ukshowchoir.com
END:VEVENT
BEGIN:VEVENT
DTSTART;TZID=Europe/London:20250916T193000
DTEND;TZID=Europe/London:20250916T210000
DTSTAMP:20260423T163942
CREATED:20250905T095939Z
LAST-MODIFIED:20250905T095939Z
UID:46302-1758051000-1758056400@onechippenham.org.uk
SUMMARY:Chippenham Show Choir
DESCRIPTION:Singing songs from smash hit West End musicals as well as lesser-known off-Broadway gems\, all in a cappella\, Chippenham Show Choir is fast-paced\, exciting and seriously good fun! With no auditions\, and regular performances come and try out Chippenham Show Choir – your first session is completely FREE!
URL:https://onechippenham.org.uk/event/chippenham-show-choir/2025-09-16/
LOCATION:King Alfred Hall\, Market Place\, Chippenham\, SN15 3HT
CATEGORIES:Adults,Choir,Community,Music,Performing Arts,Singing
ATTACH;FMTTYPE=image/jpeg:https://onechippenham.org.uk/wp-content/uploads/2025/09/Show-Choir-scaled.jpg
ORGANIZER;CN="Chippenham Show Choir":MAILTO:mail@ukshowchoir.com
END:VEVENT
END:VCALENDAR