BEGIN:VCALENDAR
VERSION:2.0
PRODID:-//One Chippenham - ECPv6.15.20//NONSGML v1.0//EN
CALSCALE:GREGORIAN
METHOD:PUBLISH
X-WR-CALNAME:One Chippenham
X-ORIGINAL-URL:https://onechippenham.org.uk
X-WR-CALDESC:Events for One Chippenham
REFRESH-INTERVAL;VALUE=DURATION:PT1H
X-Robots-Tag:noindex
X-PUBLISHED-TTL:PT1H
BEGIN:VTIMEZONE
TZID:Europe/London
BEGIN:DAYLIGHT
TZOFFSETFROM:+0000
TZOFFSETTO:+0100
TZNAME:BST
DTSTART:20240331T010000
END:DAYLIGHT
BEGIN:STANDARD
TZOFFSETFROM:+0100
TZOFFSETTO:+0000
TZNAME:GMT
DTSTART:20241027T010000
END:STANDARD
BEGIN:DAYLIGHT
TZOFFSETFROM:+0000
TZOFFSETTO:+0100
TZNAME:BST
DTSTART:20250330T010000
END:DAYLIGHT
BEGIN:STANDARD
TZOFFSETFROM:+0100
TZOFFSETTO:+0000
TZNAME:GMT
DTSTART:20251026T010000
END:STANDARD
BEGIN:DAYLIGHT
TZOFFSETFROM:+0000
TZOFFSETTO:+0100
TZNAME:BST
DTSTART:20260329T010000
END:DAYLIGHT
BEGIN:STANDARD
TZOFFSETFROM:+0100
TZOFFSETTO:+0000
TZNAME:GMT
DTSTART:20261025T010000
END:STANDARD
END:VTIMEZONE
BEGIN:VEVENT
DTSTART;TZID=Europe/London:20251211T163000
DTEND;TZID=Europe/London:20251211T190000
DTSTAMP:20260423T125923
CREATED:20251125T204306Z
LAST-MODIFIED:20251125T205502Z
UID:53469-1765470600-1765479600@onechippenham.org.uk
SUMMARY:Christmas Fundraiser
DESCRIPTION:Chippenham Youth Theatre are hosting a fundraiser for our upcoming show\, The Wizard Of Oz. We will have stalls of many varieties\, refreshments\, performances\, meet and greets with some of our favourite characters. Santa and much more.
URL:https://onechippenham.org.uk/event/christmas-fundraiser/
LOCATION:Sheldon Road Methodist Church\, Audley Road\, Chippenham\, Wiltshire\, SN14 0DU\, United Kingdom
CATEGORIES:Christmas
ATTACH;FMTTYPE=image/png:https://onechippenham.org.uk/wp-content/uploads/2025/11/Chippenham-Youth-Theatre.png
END:VEVENT
END:VCALENDAR