BEGIN:VCALENDAR
VERSION:2.0
PRODID:-//One Chippenham - ECPv6.15.20//NONSGML v1.0//EN
CALSCALE:GREGORIAN
METHOD:PUBLISH
X-WR-CALNAME:One Chippenham
X-ORIGINAL-URL:https://onechippenham.org.uk
X-WR-CALDESC:Events for One Chippenham
REFRESH-INTERVAL;VALUE=DURATION:PT1H
X-Robots-Tag:noindex
X-PUBLISHED-TTL:PT1H
BEGIN:VTIMEZONE
TZID:Europe/London
BEGIN:DAYLIGHT
TZOFFSETFROM:+0000
TZOFFSETTO:+0100
TZNAME:BST
DTSTART:20230326T010000
END:DAYLIGHT
BEGIN:STANDARD
TZOFFSETFROM:+0100
TZOFFSETTO:+0000
TZNAME:GMT
DTSTART:20231029T010000
END:STANDARD
BEGIN:DAYLIGHT
TZOFFSETFROM:+0000
TZOFFSETTO:+0100
TZNAME:BST
DTSTART:20240331T010000
END:DAYLIGHT
BEGIN:STANDARD
TZOFFSETFROM:+0100
TZOFFSETTO:+0000
TZNAME:GMT
DTSTART:20241027T010000
END:STANDARD
BEGIN:DAYLIGHT
TZOFFSETFROM:+0000
TZOFFSETTO:+0100
TZNAME:BST
DTSTART:20250330T010000
END:DAYLIGHT
BEGIN:STANDARD
TZOFFSETFROM:+0100
TZOFFSETTO:+0000
TZNAME:GMT
DTSTART:20251026T010000
END:STANDARD
BEGIN:DAYLIGHT
TZOFFSETFROM:+0000
TZOFFSETTO:+0100
TZNAME:BST
DTSTART:20260329T010000
END:DAYLIGHT
BEGIN:STANDARD
TZOFFSETFROM:+0100
TZOFFSETTO:+0000
TZNAME:GMT
DTSTART:20261025T010000
END:STANDARD
END:VTIMEZONE
BEGIN:VEVENT
DTSTART;TZID=Europe/London:20250529T123000
DTEND;TZID=Europe/London:20250529T123000
DTSTAMP:20260424T151038
CREATED:20250430T143322Z
LAST-MODIFIED:20250430T143322Z
UID:40922-1748521800-1748521800@onechippenham.org.uk
SUMMARY:ESOL for Wellbeing
DESCRIPTION:This welcoming and supportive course is specially designed for ESOL learners who want to take their English communication skills to the next level\, while exploring important themes around health and wellbeing. \nFollowing on from our ESOL Beginners course\, ESOL for Wellbeing is ideal for learners who already have a good grasp of English—those who can express themselves\, take part in conversations\, and understand most of what’s being said. This course offers the perfect opportunity to build confidence\, improve fluency\, and develop stronger communication across listening\, speaking\, reading\, and writing. \nAs part of the course\, learners will also get the chance to explore their local area\, helping to build not just language skills but community connections and local knowledge. \nWelcome Meeting\nAll new learners must attend our welcome meeting on Thursday 29 May at 12.30pm. During this session\, we’ll assess language needs\, complete the necessary paperwork\, and confirm a place on the course where appropriate. \nHow to Apply\nInterested learners can get a head start by completing the application form online here.
URL:https://onechippenham.org.uk/event/esol-for-wellbeing/
LOCATION:Chippenham Community Hub\, 1 Gladstone Parade\, Timber Street\, Chippenham\, SN15 3BS
CATEGORIES:Course,Wellbeing,Workshop
ATTACH;FMTTYPE=image/jpeg:https://onechippenham.org.uk/wp-content/uploads/2025/04/FaCL-ESOL-For-Wellbeing-Chippenham-June-2025.jpg
ORGANIZER;CN="Family and Community Learning":MAILTO:familyandcommunitylearning@wiltshire.gov.uk
END:VEVENT
BEGIN:VEVENT
DTSTART;TZID=Europe/London:20250213T123000
DTEND;TZID=Europe/London:20250213T123000
DTSTAMP:20260424T151038
CREATED:20241218T125921Z
LAST-MODIFIED:20241218T125921Z
UID:36863-1739449800-1739449800@onechippenham.org.uk
SUMMARY:Wellbeing
DESCRIPTION:This course is like a warm hug: five lovely sessions that will give participants a lift. The course reminds us how important it is to look after our wellbeing and shares some simple steps to boost mood and resilience. \nNew learners will need to attend the welcome session on Thursday 9 January 12.30 and the course starts on Thursday 16 January 12.30pm – 2.30pm\, running weekly for five weeks. \nContact familyandcommunitylearning@wiltshire.gov.uk\, call the FaCL team on 01225 770478 or visit https://workwiltshire.co.uk/family-and-community-learning/. \nPhone or complete a booking form here Enrolment – Work Wiltshire.
URL:https://onechippenham.org.uk/event/wellbeing/2025-02-13/
LOCATION:Chippenham Community Hub\, 1 Gladstone Parade\, Timber Street\, Chippenham\, SN15 3BS
ATTACH;FMTTYPE=image/jpeg:https://onechippenham.org.uk/wp-content/uploads/2024/12/FaCL-Wellbeing-Chippenham-Hub-January-2025.jpg
ORGANIZER;CN="Family and Community Learning":MAILTO:familyandcommunitylearning@wiltshire.gov.uk
END:VEVENT
BEGIN:VEVENT
DTSTART;TZID=Europe/London:20250206T123000
DTEND;TZID=Europe/London:20250206T123000
DTSTAMP:20260424T151038
CREATED:20241218T125921Z
LAST-MODIFIED:20241218T125921Z
UID:36862-1738845000-1738845000@onechippenham.org.uk
SUMMARY:Wellbeing
DESCRIPTION:This course is like a warm hug: five lovely sessions that will give participants a lift. The course reminds us how important it is to look after our wellbeing and shares some simple steps to boost mood and resilience. \nNew learners will need to attend the welcome session on Thursday 9 January 12.30 and the course starts on Thursday 16 January 12.30pm – 2.30pm\, running weekly for five weeks. \nContact familyandcommunitylearning@wiltshire.gov.uk\, call the FaCL team on 01225 770478 or visit https://workwiltshire.co.uk/family-and-community-learning/. \nPhone or complete a booking form here Enrolment – Work Wiltshire.
URL:https://onechippenham.org.uk/event/wellbeing/2025-02-06/
LOCATION:Chippenham Community Hub\, 1 Gladstone Parade\, Timber Street\, Chippenham\, SN15 3BS
ATTACH;FMTTYPE=image/jpeg:https://onechippenham.org.uk/wp-content/uploads/2024/12/FaCL-Wellbeing-Chippenham-Hub-January-2025.jpg
ORGANIZER;CN="Family and Community Learning":MAILTO:familyandcommunitylearning@wiltshire.gov.uk
END:VEVENT
BEGIN:VEVENT
DTSTART;TZID=Europe/London:20250130T123000
DTEND;TZID=Europe/London:20250130T123000
DTSTAMP:20260424T151038
CREATED:20241218T125921Z
LAST-MODIFIED:20241218T125921Z
UID:36861-1738240200-1738240200@onechippenham.org.uk
SUMMARY:Wellbeing
DESCRIPTION:This course is like a warm hug: five lovely sessions that will give participants a lift. The course reminds us how important it is to look after our wellbeing and shares some simple steps to boost mood and resilience. \nNew learners will need to attend the welcome session on Thursday 9 January 12.30 and the course starts on Thursday 16 January 12.30pm – 2.30pm\, running weekly for five weeks. \nContact familyandcommunitylearning@wiltshire.gov.uk\, call the FaCL team on 01225 770478 or visit https://workwiltshire.co.uk/family-and-community-learning/. \nPhone or complete a booking form here Enrolment – Work Wiltshire.
URL:https://onechippenham.org.uk/event/wellbeing/2025-01-30/
LOCATION:Chippenham Community Hub\, 1 Gladstone Parade\, Timber Street\, Chippenham\, SN15 3BS
ATTACH;FMTTYPE=image/jpeg:https://onechippenham.org.uk/wp-content/uploads/2024/12/FaCL-Wellbeing-Chippenham-Hub-January-2025.jpg
ORGANIZER;CN="Family and Community Learning":MAILTO:familyandcommunitylearning@wiltshire.gov.uk
END:VEVENT
BEGIN:VEVENT
DTSTART;TZID=Europe/London:20250123T123000
DTEND;TZID=Europe/London:20250123T123000
DTSTAMP:20260424T151038
CREATED:20241218T125921Z
LAST-MODIFIED:20241218T125921Z
UID:36860-1737635400-1737635400@onechippenham.org.uk
SUMMARY:Wellbeing
DESCRIPTION:This course is like a warm hug: five lovely sessions that will give participants a lift. The course reminds us how important it is to look after our wellbeing and shares some simple steps to boost mood and resilience. \nNew learners will need to attend the welcome session on Thursday 9 January 12.30 and the course starts on Thursday 16 January 12.30pm – 2.30pm\, running weekly for five weeks. \nContact familyandcommunitylearning@wiltshire.gov.uk\, call the FaCL team on 01225 770478 or visit https://workwiltshire.co.uk/family-and-community-learning/. \nPhone or complete a booking form here Enrolment – Work Wiltshire.
URL:https://onechippenham.org.uk/event/wellbeing/2025-01-23/
LOCATION:Chippenham Community Hub\, 1 Gladstone Parade\, Timber Street\, Chippenham\, SN15 3BS
ATTACH;FMTTYPE=image/jpeg:https://onechippenham.org.uk/wp-content/uploads/2024/12/FaCL-Wellbeing-Chippenham-Hub-January-2025.jpg
ORGANIZER;CN="Family and Community Learning":MAILTO:familyandcommunitylearning@wiltshire.gov.uk
END:VEVENT
BEGIN:VEVENT
DTSTART;TZID=Europe/London:20250116T123000
DTEND;TZID=Europe/London:20250116T123000
DTSTAMP:20260424T151038
CREATED:20241218T125921Z
LAST-MODIFIED:20241218T125921Z
UID:36858-1737030600-1737030600@onechippenham.org.uk
SUMMARY:Wellbeing
DESCRIPTION:This course is like a warm hug: five lovely sessions that will give participants a lift. The course reminds us how important it is to look after our wellbeing and shares some simple steps to boost mood and resilience. \nNew learners will need to attend the welcome session on Thursday 9 January 12.30 and the course starts on Thursday 16 January 12.30pm – 2.30pm\, running weekly for five weeks. \nContact familyandcommunitylearning@wiltshire.gov.uk\, call the FaCL team on 01225 770478 or visit https://workwiltshire.co.uk/family-and-community-learning/. \nPhone or complete a booking form here Enrolment – Work Wiltshire.
URL:https://onechippenham.org.uk/event/wellbeing/2025-01-16/
LOCATION:Chippenham Community Hub\, 1 Gladstone Parade\, Timber Street\, Chippenham\, SN15 3BS
ATTACH;FMTTYPE=image/jpeg:https://onechippenham.org.uk/wp-content/uploads/2024/12/FaCL-Wellbeing-Chippenham-Hub-January-2025.jpg
ORGANIZER;CN="Family and Community Learning":MAILTO:familyandcommunitylearning@wiltshire.gov.uk
END:VEVENT
BEGIN:VEVENT
DTSTART;TZID=Europe/London:20241212T130000
DTEND;TZID=Europe/London:20241212T150000
DTSTAMP:20260424T151038
CREATED:20241119T105135Z
LAST-MODIFIED:20241119T105135Z
UID:36192-1734008400-1734015600@onechippenham.org.uk
SUMMARY:Exploring Celebrations Around the World
DESCRIPTION:Book in person at Doorway\, call the FaCL team on 01225 770478 or sign up here. \n  \n 
URL:https://onechippenham.org.uk/event/exploring-celebrations-around-the-world/
LOCATION:Doorway\, The Citadel\, Bath Road\, Chippenham\, Doorway\, The Citadel\, Bath Road\, Chippenham\, SN15 2AB
CATEGORIES:Christmas,Community,Course
ATTACH;FMTTYPE=image/jpeg:https://onechippenham.org.uk/wp-content/uploads/2024/11/Doorway-Exploring-Celebrations-Around-the-World-December-2024.jpg
ORGANIZER;CN="Family and Community Learning":MAILTO:familyandcommunitylearning@wiltshire.gov.uk
END:VEVENT
BEGIN:VEVENT
DTSTART;TZID=Europe/London:20241022T133000
DTEND;TZID=Europe/London:20241022T153000
DTSTAMP:20260424T151038
CREATED:20240930T114954Z
LAST-MODIFIED:20240930T114954Z
UID:34217-1729603800-1729611000@onechippenham.org.uk
SUMMARY:Exploring Confidence in Communication
DESCRIPTION:Booking essential via one of the following routes: – \n\nIn person at Doorway\nCall the FaCL team on 01225 phone\nBook online Enrolment – Work Wiltshire\n\nPlease note booking closes one week before the start of each course. \n 
URL:https://onechippenham.org.uk/event/exploring-confidence-in-communication/
LOCATION:Doorway\, The Citadel\, Bath Road\, Chippenham\, Doorway\, The Citadel\, Bath Road\, Chippenham\, SN15 2AB
CATEGORIES:Adults,Course,Support
ATTACH;FMTTYPE=image/jpeg:https://onechippenham.org.uk/wp-content/uploads/2024/09/Doorway-Exploring-Confidence-in-Communication-October-2024.jpg
ORGANIZER;CN="Family and Community Learning":MAILTO:familyandcommunitylearning@wiltshire.gov.uk
END:VEVENT
BEGIN:VEVENT
DTSTART;TZID=Europe/London:20241015T133000
DTEND;TZID=Europe/London:20241015T153000
DTSTAMP:20260424T151038
CREATED:20240930T115423Z
LAST-MODIFIED:20240930T115453Z
UID:34219-1728999000-1729006200@onechippenham.org.uk
SUMMARY:Exploring Positive Emotions
DESCRIPTION:Booking essential via one of the following routes: – \n\nIn person at Doorway\nCall the FaCL team on 01225 770478\nBook online Enrolment – Work Wiltshire\n\nPlease note booking closes one week before the start of each course. \n 
URL:https://onechippenham.org.uk/event/exploring-positive-emotions/
LOCATION:Doorway\, The Citadel\, Bath Road\, Chippenham\, Doorway\, The Citadel\, Bath Road\, Chippenham\, SN15 2AB
CATEGORIES:Adults,Community,Course,Support
ATTACH;FMTTYPE=image/jpeg:https://onechippenham.org.uk/wp-content/uploads/2024/09/Doorway-Exploring-Positive-Emotions-October-2024.jpg
ORGANIZER;CN="Family and Community Learning":MAILTO:familyandcommunitylearning@wiltshire.gov.uk
END:VEVENT
BEGIN:VEVENT
DTSTART;TZID=Europe/London:20241003T123000
DTEND;TZID=Europe/London:20241003T143000
DTSTAMP:20260424T151038
CREATED:20240930T113711Z
LAST-MODIFIED:20240930T113711Z
UID:34210-1727958600-1727965800@onechippenham.org.uk
SUMMARY:Discovering Confidence
DESCRIPTION:Family and Community Learning are at the Chippenham Community Hub on Thursday 3rd October running Discovering Confidence. This single session course is a boost of inspiration and self esteem. We will be in the Hub’s lovely new space on the corner of Gladstone Road and Timber Street in Chippenham. \nPlease complete an enrolment form to book a space\, by phone [01225 770478] or online at Enrolment – Work Wiltshire.
URL:https://onechippenham.org.uk/event/discovering-confidence-2/
LOCATION:Chippenham Community Hub
CATEGORIES:Adults,Community,Course,Support
ATTACH;FMTTYPE=image/jpeg:https://onechippenham.org.uk/wp-content/uploads/2024/09/FACL-Discovering-Confidence-Chippenham-October-2024.jpg
ORGANIZER;CN="Family and Community Learning":MAILTO:familyandcommunitylearning@wiltshire.gov.uk
END:VEVENT
BEGIN:VEVENT
DTSTART;TZID=Europe/London:20240625T100000
DTEND;TZID=Europe/London:20240625T120000
DTSTAMP:20260424T151038
CREATED:20240521T133205Z
LAST-MODIFIED:20240521T133205Z
UID:30517-1719309600-1719316800@onechippenham.org.uk
SUMMARY:Trio of Free Confidence and Wellbeing Courses at Chippenham Community Hub
DESCRIPTION:Free Family and Community Learning courses at Chippenham Community Hub. Take little steps today for a happier tomorrow. \nExploring Positive Emotions  – Tuesday 11 June 10am – 12pm\nExplore Feelings. Manage negative emotions. Focus on the positive things in life. \nExploring Confidence in Communication – Tuesday 18 June 10am – 12pm\nFeel more confident talking about your needs and sharing feelings. \nExploring My Skills – Tuesday 25 June 10am – 12pm\nKnow your strengths and skills to choose goals and plan for the future. \nBooking closes one week before the course and eligibility criteria apply. Contact familyandcommunitylearning@wiltshire.gov.uk or call the team on 01225 770478 \n 
URL:https://onechippenham.org.uk/event/trio-of-free-confidence-and-wellbeing-courses-at-chippenham-community-hub/2024-06-25/
LOCATION:Chippenham Community Hub
CATEGORIES:Adults,Class,Community,Course,Support
ATTACH;FMTTYPE=image/png:https://onechippenham.org.uk/wp-content/uploads/2024/05/Exploring-courses.png
ORGANIZER;CN="Family and Community Learning":MAILTO:familyandcommunitylearning@wiltshire.gov.uk
END:VEVENT
BEGIN:VEVENT
DTSTART;TZID=Europe/London:20240618T100000
DTEND;TZID=Europe/London:20240618T120000
DTSTAMP:20260424T151038
CREATED:20240521T133204Z
LAST-MODIFIED:20240521T133204Z
UID:30516-1718704800-1718712000@onechippenham.org.uk
SUMMARY:Trio of Free Confidence and Wellbeing Courses at Chippenham Community Hub
DESCRIPTION:Free Family and Community Learning courses at Chippenham Community Hub. Take little steps today for a happier tomorrow. \nExploring Positive Emotions  – Tuesday 11 June 10am – 12pm\nExplore Feelings. Manage negative emotions. Focus on the positive things in life. \nExploring Confidence in Communication – Tuesday 18 June 10am – 12pm\nFeel more confident talking about your needs and sharing feelings. \nExploring My Skills – Tuesday 25 June 10am – 12pm\nKnow your strengths and skills to choose goals and plan for the future. \nBooking closes one week before the course and eligibility criteria apply. Contact familyandcommunitylearning@wiltshire.gov.uk or call the team on 01225 770478 \n 
URL:https://onechippenham.org.uk/event/trio-of-free-confidence-and-wellbeing-courses-at-chippenham-community-hub/2024-06-18/
LOCATION:Chippenham Community Hub
CATEGORIES:Adults,Class,Community,Course,Support
ATTACH;FMTTYPE=image/png:https://onechippenham.org.uk/wp-content/uploads/2024/05/Exploring-courses.png
ORGANIZER;CN="Family and Community Learning":MAILTO:familyandcommunitylearning@wiltshire.gov.uk
END:VEVENT
BEGIN:VEVENT
DTSTART;TZID=Europe/London:20240611T100000
DTEND;TZID=Europe/London:20240611T120000
DTSTAMP:20260424T151038
CREATED:20240521T133203Z
LAST-MODIFIED:20240521T133203Z
UID:30514-1718100000-1718107200@onechippenham.org.uk
SUMMARY:Trio of Free Confidence and Wellbeing Courses at Chippenham Community Hub
DESCRIPTION:Free Family and Community Learning courses at Chippenham Community Hub. Take little steps today for a happier tomorrow. \nExploring Positive Emotions  – Tuesday 11 June 10am – 12pm\nExplore Feelings. Manage negative emotions. Focus on the positive things in life. \nExploring Confidence in Communication – Tuesday 18 June 10am – 12pm\nFeel more confident talking about your needs and sharing feelings. \nExploring My Skills – Tuesday 25 June 10am – 12pm\nKnow your strengths and skills to choose goals and plan for the future. \nBooking closes one week before the course and eligibility criteria apply. Contact familyandcommunitylearning@wiltshire.gov.uk or call the team on 01225 770478 \n 
URL:https://onechippenham.org.uk/event/trio-of-free-confidence-and-wellbeing-courses-at-chippenham-community-hub/2024-06-11/
LOCATION:Chippenham Community Hub
CATEGORIES:Adults,Class,Community,Course,Support
ATTACH;FMTTYPE=image/png:https://onechippenham.org.uk/wp-content/uploads/2024/05/Exploring-courses.png
ORGANIZER;CN="Family and Community Learning":MAILTO:familyandcommunitylearning@wiltshire.gov.uk
END:VEVENT
END:VCALENDAR