BEGIN:VCALENDAR
VERSION:2.0
PRODID:-//One Chippenham - ECPv6.15.20//NONSGML v1.0//EN
CALSCALE:GREGORIAN
METHOD:PUBLISH
X-WR-CALNAME:One Chippenham
X-ORIGINAL-URL:https://onechippenham.org.uk
X-WR-CALDESC:Events for One Chippenham
REFRESH-INTERVAL;VALUE=DURATION:PT1H
X-Robots-Tag:noindex
X-PUBLISHED-TTL:PT1H
BEGIN:VTIMEZONE
TZID:Europe/London
BEGIN:DAYLIGHT
TZOFFSETFROM:+0000
TZOFFSETTO:+0100
TZNAME:BST
DTSTART:20240331T010000
END:DAYLIGHT
BEGIN:STANDARD
TZOFFSETFROM:+0100
TZOFFSETTO:+0000
TZNAME:GMT
DTSTART:20241027T010000
END:STANDARD
BEGIN:DAYLIGHT
TZOFFSETFROM:+0000
TZOFFSETTO:+0100
TZNAME:BST
DTSTART:20250330T010000
END:DAYLIGHT
BEGIN:STANDARD
TZOFFSETFROM:+0100
TZOFFSETTO:+0000
TZNAME:GMT
DTSTART:20251026T010000
END:STANDARD
BEGIN:DAYLIGHT
TZOFFSETFROM:+0000
TZOFFSETTO:+0100
TZNAME:BST
DTSTART:20260329T010000
END:DAYLIGHT
BEGIN:STANDARD
TZOFFSETFROM:+0100
TZOFFSETTO:+0000
TZNAME:GMT
DTSTART:20261025T010000
END:STANDARD
END:VTIMEZONE
BEGIN:VEVENT
DTSTART;TZID=Europe/London:20251219T100000
DTEND;TZID=Europe/London:20251219T120000
DTSTAMP:20260425T151542
CREATED:20251015T084353Z
LAST-MODIFIED:20251015T084353Z
UID:51560-1766138400-1766145600@onechippenham.org.uk
SUMMARY:Friendly Faces
DESCRIPTION:Friendly Faces is a community group and provides a welcoming space for young people and adults with additional needs. \nWe meet every 3rd Friday of the month at Station Hill Baptist Church and every 1st Friday of the month we have a social gathering & dog walk meeting at Rivo Lounge. \nWe welcome you along to our friendly & inclusive community café. We offer refreshments\, games\, crafts or just a listening ear. \nWe aim to build and strengthen relationships\, social confidence and wellbeing. \nCarers/parents & support dogs welcome! We kindly ask for £1 donation. \nOur next Friendly Meetings… \n@Station Hill\n21st November\n19th December \n@Rivo Lounge\n7th November\n5th December
URL:https://onechippenham.org.uk/event/friendly-faces-2/2025-12-19/
CATEGORIES:Community,Support
ATTACH;FMTTYPE=image/jpeg:https://onechippenham.org.uk/wp-content/uploads/2025/10/IMG_0392.jpeg
END:VEVENT
BEGIN:VEVENT
DTSTART;TZID=Europe/London:20251205T100000
DTEND;TZID=Europe/London:20251205T120000
DTSTAMP:20260425T151542
CREATED:20251015T084349Z
LAST-MODIFIED:20251015T084349Z
UID:51559-1764928800-1764936000@onechippenham.org.uk
SUMMARY:Friendly Faces
DESCRIPTION:Friendly Faces is a community group and provides a welcoming space for young people and adults with additional needs. \nWe meet every 3rd Friday of the month at Station Hill Baptist Church and every 1st Friday of the month we have a social gathering & dog walk meeting at Rivo Lounge. \nWe welcome you along to our friendly & inclusive community café. We offer refreshments\, games\, crafts or just a listening ear. \nWe aim to build and strengthen relationships\, social confidence and wellbeing. \nCarers/parents & support dogs welcome! We kindly ask for £1 donation. \nOur next Friendly Meetings… \n@Station Hill\n21st November\n19th December \n@Rivo Lounge\n7th November\n5th December
URL:https://onechippenham.org.uk/event/friendly-faces-2/2025-12-05/
CATEGORIES:Community,Support
ATTACH;FMTTYPE=image/jpeg:https://onechippenham.org.uk/wp-content/uploads/2025/10/IMG_0392.jpeg
END:VEVENT
BEGIN:VEVENT
DTSTART;TZID=Europe/London:20251121T100000
DTEND;TZID=Europe/London:20251121T120000
DTSTAMP:20260425T151542
CREATED:20251015T084347Z
LAST-MODIFIED:20251015T084347Z
UID:51558-1763719200-1763726400@onechippenham.org.uk
SUMMARY:Friendly Faces
DESCRIPTION:Friendly Faces is a community group and provides a welcoming space for young people and adults with additional needs. \nWe meet every 3rd Friday of the month at Station Hill Baptist Church and every 1st Friday of the month we have a social gathering & dog walk meeting at Rivo Lounge. \nWe welcome you along to our friendly & inclusive community café. We offer refreshments\, games\, crafts or just a listening ear. \nWe aim to build and strengthen relationships\, social confidence and wellbeing. \nCarers/parents & support dogs welcome! We kindly ask for £1 donation. \nOur next Friendly Meetings… \n@Station Hill\n21st November\n19th December \n@Rivo Lounge\n7th November\n5th December
URL:https://onechippenham.org.uk/event/friendly-faces-2/2025-11-21/
CATEGORIES:Community,Support
ATTACH;FMTTYPE=image/jpeg:https://onechippenham.org.uk/wp-content/uploads/2025/10/IMG_0392.jpeg
END:VEVENT
BEGIN:VEVENT
DTSTART;TZID=Europe/London:20251107T100000
DTEND;TZID=Europe/London:20251107T120000
DTSTAMP:20260425T151542
CREATED:20251015T084346Z
LAST-MODIFIED:20251015T084346Z
UID:51557-1762509600-1762516800@onechippenham.org.uk
SUMMARY:Friendly Faces
DESCRIPTION:Friendly Faces is a community group and provides a welcoming space for young people and adults with additional needs. \nWe meet every 3rd Friday of the month at Station Hill Baptist Church and every 1st Friday of the month we have a social gathering & dog walk meeting at Rivo Lounge. \nWe welcome you along to our friendly & inclusive community café. We offer refreshments\, games\, crafts or just a listening ear. \nWe aim to build and strengthen relationships\, social confidence and wellbeing. \nCarers/parents & support dogs welcome! We kindly ask for £1 donation. \nOur next Friendly Meetings… \n@Station Hill\n21st November\n19th December \n@Rivo Lounge\n7th November\n5th December
URL:https://onechippenham.org.uk/event/friendly-faces-2/2025-11-07/
CATEGORIES:Community,Support
ATTACH;FMTTYPE=image/jpeg:https://onechippenham.org.uk/wp-content/uploads/2025/10/IMG_0392.jpeg
END:VEVENT
BEGIN:VEVENT
DTSTART;TZID=Europe/London:20251017T100000
DTEND;TZID=Europe/London:20251017T120000
DTSTAMP:20260425T151542
CREATED:20251015T084345Z
LAST-MODIFIED:20251015T084345Z
UID:51553-1760695200-1760702400@onechippenham.org.uk
SUMMARY:Friendly Faces
DESCRIPTION:Friendly Faces is a community group and provides a welcoming space for young people and adults with additional needs. \nWe meet every 3rd Friday of the month at Station Hill Baptist Church and every 1st Friday of the month we have a social gathering & dog walk meeting at Rivo Lounge. \nWe welcome you along to our friendly & inclusive community café. We offer refreshments\, games\, crafts or just a listening ear. \nWe aim to build and strengthen relationships\, social confidence and wellbeing. \nCarers/parents & support dogs welcome! We kindly ask for £1 donation. \nOur next Friendly Meetings… \n@Station Hill\n21st November\n19th December \n@Rivo Lounge\n7th November\n5th December
URL:https://onechippenham.org.uk/event/friendly-faces-2/2025-10-17/
CATEGORIES:Community,Support
ATTACH;FMTTYPE=image/jpeg:https://onechippenham.org.uk/wp-content/uploads/2025/10/IMG_0392.jpeg
END:VEVENT
END:VCALENDAR