BEGIN:VCALENDAR
VERSION:2.0
PRODID:-//One Chippenham - ECPv6.15.20//NONSGML v1.0//EN
CALSCALE:GREGORIAN
METHOD:PUBLISH
X-WR-CALNAME:One Chippenham
X-ORIGINAL-URL:https://onechippenham.org.uk
X-WR-CALDESC:Events for One Chippenham
REFRESH-INTERVAL;VALUE=DURATION:PT1H
X-Robots-Tag:noindex
X-PUBLISHED-TTL:PT1H
BEGIN:VTIMEZONE
TZID:Europe/London
BEGIN:DAYLIGHT
TZOFFSETFROM:+0000
TZOFFSETTO:+0100
TZNAME:BST
DTSTART:20230326T010000
END:DAYLIGHT
BEGIN:STANDARD
TZOFFSETFROM:+0100
TZOFFSETTO:+0000
TZNAME:GMT
DTSTART:20231029T010000
END:STANDARD
BEGIN:DAYLIGHT
TZOFFSETFROM:+0000
TZOFFSETTO:+0100
TZNAME:BST
DTSTART:20240331T010000
END:DAYLIGHT
BEGIN:STANDARD
TZOFFSETFROM:+0100
TZOFFSETTO:+0000
TZNAME:GMT
DTSTART:20241027T010000
END:STANDARD
BEGIN:DAYLIGHT
TZOFFSETFROM:+0000
TZOFFSETTO:+0100
TZNAME:BST
DTSTART:20250330T010000
END:DAYLIGHT
BEGIN:STANDARD
TZOFFSETFROM:+0100
TZOFFSETTO:+0000
TZNAME:GMT
DTSTART:20251026T010000
END:STANDARD
BEGIN:DAYLIGHT
TZOFFSETFROM:+0000
TZOFFSETTO:+0100
TZNAME:BST
DTSTART:20260329T010000
END:DAYLIGHT
BEGIN:STANDARD
TZOFFSETFROM:+0100
TZOFFSETTO:+0000
TZNAME:GMT
DTSTART:20261025T010000
END:STANDARD
END:VTIMEZONE
BEGIN:VEVENT
DTSTART;TZID=Europe/London:20250912T190000
DTEND;TZID=Europe/London:20250912T210000
DTSTAMP:20260424T115607
CREATED:20250723T134724Z
LAST-MODIFIED:20250723T134724Z
UID:44405-1757703600-1757710800@onechippenham.org.uk
SUMMARY:An Introduction to Eco-Friendly Giftwrapping Workshop
DESCRIPTION:In this hands-on workshop\, you’ll discover easy ways to wrap gifts that not only look amazing but are kinder to the planet too. \nYou’ll learn: \nHow to wrap a bottle beautifully with just tissue paper \nHow to turn wrapping paper into a stunning gift bag \nHow to make a tissue paper flower to top it all off \nYour ticket includes all workshop materials and refreshments of a brownie and a choice or hot or soft drink. \nBook here: https://www.giftwrappedbyeve.com/upcomingevents
URL:https://onechippenham.org.uk/event/an-introduction-to-eco-friendly-giftwrapping-workshop/
LOCATION:The Best Ever Brownie Company\, Stockham Marsh Farm\, Foxham
CATEGORIES:Crafts
ATTACH;FMTTYPE=image/jpeg:https://onechippenham.org.uk/wp-content/uploads/2025/07/IMG_7720.jpg
ORGANIZER;CN="Giftwrapped by Eve":MAILTO:evecaleathome@gmail.com
END:VEVENT
BEGIN:VEVENT
DTSTART;TZID=Europe/London:20250712T143000
DTEND;TZID=Europe/London:20250712T163000
DTSTAMP:20260424T115607
CREATED:20250620T073304Z
LAST-MODIFIED:20250620T073304Z
UID:43194-1752330600-1752337800@onechippenham.org.uk
SUMMARY:Giftwrapping Workshop with Afternoon Tea
DESCRIPTION:Come and join us at Kington Cafe for a fun and relaxed afternoon learning the art of greener giftwrapping! Eve Cale\, from Giftwrapped by Eve will guide you through various techniques to make your gifts stand out. \nAfter the workshop\, enjoy a delightful afternoon tea with a selection of sandwiches\, cakes\, teas and a mini bottle of prosecco. This event is perfect for anyone looking to add a personal touch to their gifts. Don’t miss out on this fantastic opportunity to hone your giftwrapping skills and enjoy a lovely afternoon with friends! \nWorkshop materials and afternoon tea are included. Additional drinks can be purchased from Kington Cafe. \nSpecial dietary requirements can be catered for\, please email eve@giftwrappedbyeve.com after booking.
URL:https://onechippenham.org.uk/event/giftwrapping-workshop-with-afternoon-tea-2/
LOCATION:Kington Cafe\, Kington St Michael\, Chippenham\, SN14 6JB\, United Kingdom
CATEGORIES:Afternoon Tea,Arts,Crafts,Gifts,Workshop
ATTACH;FMTTYPE=image/jpeg:https://onechippenham.org.uk/wp-content/uploads/2025/06/0EFEE596-C54D-48B5-A144-EBFF39FDD774.jpg
ORGANIZER;CN="Giftwrapped by Eve":MAILTO:evecaleathome@gmail.com
END:VEVENT
BEGIN:VEVENT
DTSTART;TZID=Europe/London:20240918T143000
DTEND;TZID=Europe/London:20240918T163000
DTSTAMP:20260424T115607
CREATED:20240619T091926Z
LAST-MODIFIED:20240619T091926Z
UID:31041-1726669800-1726677000@onechippenham.org.uk
SUMMARY:Giftwrapping Workshop with Afternoon Tea
DESCRIPTION:Giftwrapping Workshop with Afternoon Tea\nA relaxing afternoon learning greener giftwrapping techniques alongside a delicious afternoon tea! \nTickets £35 including all materials for the workshop and afternoon tea.
URL:https://onechippenham.org.uk/event/giftwrapping-workshop-with-afternoon-tea/
LOCATION:Kington Cafe\, Kington St Michael\, Chippenham\, SN14 6JB\, United Kingdom
CATEGORIES:Crafts
ATTACH;FMTTYPE=image/png:https://onechippenham.org.uk/wp-content/uploads/2024/06/Afternoon-tea-gitwrapping-workshop-.png
ORGANIZER;CN="Giftwrapped by Eve":MAILTO:evecaleathome@gmail.com
END:VEVENT
END:VCALENDAR