BEGIN:VCALENDAR
VERSION:2.0
PRODID:-//One Chippenham - ECPv6.15.20//NONSGML v1.0//EN
CALSCALE:GREGORIAN
METHOD:PUBLISH
X-WR-CALNAME:One Chippenham
X-ORIGINAL-URL:https://onechippenham.org.uk
X-WR-CALDESC:Events for One Chippenham
REFRESH-INTERVAL;VALUE=DURATION:PT1H
X-Robots-Tag:noindex
X-PUBLISHED-TTL:PT1H
BEGIN:VTIMEZONE
TZID:Europe/London
BEGIN:DAYLIGHT
TZOFFSETFROM:+0000
TZOFFSETTO:+0100
TZNAME:BST
DTSTART:20240331T010000
END:DAYLIGHT
BEGIN:STANDARD
TZOFFSETFROM:+0100
TZOFFSETTO:+0000
TZNAME:GMT
DTSTART:20241027T010000
END:STANDARD
BEGIN:DAYLIGHT
TZOFFSETFROM:+0000
TZOFFSETTO:+0100
TZNAME:BST
DTSTART:20250330T010000
END:DAYLIGHT
BEGIN:STANDARD
TZOFFSETFROM:+0100
TZOFFSETTO:+0000
TZNAME:GMT
DTSTART:20251026T010000
END:STANDARD
BEGIN:DAYLIGHT
TZOFFSETFROM:+0000
TZOFFSETTO:+0100
TZNAME:BST
DTSTART:20260329T010000
END:DAYLIGHT
BEGIN:STANDARD
TZOFFSETFROM:+0100
TZOFFSETTO:+0000
TZNAME:GMT
DTSTART:20261025T010000
END:STANDARD
END:VTIMEZONE
BEGIN:VEVENT
DTSTART;TZID=Europe/London:20250304T173000
DTEND;TZID=Europe/London:20250304T191500
DTSTAMP:20260426T031432
CREATED:20250226T132747Z
LAST-MODIFIED:20250226T132914Z
UID:39301-1741109400-1741115700@onechippenham.org.uk
SUMMARY:Chippenham Sustainable Business Event
DESCRIPTION:Find out how your business can save energy costs and carbon\, and if you’re eligible for a free energy survey and funding of up to £6\,000* \n\n\n\n\n\n\n\n\nHeld in collaboration with Chippenham Town Council\, Good Energy and Severn Wye Energy Agency\, this event is aimed at small to medium sized businesses operating within the Wiltshire Council area\, who are looking to improve their energy efficiency. \nJoin us for some light refreshements at this evening event in Chippenham on Tuesday 4 March\, where you will learn about the steps that your business can take to become more energy efficient\, leading you towards cost savings and reduced carbon emissions. \nAt this event\, you’ll gain an understanding of: \n\nWhat to consider when improving energy efficiency within your business\n\n\nWhat are the free\, low-cost and investment opportunities\n\n\nWhat are the benefits of becoming more energy efficient\n\n\nWhat grants are available and how you can apply\n\nThere is also a Q&A session at the end for you to ask any question you may have. \nLight refreshments will include sandwiches\, snacks and a selection of drinks. \nGood Energy recently achieved B Corp status\, the only home energy supplier in the UK to do so. They supply 100% renewable electricity\, as well as install heat pumps and solar panels to both domestic and commercial customers. \nSevern Wye Energy Agency is a sustainability charity operating across Wales and the English boarder counties. Founded in 1999\, Severn Wye’s vision is of a stable climate with energy for all. Working to provide businesses with impartial\, expert advice to help them save energy\, reduce carbon and create a more sustainable future. \nChippenham Town Council is committed to becoming a net zero organisation by 2030 and helping to support residents to reduce their carbon emissions. \nMore about the programmes on offer: \n‘Wiltshire Towns Programme’ is supporting small and micro businesses operating within Retail\, Leisure and Hospitality sectors throughout 22 Wiltshire Towns. On offer are free\, detailed energy efficiency surveys and an opportunity to apply for grant funding of up to £6\,000* towards low-cost energy efficiency measures or improvements. \n*subject to eligibility. \nYou can find out more here: Wiltshire towns small business energy efficiency – Severn Wye \n‘Fit for Net Zero’ is supporting SMEs operating within Wiltshire Council’s area\, with free\, detailed energy efficiency surveys and grants for installed measures. Examples of funded improvements include\, more efficient heating systems\, insulation\, lighting upgrades and renewable energy installation (this scheme is now closed to new applications). \nYou can find out more here: www.severnwye.org.uk/wilts
URL:https://onechippenham.org.uk/event/chippenham-sustainable-business-event/
LOCATION:Good Energy Offices\, Monkton Park\, SN15 1GH
ATTACH;FMTTYPE=image/jpeg:https://onechippenham.org.uk/wp-content/uploads/2025/02/GE25-Sustainable-Business-Event-Poster-A4-Mar-25-2nd-edit-002.jpg
END:VEVENT
END:VCALENDAR