BEGIN:VCALENDAR
VERSION:2.0
PRODID:-//One Chippenham - ECPv6.15.20//NONSGML v1.0//EN
CALSCALE:GREGORIAN
METHOD:PUBLISH
X-WR-CALNAME:One Chippenham
X-ORIGINAL-URL:https://onechippenham.org.uk
X-WR-CALDESC:Events for One Chippenham
REFRESH-INTERVAL;VALUE=DURATION:PT1H
X-Robots-Tag:noindex
X-PUBLISHED-TTL:PT1H
BEGIN:VTIMEZONE
TZID:Europe/London
BEGIN:DAYLIGHT
TZOFFSETFROM:+0000
TZOFFSETTO:+0100
TZNAME:BST
DTSTART:20230326T010000
END:DAYLIGHT
BEGIN:STANDARD
TZOFFSETFROM:+0100
TZOFFSETTO:+0000
TZNAME:GMT
DTSTART:20231029T010000
END:STANDARD
BEGIN:DAYLIGHT
TZOFFSETFROM:+0000
TZOFFSETTO:+0100
TZNAME:BST
DTSTART:20240331T010000
END:DAYLIGHT
BEGIN:STANDARD
TZOFFSETFROM:+0100
TZOFFSETTO:+0000
TZNAME:GMT
DTSTART:20241027T010000
END:STANDARD
BEGIN:DAYLIGHT
TZOFFSETFROM:+0000
TZOFFSETTO:+0100
TZNAME:BST
DTSTART:20250330T010000
END:DAYLIGHT
BEGIN:STANDARD
TZOFFSETFROM:+0100
TZOFFSETTO:+0000
TZNAME:GMT
DTSTART:20251026T010000
END:STANDARD
BEGIN:DAYLIGHT
TZOFFSETFROM:+0000
TZOFFSETTO:+0100
TZNAME:BST
DTSTART:20260329T010000
END:DAYLIGHT
BEGIN:STANDARD
TZOFFSETFROM:+0100
TZOFFSETTO:+0000
TZNAME:GMT
DTSTART:20261025T010000
END:STANDARD
END:VTIMEZONE
BEGIN:VEVENT
DTSTART;TZID=Europe/London:20251029T110000
DTEND;TZID=Europe/London:20251029T160000
DTSTAMP:20260425T144545
CREATED:20251013T092337Z
LAST-MODIFIED:20251013T092337Z
UID:51448-1761735600-1761753600@onechippenham.org.uk
SUMMARY:FREE Hamilton-Inspired Workshop with Lisa Southam
DESCRIPTION:Step into the room where it happens! \nJoin actor and drama coach Lisa Southam for a high-energy drama and musical theatre workshop inspired by the smash-hit musical Hamilton. \nThrough rap\, rhythm\, movement\, script and character work\, you’ll dive into the world of Alexander Hamilton and the American Revolution. Expect fun warm-ups\, scene and song exploration\, creative devising\, and even your own mini rap battle. Perfect for young performers who love to sing\, act\, move – and make some noise!
URL:https://onechippenham.org.uk/event/free-hamilton-inspired-workshop-with-lisa-southam/
LOCATION:Neeld Community & Arts Centre\, The Neeld\, High Street\, Chippenham\, Wiltshire\, SN15 3ER\, United Kingdom
CATEGORIES:Half-Term,Teens,Theatre,Workshop
ATTACH;FMTTYPE=image/png:https://onechippenham.org.uk/wp-content/uploads/2025/10/Hamilton-Workshop.png
END:VEVENT
BEGIN:VEVENT
DTSTART;TZID=Europe/London:20251027T110000
DTEND;TZID=Europe/London:20251027T160000
DTSTAMP:20260425T144545
CREATED:20251013T092558Z
LAST-MODIFIED:20251013T092558Z
UID:51439-1761562800-1761580800@onechippenham.org.uk
SUMMARY:FREE STOMP Rhythm Workshop with Carl Smith
DESCRIPTION:Come along and try body percussion – use junk objects ( brooms and dustbin lids)\, to make a great sound with the expert tuition of someone who toured the world doing just that! It’s physical\, fun and LOUD. \nCarl Smith. Musician\, percussionist\, and founder of CARL SMITH’S STOMP WORKSHOPS is one of the founder members/writers/performers of STOMP. Carl has toured the world with the sell-out show and was Artistic Director of the New York Company\, which has recently celebrated over two and a half decades of ‘Off Broadway’ success. He performed at the Oscars\, Grammys and recorded with Quincy Jones on the album ‘Q’s Jook Joint’. He has extensive global experience in giving workshops suited to all. \nCome and have a go! What have you got to lose?
URL:https://onechippenham.org.uk/event/free-stomp-rhythm-workshop-with-carl-smith/
LOCATION:Neeld Community & Arts Centre\, The Neeld\, High Street\, Chippenham\, Wiltshire\, SN15 3ER\, United Kingdom
CATEGORIES:Theatre,Workshop
ATTACH;FMTTYPE=image/png:https://onechippenham.org.uk/wp-content/uploads/2025/10/STOMP-FB-Header.png
END:VEVENT
BEGIN:VEVENT
DTSTART;TZID=Europe/London:20250826T100000
DTEND;TZID=Europe/London:20250826T150000
DTSTAMP:20260425T144545
CREATED:20250715T091254Z
LAST-MODIFIED:20250715T091254Z
UID:44195-1756202400-1756220400@onechippenham.org.uk
SUMMARY:Instruments and DJ'ing - (11-14's) with Mark Lodge
DESCRIPTION:Come along and work with: Mark Lodge – Musician and DJ \nDo you like listening to or playing music? Come and have a go at a new or old instrument and find out what it takes to be a DJ. \nIn this session you can pick up a new instrument\, or one you are already experienced with\, and learn to play at what ever level you are at. You will also find out the details on DJ’ing and how it is much more that just pressing a button. \nSession 1: 10 – 12pm\nPizza (provided) 12 – 1pm\nSession 2: 1-3pm \nMark Lodge is a seasoned musician and producer with a rich history in the music industry. His expertise spans across various genres\, from hip-hop and R&B to electronic music\, and he’s adept at weaving live instruments into his compositions.
URL:https://onechippenham.org.uk/event/instruments-and-djing-11-14s-with-mark-lodge/
LOCATION:Central Methodist Church\, Monkton Hill\, Chippenham\, Chippenham\, Wiltshire\, SN15 1EP\, United Kingdom
CATEGORIES:Music,Workshop
ATTACH;FMTTYPE=image/png:https://onechippenham.org.uk/wp-content/uploads/2025/07/Rag-and-Bone-FB-Headers-30-Mark-Lodge-FB.png
END:VEVENT
BEGIN:VEVENT
DTSTART;TZID=Europe/London:20250826T100000
DTEND;TZID=Europe/London:20250826T150000
DTSTAMP:20260425T144545
CREATED:20250715T090617Z
LAST-MODIFIED:20250715T090617Z
UID:44204-1756202400-1756220400@onechippenham.org.uk
SUMMARY:Acting improvisation and creating scenes (14-18's) with Deepraj Singh
DESCRIPTION:Come along and work with: Deepraj Singh – creative industry professional\, improvisor and movement specialist. \nSession 1 runs from 10 – 12pm\nPizza lunch (provided) from 12 – 1pm\nSession 2: 1-3pm \nWe will spend the morning warming up through a range of movement based games and learning a bit more about scenes through physicality. After lunch we’ll look at how to create our own short scenes and stories from what we learnt in the morning.
URL:https://onechippenham.org.uk/event/acting-improvisation-and-creating-scenes-14-18s-with-deepraj-singh/
LOCATION:Central Methodist Church\, Monkton Hill\, Chippenham\, Chippenham\, Wiltshire\, SN15 1EP\, United Kingdom
CATEGORIES:Theatre,Workshop
ATTACH;FMTTYPE=image/png:https://onechippenham.org.uk/wp-content/uploads/2025/07/Deepraj-FB-Update.png
END:VEVENT
BEGIN:VEVENT
DTSTART;TZID=Europe/London:20250821T100000
DTEND;TZID=Europe/London:20250821T150000
DTSTAMP:20260425T144545
CREATED:20250715T091611Z
LAST-MODIFIED:20250715T091611Z
UID:44177-1755770400-1755788400@onechippenham.org.uk
SUMMARY:Costume design/making - (11-14's) with Lottie Bywaters
DESCRIPTION:Come along and work with: Lottie Bywaters – Costume designer and maker \nCome and learn the process of costume design\, how your favourite film and theatre costumes started out as a simple sketch and even design and make your own. In this session you will learn what goes into costume design and production. You will then get the opportunity design your own superhero cape before cutting\, pinning and sewing it into existence. Decorate it with your own personalised logo and fulfil your superhero dreams. \nSession 1: 10 – 12pm\nPizza 12 – 1pm\nSession 2: 1-3pm \nLottie is a professional seamstress\,TA\, artist and singer with a strong passion for all things textiles.
URL:https://onechippenham.org.uk/event/costume-design-making-11-14s-with-lottie-bywaters/
LOCATION:Central Methodist Church\, Monkton Hill\, Chippenham\, Chippenham\, Wiltshire\, SN15 1EP\, United Kingdom
CATEGORIES:Fashion Show,Theatre,Workshop
ATTACH;FMTTYPE=image/png:https://onechippenham.org.uk/wp-content/uploads/2025/07/Rag-and-Bone-FB-Headers-26-Lottie-Bywaters-FB.png
END:VEVENT
BEGIN:VEVENT
DTSTART;TZID=Europe/London:20250821T100000
DTEND;TZID=Europe/London:20250821T150000
DTSTAMP:20260425T144545
CREATED:20250715T091431Z
LAST-MODIFIED:20250715T091431Z
UID:44186-1755770400-1755788400@onechippenham.org.uk
SUMMARY:Comedy writing (and performing?) - (14-18's) with Angie Belcher
DESCRIPTION:Come along and work with: Angie Belcher – comedian and comedy writer \nCome and learn the secrets to making people laugh. Discover your comedy style and how to use it in a fun and friendly workshop. In this session you will learn how to structure your own comedy scene and find your own natural comedy style to prepare you for writing your comedy scenes. If you’re happy to – you can then try and perform some of it in front of a very friendly audience – the group! \nSession 1: 10 – 12pm\nPizza (provided) from 12 – 1pm\nSession 2: 1-3pm \nAngie is an award winning facilitator\, coach and stand-up comedian who combines her love of creativity and personal development to help to inspire people to achieve their true potential. As a facilitator Angie trains\, supports and encourages people to feel comfortable in being confident\, passionate and authentic.
URL:https://onechippenham.org.uk/event/comedy-writing-and-performing-14-18s-with-angie-belcher/
LOCATION:Central Methodist Church\, Monkton Hill\, Chippenham\, Chippenham\, Wiltshire\, SN15 1EP\, United Kingdom
CATEGORIES:Comedy,Workshop
ATTACH;FMTTYPE=image/png:https://onechippenham.org.uk/wp-content/uploads/2025/07/Rag-and-Bone-FB-Headers-28-aNGIE-bELCHER-FB.png
END:VEVENT
BEGIN:VEVENT
DTSTART;TZID=Europe/London:20250819T100000
DTEND;TZID=Europe/London:20250819T150000
DTSTAMP:20260425T144545
CREATED:20250715T092036Z
LAST-MODIFIED:20250715T092036Z
UID:44159-1755597600-1755615600@onechippenham.org.uk
SUMMARY:Make-up for stage - (11-14's) with Anna Randall
DESCRIPTION:Come along and work with: Anna Randall – Film and TV make-up artist \nCome and learn how to safely sever your finger with latex moulding and bruise yourself up with the magic of makeup. \nSession 1: 10 – 12pm\nPizza (provided): 12 – 1pm\nSession 2: 1-3pm \nAnna is a Hair And Makeup Effects Artist\, with a Masters Degree in prosthetic effects. She has worked in TV and Film industry for over seven years\, on films\, commercials\, music videos\, feature films and short films\, and her work has led to nominations and awards for Best FX. \nIn this session you will go behind the scenes for both stage and screen and what it takes to make someone look a bit battered and beaten up. Get completely hands on with a variety of bruises and burns as well as textured cuts and even severed digits.
URL:https://onechippenham.org.uk/event/make-up-for-stage-11-14s-with-anna-randall/
LOCATION:Central Methodist Church\, Monkton Hill\, Chippenham\, Chippenham\, Wiltshire\, SN15 1EP\, United Kingdom
CATEGORIES:Theatre,Workshop
ATTACH;FMTTYPE=image/png:https://onechippenham.org.uk/wp-content/uploads/2025/07/Rag-and-Bone-FB-Headers-22-Anna-2-FB.png
END:VEVENT
BEGIN:VEVENT
DTSTART;TZID=Europe/London:20250819T100000
DTEND;TZID=Europe/London:20250819T150000
DTSTAMP:20260425T144545
CREATED:20250715T091855Z
LAST-MODIFIED:20250715T091855Z
UID:44168-1755597600-1755615600@onechippenham.org.uk
SUMMARY:Acting improvisation and stage combat - (14-18's) with Rebecca Osborne
DESCRIPTION:Come along and work with: Rebecca Osborne – Actor\, improvisor and stage combat instructor \nCome and learn the secrets to great improvising and stage combat skills through a wide variety of games and activities aimed at improving your improvising. In this session you will learn through a variety of fun\, accessible and constructively challenging games and activities with the addition of professionally trained stage combat skills and techniques for anyone to master. \nSession 1: 10 – 12pm\nPizza (provided) from: 12 – 1pm\nSession 2: 1-3pm \nThe founder of Brazen Steel\, and a core member of the teaching team at Rebel Action\, Rebecca has spent time instructing at the Royal Shakespeare Company\, LAMDA and Royal Welsh College of Music and Drama. Rebecca is nearing the end of her stage combat instructor apprenticeship with the Academy of Performance Combat\, and has helped to guide a plethora of students from their first taste of combat to daring fight scenes and everything in between.
URL:https://onechippenham.org.uk/event/acting-improvisation-and-stage-combat-14-18s-with-rebecca-osborne/
LOCATION:Central Methodist Church\, Monkton Hill\, Chippenham\, Chippenham\, Wiltshire\, SN15 1EP\, United Kingdom
CATEGORIES:Theatre,Workshop
ATTACH;FMTTYPE=image/png:https://onechippenham.org.uk/wp-content/uploads/2025/07/Rag-and-Bone-FB-Headers-24-Becca-FB.png
END:VEVENT
BEGIN:VEVENT
DTSTART;TZID=Europe/London:20250814T100000
DTEND;TZID=Europe/London:20250814T150000
DTSTAMP:20260425T144545
CREATED:20250715T103818Z
LAST-MODIFIED:20250717T091123Z
UID:44141-1755165600-1755183600@onechippenham.org.uk
SUMMARY:Dance - (11-14's) with Aisha Sanyang-Meek
DESCRIPTION:Creative dance session that will include some basic contemporary & hip hop dance technique suitable for anyone\, regardless of previous experience. There will also be an opportunity to create your own movement and try out your own creative ideas. \nAisha is a multi-disciplinary artist who uses dance\, physical theatre and writing to create work and connections. She has worked on professional dance works and created her own work for film and community performance spaces. She enjoys creating fun and energised experiences for people where they can feel connected to themselves and each other. Her class will be fun & creative. \nSession 1: 10 – 12pm\nPizza (provided) 12 – 1pm\nSession 2: 1-3pm \n 
URL:https://onechippenham.org.uk/event/dance-11-14s-with-aisha-sanyang-meek/
LOCATION:Central Methodist Church\, Monkton Hill\, Chippenham\, Chippenham\, Wiltshire\, SN15 1EP\, United Kingdom
CATEGORIES:Dance,Performance,Theatre,Workshop
ATTACH;FMTTYPE=image/png:https://onechippenham.org.uk/wp-content/uploads/2025/07/Aisha-Sanyang-Meek-FB.png
END:VEVENT
BEGIN:VEVENT
DTSTART;TZID=Europe/London:20250814T100000
DTEND;TZID=Europe/London:20250814T150000
DTSTAMP:20260425T144545
CREATED:20250715T093220Z
LAST-MODIFIED:20250715T093220Z
UID:44150-1755165600-1755183600@onechippenham.org.uk
SUMMARY:Make-up for stage - (14-18's) with Anna Randall
DESCRIPTION:Come along and work with: Anna Randall – Film and TV make-up artist \nCome and learn how to safely sever your finger with latex moulding and bruise yourself up with the magic of makeup.\nIn this session you will go behind the scenes for both stage and screen and what it takes to make someone look a bit battered and beaten up. Get completely hands on with a variety of bruises and burns as well as textured cuts and even severed digits. \nSession 1: 10 – 12pm\nPizza (provided): 12 – 1pm\nSession 2: 1-3pm \nAnna is a Hair And Makeup Effects Artist\, with a Masters Degree in prosthetic effects. She has worked in TV and Film industry for over seven years\, on films\, commercials\, music videos\, feature films and short films\, and her work has led to nominations and awards for Best FX.
URL:https://onechippenham.org.uk/event/make-up-for-stage-14-18s-with-anna-randall/
LOCATION:Central Methodist Church\, Monkton Hill\, Chippenham\, Chippenham\, Wiltshire\, SN15 1EP\, United Kingdom
CATEGORIES:Theatre,Workshop
ATTACH;FMTTYPE=image/png:https://onechippenham.org.uk/wp-content/uploads/2025/07/Rag-and-Bone-FB-Headers-20-Anna-1-FB.png
END:VEVENT
BEGIN:VEVENT
DTSTART;TZID=Europe/London:20250812T100000
DTEND;TZID=Europe/London:20250812T150000
DTSTAMP:20260425T144545
CREATED:20250715T104555Z
LAST-MODIFIED:20250715T104555Z
UID:44123-1754992800-1755010800@onechippenham.org.uk
SUMMARY:Writing (and performing?) your words - (11-14's) with Saili Katebe
DESCRIPTION:Come along and work with: Saili Katebe – professional actor/writer/poet \nIn this session you will learn how to express yourself through spoken words even if you think that writing poetry or rap is an impossible dream. This could be traditional poetry\, performance poetry\, lyrical poetry/rap or any other medium you can think of\, all through an engaging and creative workshop where the only limit is your own creativity. \nIf you’re keen to write but don’t want to perform\, that’s fine too.\nCome along and have a go with Saili – he’ll find a way of getting the best out of you. \nSession 1: 10 – 12pm\nPizza: 12 – 1pm\nSession 2: 1-3pm \nSaili Katebe is a writer\, performer and workshop facilitator. Born in Zambia and now based in the South West of England\, his work celebrates the musicality of language\, the possibilities of performance and the power of storytelling.
URL:https://onechippenham.org.uk/event/writing-and-performing-your-words-11-14s-with-saili-katebe/
LOCATION:Central Methodist Church\, Monkton Hill\, Chippenham\, Chippenham\, Wiltshire\, SN15 1EP\, United Kingdom
CATEGORIES:Creative Writing,Performing Arts,Theatre,Workshop
ATTACH;FMTTYPE=image/png:https://onechippenham.org.uk/wp-content/uploads/2025/07/Saili-Katebe.png
END:VEVENT
BEGIN:VEVENT
DTSTART;TZID=Europe/London:20250812T100000
DTEND;TZID=Europe/London:20250812T150000
DTSTAMP:20260425T144545
CREATED:20250715T104213Z
LAST-MODIFIED:20250715T104213Z
UID:44132-1754992800-1755010800@onechippenham.org.uk
SUMMARY:Make your own musical - (14-18's) with Emily Malcolm
DESCRIPTION:Come along and work with: Emily Malcolm – musical theatre writer and performer. \nEmily is the Founder and Creative Director of Yesterday’s Story CIC\, an organisation that brings history to life through creative projects. \nLearn about what makes a musical and how to devise your own from scratch. \nSession 1: 10 – 12pm\nPizza 12 – 1pm\nSession 2: 1-3pm \nDo you love musical theatre? Ever dreamed of creating your own show? Now’s your chance! Join us for a fun\, fast-paced day where you’ll work as a team to create your very own jukebox musical. You’ll shape the plot\, develop characters\, choose music\, and add movement to bring it all to life. Whether you’re a performer\, musician\, choreographer\, or budding director\, there’s a role for everyone in this collaborative\, creative experience. No experience needed – just bring your ideas and energy!
URL:https://onechippenham.org.uk/event/make-your-own-musical-14-18s-with-emily-malcolm/
LOCATION:Central Methodist Church\, Monkton Hill\, Chippenham\, Chippenham\, Wiltshire\, SN15 1EP\, United Kingdom
CATEGORIES:Theatre,Workshop
ATTACH;FMTTYPE=image/png:https://onechippenham.org.uk/wp-content/uploads/2025/07/Rag-and-Bone-FB-Headers-15-Emily-Malcolm-FB.png
END:VEVENT
BEGIN:VEVENT
DTSTART;TZID=Europe/London:20250615T120000
DTEND;TZID=Europe/London:20250615T140000
DTSTAMP:20260425T144545
CREATED:20250604T120248Z
LAST-MODIFIED:20250604T120248Z
UID:42664-1749988800-1749996000@onechippenham.org.uk
SUMMARY:Transition Story (ages 11 -18's)
DESCRIPTION:Come and hang out in the barn and listen to Adam’s story. \nFOOD! At 12 noon – Nacho builder table with milkshakes (on the house) for all 11-18’s. Please enter through the barn door off Old Road\, not through the pub garden. \nTalk starts at 12.30pm followed by Q and A with Adam. \nBorn and raised in rural Donegal during the 1980s and 90s\, Adam understood from a young age that he was different. He came out as gay at 15 and later as transgender at 18\, navigating his identity at a time when Ireland was still grappling with issues of acceptance and inclusion. At 27\, he returned to the closet — a testament to the societal pressures many LGBTQI+ individuals face — but in 2020\, at the age of 36\, Adam came out once again\, this time embracing his full\, authentic self. \nNow based in Dublin\, where he moved at 17\, Adam is proud of how far Ireland has come in embracing its LGBTQI+ community. He plays a key role in driving forward inclusive services and fostering community engagement\, helping to ensure that others don’t have to walk the path alone that he once \nBrought to you by Tell Your Story – A Rag and Bone Arts CIC and Knapsack Production collaboration – A National Lottery and DCMS funded project. \nThere will be 4-5 adults from our team present for safeguarding during the talk\, which is followed by ‘Pride Goes Acoustic’ – a live music gig at 2pm\, hosted by Riverbank Studio’s. Please note that our team will only be present until 2pm.
URL:https://onechippenham.org.uk/event/transition-story-ages-11-18s/
LOCATION:The Old Road Tavern\, SN15 1JA
CATEGORIES:Pride,Talks & lectures,Young adults
ATTACH;FMTTYPE=image/png:https://onechippenham.org.uk/wp-content/uploads/2025/06/Rag-and-Bone-FB-Headers-15-Andy.png
END:VEVENT
BEGIN:VEVENT
DTSTART;TZID=Europe/London:20250221T123000
DTEND;TZID=Europe/London:20250221T163000
DTSTAMP:20260425T144545
CREATED:20250204T210249Z
LAST-MODIFIED:20250207T152115Z
UID:38419-1740141000-1740155400@onechippenham.org.uk
SUMMARY:FREE Feb Half-Term Creative Workshops - Day 2 - Spoken Word
DESCRIPTION:Join BBC Words First 2021 artist\, Saili Katabe\, for his spoken word creative session. \n🍕Meet at 12.30 for Pizza\n🎤Workshop 1 : 1pm – 2.30pm\n🍪(short break for biscuits)\n🎵Workshop 2: 3pm -4.30pm
URL:https://onechippenham.org.uk/event/free-february-half-term-creative-workshop-day-2-spoken-word/
LOCATION:Central Methodist Church\, Monkton Hill\, Chippenham\, Chippenham\, Wiltshire\, SN15 1EP\, United Kingdom
CATEGORIES:Books/poetry,Creative Writing,Half-Term,Music,Performing Arts,Teens
ATTACH;FMTTYPE=image/jpeg:https://onechippenham.org.uk/wp-content/uploads/2025/02/D4728F12-C4AD-4B76-975A-3CEA8ACB2A8D.jpeg
END:VEVENT
BEGIN:VEVENT
DTSTART;TZID=Europe/London:20241114T190000
DTEND;TZID=Europe/London:20241114T210000
DTSTAMP:20260425T144545
CREATED:20241112T145001Z
LAST-MODIFIED:20241112T145001Z
UID:35820-1731610800-1731618000@onechippenham.org.uk
SUMMARY:Future Sounds of Chippenham
DESCRIPTION:Kicking off a year of teen gigs with Riverbank Studios – Tell Your Story Chippenham bring you an evening of live music from local artists\, funded by the National Lottery and DCMS. \nFeaturing M3G \, Parkii\, AJ and headliner The Vivas! \nCome along and enjoy an evening of some of the best Wiltshire based musicians and let your hair down with other people your age. \nFor 14+’s \nPlease bring ID if you’re over 18 and would like to buy alcohol from the bar. \nWristbands will be issued to everyone so that we can easily identify under 18’s. \nYouth workers will be present. \n\nTickets here: https://www.ticketsource.co.uk/rag-and-bone…/t-avgydrx
URL:https://onechippenham.org.uk/event/future-sounds-of-chippenham/
LOCATION:The Neeld
CATEGORIES:Gig,Music,Teens,Young adults
ATTACH;FMTTYPE=image/jpeg:https://onechippenham.org.uk/wp-content/uploads/2024/11/IMG_2513-1.jpeg
END:VEVENT
END:VCALENDAR