BEGIN:VCALENDAR
VERSION:2.0
PRODID:-//One Chippenham - ECPv6.15.20//NONSGML v1.0//EN
CALSCALE:GREGORIAN
METHOD:PUBLISH
X-WR-CALNAME:One Chippenham
X-ORIGINAL-URL:https://onechippenham.org.uk
X-WR-CALDESC:Events for One Chippenham
REFRESH-INTERVAL;VALUE=DURATION:PT1H
X-Robots-Tag:noindex
X-PUBLISHED-TTL:PT1H
BEGIN:VTIMEZONE
TZID:Europe/London
BEGIN:DAYLIGHT
TZOFFSETFROM:+0000
TZOFFSETTO:+0100
TZNAME:BST
DTSTART:20240331T010000
END:DAYLIGHT
BEGIN:STANDARD
TZOFFSETFROM:+0100
TZOFFSETTO:+0000
TZNAME:GMT
DTSTART:20241027T010000
END:STANDARD
BEGIN:DAYLIGHT
TZOFFSETFROM:+0000
TZOFFSETTO:+0100
TZNAME:BST
DTSTART:20250330T010000
END:DAYLIGHT
BEGIN:STANDARD
TZOFFSETFROM:+0100
TZOFFSETTO:+0000
TZNAME:GMT
DTSTART:20251026T010000
END:STANDARD
BEGIN:DAYLIGHT
TZOFFSETFROM:+0000
TZOFFSETTO:+0100
TZNAME:BST
DTSTART:20260329T010000
END:DAYLIGHT
BEGIN:STANDARD
TZOFFSETFROM:+0100
TZOFFSETTO:+0000
TZNAME:GMT
DTSTART:20261025T010000
END:STANDARD
BEGIN:DAYLIGHT
TZOFFSETFROM:+0000
TZOFFSETTO:+0100
TZNAME:BST
DTSTART:20270328T010000
END:DAYLIGHT
BEGIN:STANDARD
TZOFFSETFROM:+0100
TZOFFSETTO:+0000
TZNAME:GMT
DTSTART:20271031T010000
END:STANDARD
END:VTIMEZONE
BEGIN:VEVENT
DTSTART;TZID=Europe/London:20260328T210000
DTEND;TZID=Europe/London:20260328T233000
DTSTAMP:20260425T134041
CREATED:20260316T092501Z
LAST-MODIFIED:20260316T092501Z
UID:58546-1774731600-1774740600@onechippenham.org.uk
SUMMARY:Live Music at The Pack Horse
DESCRIPTION:Bristol based 4 piece rock band 92vine are back at The Pack Horse on 28th March. \nWith 30+ years experience playing pubs\, clubs\, festivals\, and so much more\, 92vine have gained a loyal following of fans that love to join the band in rocking out and letting loose!
URL:https://onechippenham.org.uk/event/live-music-at-the-pack-horse/
LOCATION:The Pack Horse
CATEGORIES:Gig,Music
ATTACH;FMTTYPE=image/jpeg:https://onechippenham.org.uk/wp-content/uploads/2026/03/inbound1491947805544094301.jpg
END:VEVENT
BEGIN:VEVENT
DTSTART;TZID=Europe/London:20251226T140000
DTEND;TZID=Europe/London:20251226T170000
DTSTAMP:20260425T134041
CREATED:20251121T091347Z
LAST-MODIFIED:20251121T091347Z
UID:53034-1766757600-1766768400@onechippenham.org.uk
SUMMARY:THE PACK HORSE PRESENTS BOREDOM BUSTING BOXING DAY ENTERTAINMENT!
DESCRIPTION:FRIDAY\, 26TH DECEMBER 2025 | 2PM – 5PM\nQUIZ • BINGO • HORSE RACING\nCHRISTMAS THEME \nFree festive fun and prizes galore! \nTEAMS OF UP TO 6 PEOPLE \nCome beat the post-Christmas blues and join us for an afternoon of laughter\, games\, and Christmas cheer!
URL:https://onechippenham.org.uk/event/the-pack-horse-presents-boredom-busting-boxing-day-entertainment/
LOCATION:The Pack Horse
CATEGORIES:Bingo,Christmas,Quiz
ATTACH;FMTTYPE=image/jpeg:https://onechippenham.org.uk/wp-content/uploads/2025/11/THE-PACK-HORSE-Boxing-Day.jpeg
END:VEVENT
END:VCALENDAR