BEGIN:VCALENDAR
VERSION:2.0
PRODID:-//One Chippenham - ECPv6.15.20//NONSGML v1.0//EN
CALSCALE:GREGORIAN
METHOD:PUBLISH
X-WR-CALNAME:One Chippenham
X-ORIGINAL-URL:https://onechippenham.org.uk
X-WR-CALDESC:Events for One Chippenham
REFRESH-INTERVAL;VALUE=DURATION:PT1H
X-Robots-Tag:noindex
X-PUBLISHED-TTL:PT1H
BEGIN:VTIMEZONE
TZID:Europe/London
BEGIN:DAYLIGHT
TZOFFSETFROM:+0000
TZOFFSETTO:+0100
TZNAME:BST
DTSTART:20220327T010000
END:DAYLIGHT
BEGIN:STANDARD
TZOFFSETFROM:+0100
TZOFFSETTO:+0000
TZNAME:GMT
DTSTART:20221030T010000
END:STANDARD
BEGIN:DAYLIGHT
TZOFFSETFROM:+0000
TZOFFSETTO:+0100
TZNAME:BST
DTSTART:20230326T010000
END:DAYLIGHT
BEGIN:STANDARD
TZOFFSETFROM:+0100
TZOFFSETTO:+0000
TZNAME:GMT
DTSTART:20231029T010000
END:STANDARD
BEGIN:DAYLIGHT
TZOFFSETFROM:+0000
TZOFFSETTO:+0100
TZNAME:BST
DTSTART:20240331T010000
END:DAYLIGHT
BEGIN:STANDARD
TZOFFSETFROM:+0100
TZOFFSETTO:+0000
TZNAME:GMT
DTSTART:20241027T010000
END:STANDARD
BEGIN:DAYLIGHT
TZOFFSETFROM:+0000
TZOFFSETTO:+0100
TZNAME:BST
DTSTART:20250330T010000
END:DAYLIGHT
BEGIN:STANDARD
TZOFFSETFROM:+0100
TZOFFSETTO:+0000
TZNAME:GMT
DTSTART:20251026T010000
END:STANDARD
BEGIN:DAYLIGHT
TZOFFSETFROM:+0000
TZOFFSETTO:+0100
TZNAME:BST
DTSTART:20260329T010000
END:DAYLIGHT
BEGIN:STANDARD
TZOFFSETFROM:+0100
TZOFFSETTO:+0000
TZNAME:GMT
DTSTART:20261025T010000
END:STANDARD
END:VTIMEZONE
BEGIN:VEVENT
DTSTART;TZID=Europe/London:20251221T160000
DTEND;TZID=Europe/London:20251221T180000
DTSTAMP:20260419T130259
CREATED:20251215T095145Z
LAST-MODIFIED:20251215T095145Z
UID:54286-1766332800-1766340000@onechippenham.org.uk
SUMMARY:🎄 Christmas with Trinity Chippenham! 🎄
DESCRIPTION:Join us for a super fun family Christmas extravaganza! \n\nSing along to joyful carols\nAdorable children’s musical nativity\nSparkly festive performances\nHeartwarming Christmas message\nFREE Christmas refreshments afterwards!\n\nSaturday 21st December\, 4-6pm\, Hardenhuish School \nBring the whole family – we’d LOVE to see you there!
URL:https://onechippenham.org.uk/event/%f0%9f%8e%84-christmas-with-trinity-chippenham-%f0%9f%8e%84/
LOCATION:Hardenhuish School\, Hardenhuish Lane\, Chippenham\, Wiltshire\, SN14 6RJ\, United Kingdom
CATEGORIES:Christmas,Church,Family,Family Friendly,Singing
ATTACH;FMTTYPE=image/jpeg:https://onechippenham.org.uk/wp-content/uploads/2025/12/IMG_0030.jpeg
END:VEVENT
BEGIN:VEVENT
DTSTART;TZID=Europe/London:20251221T160000
DTEND;TZID=Europe/London:20251221T180000
DTSTAMP:20260419T130259
CREATED:20251203T152628Z
LAST-MODIFIED:20251203T165327Z
UID:54025-1766332800-1766340000@onechippenham.org.uk
SUMMARY:Christmas Carols at Trinity
DESCRIPTION:Join us for a family Christmas extravaganza with carols\, a children’s musical nativity\, festive performances and a Christmas message. \nWe’d love to see you there on 21st December at Hardenhuish School between 4 and 6pm.
URL:https://onechippenham.org.uk/event/christmas-carols-at-trinity/
LOCATION:Hardenhuish School\, Hardenhuish Lane\, Chippenham\, Wiltshire\, SN14 6RJ\, United Kingdom
CATEGORIES:Autism friendly,Christmas,Church,Community,Family,Family Friendly,Family Fun Day,Food and Drink
ATTACH;FMTTYPE=image/jpeg:https://onechippenham.org.uk/wp-content/uploads/2025/12/Christmas-Carols-Trinity.jpg
END:VEVENT
BEGIN:VEVENT
DTSTART;TZID=Europe/London:20231216T190000
DTEND;TZID=Europe/London:20231216T190000
DTSTAMP:20260419T130259
CREATED:20231113T170153Z
LAST-MODIFIED:20231113T170153Z
UID:18183-1702753200-1702753200@onechippenham.org.uk
SUMMARY:Trinity Church presents Story Within A Story
DESCRIPTION:Expect the unexpected as the Nativity story unfolds through an unlikely cast of characters\, a variety of songs\, and a wealth of laughter. God has come to dwell with us – now that is a Christmas worth celebrating! \nThere will be three performances: \n\nSaturday 16th December at 7:00pm\nSunday 17th December at 4:00pm and 7:00pm\n\nTickets are free but booking is essential! Book via Eventbrite – here.  \nAfter the performances\, you are warmly invited to stay for a free deluxe hot chocolate. \nFor those who wish to\, there will be the opportunity to make a donation to the Chippenham CAP Debt Centre. \nChristians Against Poverty (CAP) is a wonderful charity that offer free\, expert debt help to those struggling with problem debt. To find out more see https://capuk.org/get-help/cap-debt-help.
URL:https://onechippenham.org.uk/event/trinity-church-presents-story-within-a-story/2023-12-16/
LOCATION:Hardenhuish School\, Hardenhuish Lane\, Chippenham\, Wiltshire\, SN14 6RJ\, United Kingdom
CATEGORIES:Christmas,Community,Family Friendly,Performance,Religious
ATTACH;FMTTYPE=image/jpeg:https://onechippenham.org.uk/wp-content/uploads/2023/11/400008530_353407853901191_6775374199385053149_n.jpg
END:VEVENT
BEGIN:VEVENT
DTSTART;TZID=Europe/London:20231125T163000
DTEND;TZID=Europe/London:20231125T200000
DTSTAMP:20260419T130259
CREATED:20231113T170658Z
LAST-MODIFIED:20231113T170658Z
UID:18123-1700929800-1700942400@onechippenham.org.uk
SUMMARY:Pre-loved Clothes Event
DESCRIPTION:We would love for you to come along to our Pre-loved Clothes Event. We will have a range of adult and children’s clothes and other accessories (e.g. shoes & bags)\, books and toys which you can help yourselves to for free. \nWe are starting the event earlier this year\, to allow more flexibility over the time you can get there\, so please come along at the most convenient time for you. \nDonating clothes and other items is completely optional. If you do have any donations please could you drop them off at Hardenhuish School between 3.30 – 4.30pm whilst we are setting up. If this is not possible please message 07842 346776 and we can make a plan to pick up or drop off donations beforehand. To allow us to set up the hall easily before the event\, we would appreciate if you could sort adult and children’s clothes into size order and label any bags. \nThere will be free hot and cold drinks available. We will be doing a bake sale to raise money for our Chippenham CAP Debt Centre. Christians Against Poverty (CAP) is a wonderful charity that offer free\, expert debt help to those struggling with problem debt. \nTo find out more see https://capuk.org/get-help/cap-debt-help. \nAny unwanted items at the end of the event will be taken to local charity shops. \nFREE event but you need to book your place on Eventbrite – https://www.eventbrite.co.uk/e/pre-loved-clothes-event-tickets-729653813197 \n  \n 
URL:https://onechippenham.org.uk/event/pre-loved-clothes-event/
CATEGORIES:Community,Family Friendly
ATTACH;FMTTYPE=image/jpeg:https://onechippenham.org.uk/wp-content/uploads/2023/11/IMG_8329.jpeg
END:VEVENT
END:VCALENDAR