BEGIN:VCALENDAR
VERSION:2.0
PRODID:-//One Chippenham - ECPv6.15.20//NONSGML v1.0//EN
CALSCALE:GREGORIAN
METHOD:PUBLISH
X-ORIGINAL-URL:https://onechippenham.org.uk
X-WR-CALDESC:Events for One Chippenham
REFRESH-INTERVAL;VALUE=DURATION:PT1H
X-Robots-Tag:noindex
X-PUBLISHED-TTL:PT1H
BEGIN:VTIMEZONE
TZID:Europe/London
BEGIN:DAYLIGHT
TZOFFSETFROM:+0000
TZOFFSETTO:+0100
TZNAME:BST
DTSTART:20230326T010000
END:DAYLIGHT
BEGIN:STANDARD
TZOFFSETFROM:+0100
TZOFFSETTO:+0000
TZNAME:GMT
DTSTART:20231029T010000
END:STANDARD
BEGIN:DAYLIGHT
TZOFFSETFROM:+0000
TZOFFSETTO:+0100
TZNAME:BST
DTSTART:20240331T010000
END:DAYLIGHT
BEGIN:STANDARD
TZOFFSETFROM:+0100
TZOFFSETTO:+0000
TZNAME:GMT
DTSTART:20241027T010000
END:STANDARD
BEGIN:DAYLIGHT
TZOFFSETFROM:+0000
TZOFFSETTO:+0100
TZNAME:BST
DTSTART:20250330T010000
END:DAYLIGHT
BEGIN:STANDARD
TZOFFSETFROM:+0100
TZOFFSETTO:+0000
TZNAME:GMT
DTSTART:20251026T010000
END:STANDARD
BEGIN:DAYLIGHT
TZOFFSETFROM:+0000
TZOFFSETTO:+0100
TZNAME:BST
DTSTART:20260329T010000
END:DAYLIGHT
BEGIN:STANDARD
TZOFFSETFROM:+0100
TZOFFSETTO:+0000
TZNAME:GMT
DTSTART:20261025T010000
END:STANDARD
END:VTIMEZONE
BEGIN:VEVENT
DTSTART;VALUE=DATE:20251115
DTEND;VALUE=DATE:20251117
DTSTAMP:20260425T225447
CREATED:20250922T130557Z
LAST-MODIFIED:20250922T130557Z
UID:48832-1763164800-1763337599@onechippenham.org.uk
SUMMARY:Green Open Homes Chippenham
DESCRIPTION:Green Open Homes Chippenham is an opportunity to ask a Chippenham home owner about an energy saving improvement they’ve made\, and see if it might work for you. \nPeople who have made energy saving improvements open up their homes for free in-person visits to share their experiences. Visiting a home is a great way to find out about the reality of getting solar panels\, insulation\, triple glazing\, or a heat pump without talking to a salesman. \nYou can have a good look at the technology\, ask the home owner how easy or difficult their improvements were\, and find out how much they’re really saving on their energy bills as a result.
URL:https://onechippenham.org.uk/event/green-open-homes-chippenham/
CATEGORIES:Community,Demonstrations,Environment,Open Day
ATTACH;FMTTYPE=image/jpeg:https://onechippenham.org.uk/wp-content/uploads/2025/09/Copy-of-Copy-of-Copy-of-reduce-your-bills-with-community-solar-1.jpg
ORGANIZER;CN="zero chippenham":MAILTO:Zerochippenham@gmail.com
END:VEVENT
BEGIN:VEVENT
DTSTART;TZID=Europe/London:20251030T100000
DTEND;TZID=Europe/London:20251030T143000
DTSTAMP:20260425T225447
CREATED:20250921T094752Z
LAST-MODIFIED:20250921T094752Z
UID:48823-1761818400-1761834600@onechippenham.org.uk
SUMMARY:Home Energy Drop in session - Chippenham Library
DESCRIPTION:Come to our FREE Home Energy Advice Drop in session\, Thursday 30th October\, 10am to 2-30pm\, at Chippenham Library. \nAs part of Libraries Week 2025 and the theme “Seeds of Change: Make a Difference with Your Library”\, Zero Chippenham Volunteers Matthew (Home Energy) and Chris (Thermal Cameras) will be offering free advice on How to keep your home warm and save money this winter. \nChris will be demonstrating one of Zero Chippenham’s thermal cameras\, which you can borrow for FREE from Zero Chippenham*\, or borrow one from Wiltshire libraries own scheme. Chris is taking heat view training later this month and can advise how to make the best use of the cameras to see where your home is losing heat and money. \nMatthew can provide FREE home energy advice\, and has recently completed Retrofit advisor training**. We will have a number of simple home insulation measures on display that you can try yourself\, as well as advice sheets\, and information on the latest Home Energy grants. \nMatthew and Chris look forward to seeing you on Thursday 30th October 2025 at Chippenham library.
URL:https://onechippenham.org.uk/event/home-energy-drop-in-session-chippenham-library/
LOCATION:Chippenham Library
CATEGORIES:Education,Health,Training,Wellbeing
ATTACH;FMTTYPE=image/jpeg:https://onechippenham.org.uk/wp-content/uploads/2025/09/Copy-of-Copy-of-Copy-of-reduce-your-bills-with-community-solar.jpg
ORGANIZER;CN="zero chippenham":MAILTO:Zerochippenham@gmail.com
END:VEVENT
BEGIN:VEVENT
DTSTART;TZID=Europe/London:20240308T140000
DTEND;TZID=Europe/London:20240308T163000
DTSTAMP:20260425T225447
CREATED:20240221T130600Z
LAST-MODIFIED:20240221T130600Z
UID:27822-1709906400-1709915400@onechippenham.org.uk
SUMMARY:Free Home Energy Workshop
DESCRIPTION:Free Home Energy Workshop delivered by Zero Chippenham in association with the Centre for Sustainable Energy. \nJoin us for an exciting in-person event at the Town Hall\, High Street\, Chippenham\, Wiltshire \nThe two and a half hour session includes: \n\nWhy energy is important\nHow you can use less energy & save money\nTechnologies for generating renewable electricity & heat in your home\nCommon myths and challenges\nPractical examples in real people’s homes\nThank you to Wessex Water Community Connectors for funding this workshop.\n\nTo see the full agenda and reserve your free place\, please book on our Eventbrite page
URL:https://onechippenham.org.uk/event/free-home-energy-workshop/
LOCATION:Chippenham Town Hall\, High Street\, Chippenham\, Afghanistan
CATEGORIES:Environment,Workshop
ATTACH;FMTTYPE=image/jpeg:https://onechippenham.org.uk/wp-content/uploads/2024/02/Event-Brite-Energy-efficiency.jpg
ORGANIZER;CN="zero chippenham":MAILTO:Zerochippenham@gmail.com
END:VEVENT
END:VCALENDAR