BEGIN:VCALENDAR
VERSION:2.0
PRODID:-//One Chippenham - ECPv6.15.20//NONSGML v1.0//EN
CALSCALE:GREGORIAN
METHOD:PUBLISH
X-WR-CALNAME:One Chippenham
X-ORIGINAL-URL:https://onechippenham.org.uk
X-WR-CALDESC:Events for One Chippenham
REFRESH-INTERVAL;VALUE=DURATION:PT1H
X-Robots-Tag:noindex
X-PUBLISHED-TTL:PT1H
BEGIN:VTIMEZONE
TZID:Europe/London
BEGIN:DAYLIGHT
TZOFFSETFROM:+0000
TZOFFSETTO:+0100
TZNAME:BST
DTSTART:20240331T010000
END:DAYLIGHT
BEGIN:STANDARD
TZOFFSETFROM:+0100
TZOFFSETTO:+0000
TZNAME:GMT
DTSTART:20241027T010000
END:STANDARD
BEGIN:DAYLIGHT
TZOFFSETFROM:+0000
TZOFFSETTO:+0100
TZNAME:BST
DTSTART:20250330T010000
END:DAYLIGHT
BEGIN:STANDARD
TZOFFSETFROM:+0100
TZOFFSETTO:+0000
TZNAME:GMT
DTSTART:20251026T010000
END:STANDARD
BEGIN:DAYLIGHT
TZOFFSETFROM:+0000
TZOFFSETTO:+0100
TZNAME:BST
DTSTART:20260329T010000
END:DAYLIGHT
BEGIN:STANDARD
TZOFFSETFROM:+0100
TZOFFSETTO:+0000
TZNAME:GMT
DTSTART:20261025T010000
END:STANDARD
BEGIN:DAYLIGHT
TZOFFSETFROM:+0000
TZOFFSETTO:+0100
TZNAME:BST
DTSTART:20270328T010000
END:DAYLIGHT
BEGIN:STANDARD
TZOFFSETFROM:+0100
TZOFFSETTO:+0000
TZNAME:GMT
DTSTART:20271031T010000
END:STANDARD
END:VTIMEZONE
BEGIN:VEVENT
DTSTART;TZID=Europe/London:20260323T183000
DTEND;TZID=Europe/London:20260323T203000
DTSTAMP:20260423T163534
CREATED:20260305T093854Z
LAST-MODIFIED:20260305T093854Z
UID:58035-1774290600-1774297800@onechippenham.org.uk
SUMMARY:Easter Basket Craft Workshops - Bedazzled Wooden Eggs\, Chenille Daffodils & Felt Bunnies and Carrots
DESCRIPTION:Create a basket full of your hand made Easter ornaments. Three workshops complete the basket\, but you can attend one\, two or all three depending on what you fancy making. You’ll get a basket on your first visit and we will help you fill it up. \nOur first workshop is bedazzling wooden eggs (up to 3)\, our second workshop is chenille daffodils and our third is felt bunnies and carrots. \nWe provide everything you need. \nThe complete basket will make an Easter decoration willed with your personal touches. \n#craftworkshops #thingstodowiltshire #chippenhamcraftworkshops #chippenham
URL:https://onechippenham.org.uk/event/easter-basket-craft-workshops-bedazzled-wooden-eggs-chenille-daffodils-felt-bunnies-and-carrots/2026-03-23/
LOCATION:Bargammon’s Tavern\, 35 Market Place\, Chippenham\, Wiltshire\, SN15 3HT\, United Kingdom
CATEGORIES:Crafts
ATTACH;FMTTYPE=image/jpeg:https://onechippenham.org.uk/wp-content/uploads/2026/03/easter.jpg
ORGANIZER;CN="Bargammon's Tavern":MAILTO:Bargammontavern@gmail.com
END:VEVENT
BEGIN:VEVENT
DTSTART;TZID=Europe/London:20260316T183000
DTEND;TZID=Europe/London:20260316T203000
DTSTAMP:20260423T163534
CREATED:20260305T093853Z
LAST-MODIFIED:20260305T093853Z
UID:58034-1773685800-1773693000@onechippenham.org.uk
SUMMARY:Easter Basket Craft Workshops - Bedazzled Wooden Eggs\, Chenille Daffodils & Felt Bunnies and Carrots
DESCRIPTION:Create a basket full of your hand made Easter ornaments. Three workshops complete the basket\, but you can attend one\, two or all three depending on what you fancy making. You’ll get a basket on your first visit and we will help you fill it up. \nOur first workshop is bedazzling wooden eggs (up to 3)\, our second workshop is chenille daffodils and our third is felt bunnies and carrots. \nWe provide everything you need. \nThe complete basket will make an Easter decoration willed with your personal touches. \n#craftworkshops #thingstodowiltshire #chippenhamcraftworkshops #chippenham
URL:https://onechippenham.org.uk/event/easter-basket-craft-workshops-bedazzled-wooden-eggs-chenille-daffodils-felt-bunnies-and-carrots/2026-03-16/
LOCATION:Bargammon’s Tavern\, 35 Market Place\, Chippenham\, Wiltshire\, SN15 3HT\, United Kingdom
CATEGORIES:Crafts
ATTACH;FMTTYPE=image/jpeg:https://onechippenham.org.uk/wp-content/uploads/2026/03/easter.jpg
ORGANIZER;CN="Bargammon's Tavern":MAILTO:Bargammontavern@gmail.com
END:VEVENT
BEGIN:VEVENT
DTSTART;TZID=Europe/London:20260309T183000
DTEND;TZID=Europe/London:20260309T203000
DTSTAMP:20260423T163534
CREATED:20260305T093853Z
LAST-MODIFIED:20260305T093853Z
UID:58029-1773081000-1773088200@onechippenham.org.uk
SUMMARY:Easter Basket Craft Workshops - Bedazzled Wooden Eggs\, Chenille Daffodils & Felt Bunnies and Carrots
DESCRIPTION:Create a basket full of your hand made Easter ornaments. Three workshops complete the basket\, but you can attend one\, two or all three depending on what you fancy making. You’ll get a basket on your first visit and we will help you fill it up. \nOur first workshop is bedazzling wooden eggs (up to 3)\, our second workshop is chenille daffodils and our third is felt bunnies and carrots. \nWe provide everything you need. \nThe complete basket will make an Easter decoration willed with your personal touches. \n#craftworkshops #thingstodowiltshire #chippenhamcraftworkshops #chippenham
URL:https://onechippenham.org.uk/event/easter-basket-craft-workshops-bedazzled-wooden-eggs-chenille-daffodils-felt-bunnies-and-carrots/2026-03-09/
LOCATION:Bargammon’s Tavern\, 35 Market Place\, Chippenham\, Wiltshire\, SN15 3HT\, United Kingdom
CATEGORIES:Crafts
ATTACH;FMTTYPE=image/jpeg:https://onechippenham.org.uk/wp-content/uploads/2026/03/easter.jpg
ORGANIZER;CN="Bargammon's Tavern":MAILTO:Bargammontavern@gmail.com
END:VEVENT
BEGIN:VEVENT
DTSTART;TZID=Europe/London:20260227T183000
DTEND;TZID=Europe/London:20260227T203000
DTSTAMP:20260423T163534
CREATED:20260213T122742Z
LAST-MODIFIED:20260213T122742Z
UID:56520-1772217000-1772224200@onechippenham.org.uk
SUMMARY:Chenille Daffodils Craft Workshop
DESCRIPTION:In this delightful chenille daffodils craft workshop\, you will be introduced to the art of creating charming daffodil blooms out of soft chenille stems. Dive into a world of creativity as you learn how to craft these beautiful flowers in a relaxed and supportive environment. \nNo previous experience is necessary\, so rest assured that this workshop is perfect for beginners. You will be guided step-by-step through the process\, using high-quality materials provided for you. Feel free to ask questions and explore your creativity in this enjoyable and engaging activity. \nBy the end of the class\, you will not only have learned a new skill but also have a lovely set of chenille daffodils to take home with you in a glass vase. Immerse yourself in this transformative experience and brighten up your day with these cheerful floral creations.
URL:https://onechippenham.org.uk/event/chenille-daffodils-craft-workshop/
LOCATION:Bargammon’s Tavern\, 35 Market Place\, Chippenham\, Wiltshire\, SN15 3HT\, United Kingdom
ATTACH;FMTTYPE=image/jpeg:https://onechippenham.org.uk/wp-content/uploads/2026/02/daffodils.jpg
END:VEVENT
BEGIN:VEVENT
DTSTART;TZID=Europe/London:20260209T183000
DTEND;TZID=Europe/London:20260209T213000
DTSTAMP:20260423T163534
CREATED:20260130T082936Z
LAST-MODIFIED:20260130T082936Z
UID:55715-1770661800-1770672600@onechippenham.org.uk
SUMMARY:Learn to Sew
DESCRIPTION:In this engaging and informative workshop\, you’ll discover the art of sewing as you take part in a learn-to-sew workshop. You’ll learn how to cut a pattern and sew a delightful 3D plush apple using just three different types of stitch. By the end of the class\, you’ll proudly take home your handcrafted creation as a charming keepsake of your newfound skills. \nIf you’re feeling a bit nervous about trying your hand at sewing for the first time\, fret not! This workshop is designed with beginners in mind\, offering a supportive environment where you can learn and practise at your own pace. You’ll be guided step-by-step through the process\, ensuring you feel comfortable and confident throughout the session. \nDuring the 2-3 hour workshop\, you’ll be working with various materials to bring your plush apple to life. Don’t worry if you’re unfamiliar with the tools and techniques – our experienced instructor will be there to assist you every stitch of the way. As you immerse yourself in this creative activity\, you may find yourself feeling a sense of accomplishment and joy as you see your project progress. \nEmbark on this exciting journey of learning and creativity\, where you’ll not only gain valuable sewing skills but also experience the satisfaction of crafting something with your own hands. At the end of the workshop\, you’ll leave with a unique 3D plush apple that you’ll be proud to display or gift to a special someone.
URL:https://onechippenham.org.uk/event/learn-to-sew/
LOCATION:Bargammon’s Tavern\, 35 Market Place\, Chippenham\, Wiltshire\, SN15 3HT\, United Kingdom
CATEGORIES:Crafts
ATTACH;FMTTYPE=image/jpeg:https://onechippenham.org.uk/wp-content/uploads/2026/01/learntosew-1.jpg
ORGANIZER;CN="Bargammon's Tavern":MAILTO:Bargammontavern@gmail.com
END:VEVENT
BEGIN:VEVENT
DTSTART;TZID=Europe/London:20260207T190000
DTEND;TZID=Europe/London:20260207T210000
DTSTAMP:20260423T163534
CREATED:20260130T082740Z
LAST-MODIFIED:20260130T082740Z
UID:55673-1770490800-1770498000@onechippenham.org.uk
SUMMARY:It's All Geek to Me Quiz Night
DESCRIPTION:A geeky quiz for geeky people. Teams of 1 – 6 can take part in our popular nerdy spin on a traditional pub quiz.
URL:https://onechippenham.org.uk/event/its-all-geek-to-me-quiz-night/
LOCATION:Bargammon’s Tavern\, 35 Market Place\, Chippenham\, Wiltshire\, SN15 3HT\, United Kingdom
CATEGORIES:Quiz
ATTACH;FMTTYPE=image/jpeg:https://onechippenham.org.uk/wp-content/uploads/2026/01/advert-Quiz-3.jpg
ORGANIZER;CN="Bargammon's Tavern":MAILTO:Bargammontavern@gmail.com
END:VEVENT
BEGIN:VEVENT
DTSTART;TZID=Europe/London:20260206T183000
DTEND;TZID=Europe/London:20260206T213000
DTSTAMP:20260423T163534
CREATED:20260130T083235Z
LAST-MODIFIED:20260130T083235Z
UID:55706-1770402600-1770413400@onechippenham.org.uk
SUMMARY:Learn to Sew
DESCRIPTION:In this engaging and informative workshop\, you’ll discover the art of sewing as you take part in a learn-to-sew workshop. You’ll learn how to cut a pattern and sew a delightful 3D plush apple using just three different types of stitch. By the end of the class\, you’ll proudly take home your handcrafted creation as a charming keepsake of your newfound skills. \nIf you’re feeling a bit nervous about trying your hand at sewing for the first time\, fret not! This workshop is designed with beginners in mind\, offering a supportive environment where you can learn and practise at your own pace. You’ll be guided step-by-step through the process\, ensuring you feel comfortable and confident throughout the session. \nDuring the 2-3 hour workshop\, you’ll be working with various materials to bring your plush apple to life. Don’t worry if you’re unfamiliar with the tools and techniques – our experienced instructor will be there to assist you every stitch of the way. As you immerse yourself in this creative activity\, you may find yourself feeling a sense of accomplishment and joy as you see your project progress. \nEmbark on this exciting journey of learning and creativity\, where you’ll not only gain valuable sewing skills but also experience the satisfaction of crafting something with your own hands. At the end of the workshop\, you’ll leave with a unique 3D plush apple that you’ll be proud to display or gift to a special someone.
URL:https://onechippenham.org.uk/event/learn-to-sew-2/
LOCATION:Bargammon’s Tavern\, 35 Market Place\, Chippenham\, Wiltshire\, SN15 3HT\, United Kingdom
CATEGORIES:Crafts
ATTACH;FMTTYPE=image/jpeg:https://onechippenham.org.uk/wp-content/uploads/2026/01/learntosew.jpg
ORGANIZER;CN="Bargammon's Tavern":MAILTO:Bargammontavern@gmail.com
END:VEVENT
BEGIN:VEVENT
DTSTART;TZID=Europe/London:20260130T183000
DTEND;TZID=Europe/London:20260130T210000
DTSTAMP:20260423T163534
CREATED:20260105T091358Z
LAST-MODIFIED:20260105T091358Z
UID:54857-1769797800-1769806800@onechippenham.org.uk
SUMMARY:Gemstone Chakra Tree Craft Workshop
DESCRIPTION:Join us in person for a fun and relaxing Gemstone Chakra Tree craft session! Connect with your creative side as you design your very own beautiful tree adorned with colourful gemstones representing the seven chakras. No experience needed—just bring your good vibes and curiosity. Perfect for a creative day out or a mindful break.
URL:https://onechippenham.org.uk/event/gemstone-chakra-tree-craft-workshop/2026-01-30/
LOCATION:Bargammon’s Tavern\, 35 Market Place\, Chippenham\, Wiltshire\, SN15 3HT\, United Kingdom
CATEGORIES:Crafts
ATTACH;FMTTYPE=image/jpeg:https://onechippenham.org.uk/wp-content/uploads/2026/01/gemstone.jpg
ORGANIZER;CN="Bargammon's Tavern":MAILTO:Bargammontavern@gmail.com
END:VEVENT
BEGIN:VEVENT
DTSTART;TZID=Europe/London:20260128T183000
DTEND;TZID=Europe/London:20260128T183000
DTSTAMP:20260423T163534
CREATED:20260105T093110Z
LAST-MODIFIED:20260105T130803Z
UID:54878-1769625000-1769625000@onechippenham.org.uk
SUMMARY:Pondering Fairy Nightlight Craft Workshop
DESCRIPTION:Get ready to dive into a fun\, hands-on experience where you’ll make your very own magical fairy nightlight. This is an in-person event perfect for anyone who loves crafting and a bit of whimsy. Bring your creativity and leave with a glowing piece of fairy magic to brighten up your space. Don’t miss out on an evening full of laughs\, inspiration\, and crafting fun!
URL:https://onechippenham.org.uk/event/pondering-fairy-nightlight-craft-workshop/
LOCATION:Bargammon’s Tavern\, 35 Market Place\, Chippenham\, Wiltshire\, SN15 3HT\, United Kingdom
CATEGORIES:Adults,Crafts,Workshop
ATTACH;FMTTYPE=image/jpeg:https://onechippenham.org.uk/wp-content/uploads/2026/01/pondering-fairiesonechip.jpg
ORGANIZER;CN="Bargammon's Tavern":MAILTO:Bargammontavern@gmail.com
END:VEVENT
BEGIN:VEVENT
DTSTART;TZID=Europe/London:20260124T120000
DTEND;TZID=Europe/London:20260124T160000
DTSTAMP:20260423T163534
CREATED:20260105T091514Z
LAST-MODIFIED:20260105T091514Z
UID:54887-1769256000-1769270400@onechippenham.org.uk
SUMMARY:Bespoke Tiara Workshop
DESCRIPTION:Ready to create your own stunning tiara? Join our fun\, hands-on in-person workshop where you’ll design and craft a unique piece tailored just for you. Whether you’re new or experienced\, our friendly instructors will guide you through every step. Don’t miss out on this creative and glamorous experience – let’s get crafting and sparkle together!
URL:https://onechippenham.org.uk/event/bespoke-tiara-workshop/
LOCATION:Bargammon’s Tavern\, 35 Market Place\, Chippenham\, Wiltshire\, SN15 3HT\, United Kingdom
CATEGORIES:Adults,Crafts,Workshop
ATTACH;FMTTYPE=image/jpeg:https://onechippenham.org.uk/wp-content/uploads/2026/01/tiaraonechip.jpg
ORGANIZER;CN="Bargammon's Tavern":MAILTO:Bargammontavern@gmail.com
END:VEVENT
BEGIN:VEVENT
DTSTART;TZID=Europe/London:20260115T183000
DTEND;TZID=Europe/London:20260115T210000
DTSTAMP:20260423T163534
CREATED:20260105T091358Z
LAST-MODIFIED:20260105T091358Z
UID:54852-1768501800-1768510800@onechippenham.org.uk
SUMMARY:Gemstone Chakra Tree Craft Workshop
DESCRIPTION:Join us in person for a fun and relaxing Gemstone Chakra Tree craft session! Connect with your creative side as you design your very own beautiful tree adorned with colourful gemstones representing the seven chakras. No experience needed—just bring your good vibes and curiosity. Perfect for a creative day out or a mindful break.
URL:https://onechippenham.org.uk/event/gemstone-chakra-tree-craft-workshop/2026-01-15/
LOCATION:Bargammon’s Tavern\, 35 Market Place\, Chippenham\, Wiltshire\, SN15 3HT\, United Kingdom
CATEGORIES:Crafts
ATTACH;FMTTYPE=image/jpeg:https://onechippenham.org.uk/wp-content/uploads/2026/01/gemstone.jpg
ORGANIZER;CN="Bargammon's Tavern":MAILTO:Bargammontavern@gmail.com
END:VEVENT
BEGIN:VEVENT
DTSTART;TZID=Europe/London:20251231T190000
DTEND;TZID=Europe/London:20260101T020000
DTSTAMP:20260423T163534
CREATED:20251221T065659Z
LAST-MODIFIED:20251221T065659Z
UID:54439-1767207600-1767232800@onechippenham.org.uk
SUMMARY:New Year's Even Pirate Murder Mystery
DESCRIPTION:This New Year’s Eve we will be hosting a Pirate Murder Mystery Evening! Pick your character on a first come first serve. Reserve your place for just £2. A free rum (and zero alcohol rum) will be given out just in time to toast in the new year.
URL:https://onechippenham.org.uk/event/new-years-even-pirate-murder-mystery/
LOCATION:Bargammon’s Tavern\, 35 Market Place\, Chippenham\, Wiltshire\, SN15 3HT\, United Kingdom
CATEGORIES:Murder Mystery,New Year
ATTACH;FMTTYPE=image/jpeg:https://onechippenham.org.uk/wp-content/uploads/2025/12/piratemurdermystery.jpg
ORGANIZER;CN="Bargammon's Tavern":MAILTO:Bargammontavern@gmail.com
END:VEVENT
BEGIN:VEVENT
DTSTART;TZID=Europe/London:20251212T110000
DTEND;TZID=Europe/London:20251212T130000
DTSTAMP:20260423T163534
CREATED:20251128T103234Z
LAST-MODIFIED:20251128T103234Z
UID:53629-1765537200-1765544400@onechippenham.org.uk
SUMMARY:Christmas Snowflake Wreath Craft Workshop
DESCRIPTION:A lesson and everything you need to create your own snowflake wreath. Allow 2 hours.
URL:https://onechippenham.org.uk/event/christmas-snowflake-wreath-craft-workshop/2025-12-12/
LOCATION:Bargammon’s Tavern\, 35 Market Place\, Chippenham\, Wiltshire\, SN15 3HT\, United Kingdom
CATEGORIES:Christmas,Crafts
ATTACH;FMTTYPE=image/jpeg:https://onechippenham.org.uk/wp-content/uploads/2025/11/wreath-snowflake.jpg
ORGANIZER;CN="Bargammon's Tavern":MAILTO:Bargammontavern@gmail.com
END:VEVENT
BEGIN:VEVENT
DTSTART;TZID=Europe/London:20251209T183000
DTEND;TZID=Europe/London:20251209T203000
DTSTAMP:20260423T163534
CREATED:20251128T103733Z
LAST-MODIFIED:20251128T103733Z
UID:53593-1765305000-1765312200@onechippenham.org.uk
SUMMARY:Beaded Snowflakes Craft Workshop
DESCRIPTION:Your tree will sparkle with your handmade beaded snowflakes. We provide everything you need. No experience necessary. Allow 2 hours
URL:https://onechippenham.org.uk/event/beaded-snowflakes-craft-workshop/
LOCATION:Bargammon’s Tavern\, 35 Market Place\, Chippenham\, Wiltshire\, SN15 3HT\, United Kingdom
CATEGORIES:Crafts
ATTACH;FMTTYPE=image/jpeg:https://onechippenham.org.uk/wp-content/uploads/2025/11/beaded-snowflake-1.jpg
ORGANIZER;CN="Bargammon's Tavern":MAILTO:Bargammontavern@gmail.com
END:VEVENT
BEGIN:VEVENT
DTSTART;TZID=Europe/London:20251204T110000
DTEND;TZID=Europe/London:20251204T130000
DTSTAMP:20260423T163534
CREATED:20251128T104114Z
LAST-MODIFIED:20251128T104114Z
UID:53584-1764846000-1764853200@onechippenham.org.uk
SUMMARY:Beaded Snowflakes Craft Workshop
DESCRIPTION:Your tree will sparkle with your handmade beaded snowflakes. We provide everything you need. No experience necessary. Allow 2 hours
URL:https://onechippenham.org.uk/event/beaded-snowflakes-craft-workshop-2/
LOCATION:Bargammon’s Tavern\, 35 Market Place\, Chippenham\, Wiltshire\, SN15 3HT\, United Kingdom
CATEGORIES:Crafts
ATTACH;FMTTYPE=image/jpeg:https://onechippenham.org.uk/wp-content/uploads/2025/11/beaded-snowflake.jpg
ORGANIZER;CN="Bargammon's Tavern":MAILTO:Bargammontavern@gmail.com
END:VEVENT
BEGIN:VEVENT
DTSTART;TZID=Europe/London:20251201T163000
DTEND;TZID=Europe/London:20251201T180000
DTSTAMP:20260423T163534
CREATED:20251126T203655Z
LAST-MODIFIED:20251126T204449Z
UID:53553-1764606600-1764612000@onechippenham.org.uk
SUMMARY:Teasel Hedgehog Craft Workshop
DESCRIPTION:We have two start times for our next Teasel Hedgehog workshop on 1 December. Just £10 to learn how to craft your own hedgehog with everything you need provided.
URL:https://onechippenham.org.uk/event/teasel-hedgehog-craft-workshop/2025-12-01/
LOCATION:Bargammon’s Tavern\, 35 Market Place\, Chippenham\, Wiltshire\, SN15 3HT\, United Kingdom
CATEGORIES:Crafts
ATTACH;FMTTYPE=image/jpeg:https://onechippenham.org.uk/wp-content/uploads/2025/11/hedgehog.jpg
ORGANIZER;CN="Bargammon's Tavern":MAILTO:Bargammontavern@gmail.com
END:VEVENT
BEGIN:VEVENT
DTSTART;TZID=Europe/London:20251129T190000
DTEND;TZID=Europe/London:20251129T213000
DTSTAMP:20260423T163534
CREATED:20251126T155804Z
LAST-MODIFIED:20251126T155804Z
UID:53506-1764442800-1764451800@onechippenham.org.uk
SUMMARY:Geek Quiz Night
DESCRIPTION:A geekie twist on the traditional pub quiz. Categories can include games\, comics\, film & tv\, soundtracks\, literature\, memorabilia. Teams up to 6 people. Prizes for the winning team
URL:https://onechippenham.org.uk/event/geek-quiz-night/
LOCATION:Bargammon’s Tavern\, 35 Market Place\, Chippenham\, Wiltshire\, SN15 3HT\, United Kingdom
CATEGORIES:Quiz
ATTACH;FMTTYPE=image/jpeg:https://onechippenham.org.uk/wp-content/uploads/2025/11/Nov25quiz.jpg
ORGANIZER;CN="Bargammon's Tavern":MAILTO:Bargammontavern@gmail.com
END:VEVENT
BEGIN:VEVENT
DTSTART;TZID=Europe/London:20251128T183000
DTEND;TZID=Europe/London:20251128T203000
DTSTAMP:20260423T163534
CREATED:20251126T155730Z
LAST-MODIFIED:20251126T155730Z
UID:53497-1764354600-1764361800@onechippenham.org.uk
SUMMARY:Learn a new board game: Heat Pedal to the Metal
DESCRIPTION:Our games guru will be teaching how to play the very popular board game Heat – Pedal to the Metal
URL:https://onechippenham.org.uk/event/learn-a-new-board-game-heat-pedal-to-the-metal/
LOCATION:Bargammon’s Tavern\, 35 Market Place\, Chippenham\, Wiltshire\, SN15 3HT\, United Kingdom
CATEGORIES:Games
ATTACH;FMTTYPE=image/jpeg:https://onechippenham.org.uk/wp-content/uploads/2025/11/2021128-Heat-Learn-To-Play.jpg
ORGANIZER;CN="Bargammon's Tavern":MAILTO:Bargammontavern@gmail.com
END:VEVENT
BEGIN:VEVENT
DTSTART;TZID=Europe/London:20251031T180000
DTEND;TZID=Europe/London:20251031T233000
DTSTAMP:20260423T163534
CREATED:20251016T172215Z
LAST-MODIFIED:20251016T172215Z
UID:51710-1761933600-1761953400@onechippenham.org.uk
SUMMARY:Bargammons Tavern Halloween Party
DESCRIPTION:Creepy Mini Quiz\, Spooky Taskmaster\, Two Rooms & A Boom! Prizes for Best Costume and winners of games. From 6pm (price just holds your place\, £10 charged on night)
URL:https://onechippenham.org.uk/event/bargammons-tavern-halloween-party/
LOCATION:Bargammon’s Tavern\, 35 Market Place\, Chippenham\, Wiltshire\, SN15 3HT\, United Kingdom
CATEGORIES:Adults,Games,Halloween,Quiz
ATTACH;FMTTYPE=image/jpeg:https://onechippenham.org.uk/wp-content/uploads/2025/10/halloweengraphicsmall.jpg
ORGANIZER;CN="Bargammon's Tavern":MAILTO:Bargammontavern@gmail.com
END:VEVENT
BEGIN:VEVENT
DTSTART;TZID=Europe/London:20251018T160000
DTEND;TZID=Europe/London:20251018T190000
DTSTAMP:20260423T163534
CREATED:20251013T094955Z
LAST-MODIFIED:20251013T094955Z
UID:51268-1760803200-1760814000@onechippenham.org.uk
SUMMARY:Needle Felting Workshop: Ghost & Pumpkin
DESCRIPTION:Spooky Needle Felting Workshop Saturday\, 18th October at 4pm. \nEverything you need to learn needle felting and learn how to make a spooky ghost and pumpkin. \nThis class can last between 2 and 3 hours. No experience necessary. \nBook your space at www.bargammon.co.uk/events
URL:https://onechippenham.org.uk/event/needle-felting-workshop-ghost-pumpkin/
LOCATION:Bargammon’s Tavern\, 35 Market Place\, Chippenham\, Wiltshire\, SN15 3HT\, United Kingdom
CATEGORIES:Crafts
ATTACH;FMTTYPE=image/jpeg:https://onechippenham.org.uk/wp-content/uploads/2025/10/1000071013.jpg
ORGANIZER;CN="Bargammon's Tavern":MAILTO:Bargammontavern@gmail.com
END:VEVENT
BEGIN:VEVENT
DTSTART;TZID=Europe/London:20250609T170000
DTEND;TZID=Europe/London:20250609T200000
DTSTAMP:20260423T163534
CREATED:20250604T084502Z
LAST-MODIFIED:20250604T084502Z
UID:42630-1749488400-1749499200@onechippenham.org.uk
SUMMARY:Banner Making Workshop for Pride
DESCRIPTION:Pride In Chippenham are hosting a Banner Making workshop on Monday 9th June 5pm to 8pm upstairs at Bargammon’s Tavern – Chippenham’s Board Gaming Café in Market Place 😊🖌 \nAll materials are provided for FREE. \nDrinks and snacks will be available to purchase in the Tavern downstairs. \nWhether you’re a member of the LGBTQIA+ community or are a proud Ally supporting friends and loved ones\, come have some creative fun making a colourful banner/sign for Chippenham PrideFest taking place on the 14th and 15th June 2025! 😄🏳️‍🌈🏳️‍⚧️\n❤🧡💛💚💙💜🤎🖤🤍❤️🩷🧡💛💚💙 \n#chippenhampride #Chippenham #LoveWhereYouLive #Community #WhatsOn #Events #LGBTPlus #Creativity #PrideMonth
URL:https://onechippenham.org.uk/event/banner-making-workshop-for-pride/
LOCATION:Bargammon’s Tavern\, 35 Market Place\, Chippenham\, Wiltshire\, SN15 3HT\, United Kingdom
CATEGORIES:Arts,Community,Pride
ATTACH;FMTTYPE=image/png:https://onechippenham.org.uk/wp-content/uploads/2025/06/Banner-Making-Workshop-Bargammons-2025-Facebook-Post_20250423_235433_0000.png
ORGANIZER;CN="Pride in Chippenham":MAILTO:katherinebeale95@gmail.com
END:VEVENT
BEGIN:VEVENT
DTSTART;TZID=Europe/London:20250413T130000
DTEND;TZID=Europe/London:20250413T160000
DTSTAMP:20260423T163534
CREATED:20250325T101817Z
LAST-MODIFIED:20250325T101817Z
UID:40070-1744549200-1744560000@onechippenham.org.uk
SUMMARY:Clothes swap Chippenham: fundraising for Pride in Chippenham
DESCRIPTION:Come along to our Swap event to freshen up your new year’s wardrobe! Hosted by Clothes Swap Chippenham – fundraising for Pride in Chippenham. \nHow does a Clothes Swap work? \n\ndive into your wardrobe and dig out any clothes in good\, clean condition\, and bring them to the swap.\nwhen you arrive\, hand your items over to our staff who will sort them\ngrab a seat downstairs\, and a drink/snack from the venue\, – this venue has been kindly given to us for free for this event\, so be sure to help us give back by grabbing a drink\, etc\npay your £5 entry fee; this goes directly to our designated local charity for this event\nbrowse and swap from our chosen stalls\, whilst our volunteers sort the clothing items\nwhen the staff are ready\, we will introduce the event and then you are free to browse through the clothes\ntake home as many items as you feel is fair\n\nFAQs \nWhat will be there? \n\nWe will have clothes as well as shoes and accessories. For hygiene reasons we don’t accept underwear\, socks or swimming costumes.\n\nWhat if I don’t find something I like? \n\nWe often have sizes 8-38 attend and end up with such a great deal of items each time\, so there will likely be something for you.\n\nWhy isn’t it swap-for-swap/item for item? \n\nWe have so many items come through the doors\, if we did swap for swap\, we’d have too many items left over at the end! We ask people take for themselves only but to feel free to take as much as they feel is fair – you can always bring the item back to the next Clothes Swap event if it doesn’t work out!\n\nDon’t people take loads of stuff? Are people grabby or rude? \n\nOur seasoned swappers are kind\, friendly and polite\, and we ask all those attending to be the same. Be considerate of others and you’ll go home with armfuls of items\, and a smile on your face.\n\nCan I bring my children? \n\nWe ask that you don’t bring under 14s\n\nWhere do the leftover items go? \n\nAll items leftover are donated to charity/local causes\n\nPlease remember – our venue kindly gave us this space for FREE! Any more questions? Please ask!
URL:https://onechippenham.org.uk/event/clothes-swap-chippenham-fundraising-for-pride-in-chippenham/
LOCATION:Bargammon’s Tavern\, 35 Market Place\, Chippenham\, Wiltshire\, SN15 3HT\, United Kingdom
CATEGORIES:Community
ATTACH;FMTTYPE=image/jpeg:https://onechippenham.org.uk/wp-content/uploads/2025/03/IMG-20250319-WA0008-1.jpg
ORGANIZER;CN="Pride in Chippenham":MAILTO:katherinebeale95@gmail.com
END:VEVENT
BEGIN:VEVENT
DTSTART;TZID=Europe/London:20250214T190000
DTEND;TZID=Europe/London:20250214T210000
DTSTAMP:20260423T163534
CREATED:20250214T103525Z
LAST-MODIFIED:20250214T103525Z
UID:38614-1739559600-1739566800@onechippenham.org.uk
SUMMARY:Gem/Bead Tree Workshop
DESCRIPTION:Create your own precious stone or beaded tree at our craft workshop. A beautiful gift or keepsake and a new skill. All materials provided. Price includes a soft drink. \nTickets available on our website: bargammon.co.uk/events
URL:https://onechippenham.org.uk/event/gem-bead-tree-workshop/
LOCATION:Bargammon’s Tavern\, 35 Market Place\, Chippenham\, Wiltshire\, SN15 3HT\, United Kingdom
CATEGORIES:Crafts
ATTACH;FMTTYPE=image/jpeg:https://onechippenham.org.uk/wp-content/uploads/2025/02/476441325_583629924663336_917525129263309625_n.jpg
ORGANIZER;CN="Bargammon's Tavern":MAILTO:Bargammontavern@gmail.com
END:VEVENT
END:VCALENDAR