BEGIN:VCALENDAR
VERSION:2.0
PRODID:-//One Chippenham - ECPv6.15.20//NONSGML v1.0//EN
CALSCALE:GREGORIAN
METHOD:PUBLISH
X-ORIGINAL-URL:https://onechippenham.org.uk
X-WR-CALDESC:Events for One Chippenham
REFRESH-INTERVAL;VALUE=DURATION:PT1H
X-Robots-Tag:noindex
X-PUBLISHED-TTL:PT1H
BEGIN:VTIMEZONE
TZID:Europe/London
BEGIN:DAYLIGHT
TZOFFSETFROM:+0000
TZOFFSETTO:+0100
TZNAME:BST
DTSTART:20250330T010000
END:DAYLIGHT
BEGIN:STANDARD
TZOFFSETFROM:+0100
TZOFFSETTO:+0000
TZNAME:GMT
DTSTART:20251026T010000
END:STANDARD
BEGIN:DAYLIGHT
TZOFFSETFROM:+0000
TZOFFSETTO:+0100
TZNAME:BST
DTSTART:20260329T010000
END:DAYLIGHT
BEGIN:STANDARD
TZOFFSETFROM:+0100
TZOFFSETTO:+0000
TZNAME:GMT
DTSTART:20261025T010000
END:STANDARD
BEGIN:DAYLIGHT
TZOFFSETFROM:+0000
TZOFFSETTO:+0100
TZNAME:BST
DTSTART:20270328T010000
END:DAYLIGHT
BEGIN:STANDARD
TZOFFSETFROM:+0100
TZOFFSETTO:+0000
TZNAME:GMT
DTSTART:20271031T010000
END:STANDARD
END:VTIMEZONE
BEGIN:VEVENT
DTSTART;TZID=Europe/London:20260423T190000
DTEND;TZID=Europe/London:20260423T200000
DTSTAMP:20260425T045603
CREATED:20260120T184724Z
LAST-MODIFIED:20260120T184724Z
UID:55333-1776970800-1776974400@onechippenham.org.uk
SUMMARY:Junior Dodgeball
DESCRIPTION:Chippenham Chargers are a community club hosting sessions for U11s\, U15s\, men & women. Come and join us\, new members welcome! \nRegister via email to: chippenhamchargers@gmail.com \n 
URL:https://onechippenham.org.uk/event/junior-dodgeball/2026-04-23/
LOCATION:Chippenham Sports Dome
CATEGORIES:Children,Exercise,Teens,Tweens
ATTACH;FMTTYPE=image/jpeg:https://onechippenham.org.uk/wp-content/uploads/2026/01/IMG_3888.jpeg
END:VEVENT
BEGIN:VEVENT
DTSTART;TZID=Europe/London:20260416T190000
DTEND;TZID=Europe/London:20260416T200000
DTSTAMP:20260425T045603
CREATED:20260120T184724Z
LAST-MODIFIED:20260120T184724Z
UID:55332-1776366000-1776369600@onechippenham.org.uk
SUMMARY:Junior Dodgeball
DESCRIPTION:Chippenham Chargers are a community club hosting sessions for U11s\, U15s\, men & women. Come and join us\, new members welcome! \nRegister via email to: chippenhamchargers@gmail.com \n 
URL:https://onechippenham.org.uk/event/junior-dodgeball/2026-04-16/
LOCATION:Chippenham Sports Dome
CATEGORIES:Children,Exercise,Teens,Tweens
ATTACH;FMTTYPE=image/jpeg:https://onechippenham.org.uk/wp-content/uploads/2026/01/IMG_3888.jpeg
END:VEVENT
BEGIN:VEVENT
DTSTART;TZID=Europe/London:20260409T190000
DTEND;TZID=Europe/London:20260409T200000
DTSTAMP:20260425T045603
CREATED:20260120T184724Z
LAST-MODIFIED:20260120T184724Z
UID:55331-1775761200-1775764800@onechippenham.org.uk
SUMMARY:Junior Dodgeball
DESCRIPTION:Chippenham Chargers are a community club hosting sessions for U11s\, U15s\, men & women. Come and join us\, new members welcome! \nRegister via email to: chippenhamchargers@gmail.com \n 
URL:https://onechippenham.org.uk/event/junior-dodgeball/2026-04-09/
LOCATION:Chippenham Sports Dome
CATEGORIES:Children,Exercise,Teens,Tweens
ATTACH;FMTTYPE=image/jpeg:https://onechippenham.org.uk/wp-content/uploads/2026/01/IMG_3888.jpeg
END:VEVENT
BEGIN:VEVENT
DTSTART;TZID=Europe/London:20260402T190000
DTEND;TZID=Europe/London:20260402T200000
DTSTAMP:20260425T045603
CREATED:20260120T184724Z
LAST-MODIFIED:20260120T184724Z
UID:55329-1775156400-1775160000@onechippenham.org.uk
SUMMARY:Junior Dodgeball
DESCRIPTION:Chippenham Chargers are a community club hosting sessions for U11s\, U15s\, men & women. Come and join us\, new members welcome! \nRegister via email to: chippenhamchargers@gmail.com \n 
URL:https://onechippenham.org.uk/event/junior-dodgeball/2026-04-02/
LOCATION:Chippenham Sports Dome
CATEGORIES:Children,Exercise,Teens,Tweens
ATTACH;FMTTYPE=image/jpeg:https://onechippenham.org.uk/wp-content/uploads/2026/01/IMG_3888.jpeg
END:VEVENT
BEGIN:VEVENT
DTSTART;TZID=Europe/London:20260326T190000
DTEND;TZID=Europe/London:20260326T200000
DTSTAMP:20260425T045603
CREATED:20260120T184724Z
LAST-MODIFIED:20260120T184724Z
UID:55328-1774551600-1774555200@onechippenham.org.uk
SUMMARY:Junior Dodgeball
DESCRIPTION:Chippenham Chargers are a community club hosting sessions for U11s\, U15s\, men & women. Come and join us\, new members welcome! \nRegister via email to: chippenhamchargers@gmail.com \n 
URL:https://onechippenham.org.uk/event/junior-dodgeball/2026-03-26/
LOCATION:Chippenham Sports Dome
CATEGORIES:Children,Exercise,Teens,Tweens
ATTACH;FMTTYPE=image/jpeg:https://onechippenham.org.uk/wp-content/uploads/2026/01/IMG_3888.jpeg
END:VEVENT
BEGIN:VEVENT
DTSTART;TZID=Europe/London:20260319T190000
DTEND;TZID=Europe/London:20260319T200000
DTSTAMP:20260425T045603
CREATED:20260120T184724Z
LAST-MODIFIED:20260120T184724Z
UID:55327-1773946800-1773950400@onechippenham.org.uk
SUMMARY:Junior Dodgeball
DESCRIPTION:Chippenham Chargers are a community club hosting sessions for U11s\, U15s\, men & women. Come and join us\, new members welcome! \nRegister via email to: chippenhamchargers@gmail.com \n 
URL:https://onechippenham.org.uk/event/junior-dodgeball/2026-03-19/
LOCATION:Chippenham Sports Dome
CATEGORIES:Children,Exercise,Teens,Tweens
ATTACH;FMTTYPE=image/jpeg:https://onechippenham.org.uk/wp-content/uploads/2026/01/IMG_3888.jpeg
END:VEVENT
BEGIN:VEVENT
DTSTART;TZID=Europe/London:20260312T190000
DTEND;TZID=Europe/London:20260312T200000
DTSTAMP:20260425T045603
CREATED:20260120T184724Z
LAST-MODIFIED:20260120T184724Z
UID:55326-1773342000-1773345600@onechippenham.org.uk
SUMMARY:Junior Dodgeball
DESCRIPTION:Chippenham Chargers are a community club hosting sessions for U11s\, U15s\, men & women. Come and join us\, new members welcome! \nRegister via email to: chippenhamchargers@gmail.com \n 
URL:https://onechippenham.org.uk/event/junior-dodgeball/2026-03-12/
LOCATION:Chippenham Sports Dome
CATEGORIES:Children,Exercise,Teens,Tweens
ATTACH;FMTTYPE=image/jpeg:https://onechippenham.org.uk/wp-content/uploads/2026/01/IMG_3888.jpeg
END:VEVENT
BEGIN:VEVENT
DTSTART;TZID=Europe/London:20260305T190000
DTEND;TZID=Europe/London:20260305T200000
DTSTAMP:20260425T045603
CREATED:20260120T184724Z
LAST-MODIFIED:20260120T184724Z
UID:55325-1772737200-1772740800@onechippenham.org.uk
SUMMARY:Junior Dodgeball
DESCRIPTION:Chippenham Chargers are a community club hosting sessions for U11s\, U15s\, men & women. Come and join us\, new members welcome! \nRegister via email to: chippenhamchargers@gmail.com \n 
URL:https://onechippenham.org.uk/event/junior-dodgeball/2026-03-05/
LOCATION:Chippenham Sports Dome
CATEGORIES:Children,Exercise,Teens,Tweens
ATTACH;FMTTYPE=image/jpeg:https://onechippenham.org.uk/wp-content/uploads/2026/01/IMG_3888.jpeg
END:VEVENT
BEGIN:VEVENT
DTSTART;TZID=Europe/London:20260226T190000
DTEND;TZID=Europe/London:20260226T200000
DTSTAMP:20260425T045603
CREATED:20260120T184724Z
LAST-MODIFIED:20260120T184724Z
UID:55324-1772132400-1772136000@onechippenham.org.uk
SUMMARY:Junior Dodgeball
DESCRIPTION:Chippenham Chargers are a community club hosting sessions for U11s\, U15s\, men & women. Come and join us\, new members welcome! \nRegister via email to: chippenhamchargers@gmail.com \n 
URL:https://onechippenham.org.uk/event/junior-dodgeball/2026-02-26/
LOCATION:Chippenham Sports Dome
CATEGORIES:Children,Exercise,Teens,Tweens
ATTACH;FMTTYPE=image/jpeg:https://onechippenham.org.uk/wp-content/uploads/2026/01/IMG_3888.jpeg
END:VEVENT
BEGIN:VEVENT
DTSTART;TZID=Europe/London:20260219T190000
DTEND;TZID=Europe/London:20260219T200000
DTSTAMP:20260425T045603
CREATED:20260120T184724Z
LAST-MODIFIED:20260120T184724Z
UID:55323-1771527600-1771531200@onechippenham.org.uk
SUMMARY:Junior Dodgeball
DESCRIPTION:Chippenham Chargers are a community club hosting sessions for U11s\, U15s\, men & women. Come and join us\, new members welcome! \nRegister via email to: chippenhamchargers@gmail.com \n 
URL:https://onechippenham.org.uk/event/junior-dodgeball/2026-02-19/
LOCATION:Chippenham Sports Dome
CATEGORIES:Children,Exercise,Teens,Tweens
ATTACH;FMTTYPE=image/jpeg:https://onechippenham.org.uk/wp-content/uploads/2026/01/IMG_3888.jpeg
END:VEVENT
BEGIN:VEVENT
DTSTART;TZID=Europe/London:20260212T190000
DTEND;TZID=Europe/London:20260212T200000
DTSTAMP:20260425T045603
CREATED:20260120T184724Z
LAST-MODIFIED:20260120T184724Z
UID:55322-1770922800-1770926400@onechippenham.org.uk
SUMMARY:Junior Dodgeball
DESCRIPTION:Chippenham Chargers are a community club hosting sessions for U11s\, U15s\, men & women. Come and join us\, new members welcome! \nRegister via email to: chippenhamchargers@gmail.com \n 
URL:https://onechippenham.org.uk/event/junior-dodgeball/2026-02-12/
LOCATION:Chippenham Sports Dome
CATEGORIES:Children,Exercise,Teens,Tweens
ATTACH;FMTTYPE=image/jpeg:https://onechippenham.org.uk/wp-content/uploads/2026/01/IMG_3888.jpeg
END:VEVENT
BEGIN:VEVENT
DTSTART;TZID=Europe/London:20260205T190000
DTEND;TZID=Europe/London:20260205T200000
DTSTAMP:20260425T045603
CREATED:20260120T184724Z
LAST-MODIFIED:20260120T184724Z
UID:55321-1770318000-1770321600@onechippenham.org.uk
SUMMARY:Junior Dodgeball
DESCRIPTION:Chippenham Chargers are a community club hosting sessions for U11s\, U15s\, men & women. Come and join us\, new members welcome! \nRegister via email to: chippenhamchargers@gmail.com \n 
URL:https://onechippenham.org.uk/event/junior-dodgeball/2026-02-05/
LOCATION:Chippenham Sports Dome
CATEGORIES:Children,Exercise,Teens,Tweens
ATTACH;FMTTYPE=image/jpeg:https://onechippenham.org.uk/wp-content/uploads/2026/01/IMG_3888.jpeg
END:VEVENT
BEGIN:VEVENT
DTSTART;TZID=Europe/London:20260129T190000
DTEND;TZID=Europe/London:20260129T200000
DTSTAMP:20260425T045603
CREATED:20260120T184724Z
LAST-MODIFIED:20260120T184724Z
UID:55320-1769713200-1769716800@onechippenham.org.uk
SUMMARY:Junior Dodgeball
DESCRIPTION:Chippenham Chargers are a community club hosting sessions for U11s\, U15s\, men & women. Come and join us\, new members welcome! \nRegister via email to: chippenhamchargers@gmail.com \n 
URL:https://onechippenham.org.uk/event/junior-dodgeball/2026-01-29/
LOCATION:Chippenham Sports Dome
CATEGORIES:Children,Exercise,Teens,Tweens
ATTACH;FMTTYPE=image/jpeg:https://onechippenham.org.uk/wp-content/uploads/2026/01/IMG_3888.jpeg
END:VEVENT
BEGIN:VEVENT
DTSTART;TZID=Europe/London:20260122T190000
DTEND;TZID=Europe/London:20260122T200000
DTSTAMP:20260425T045603
CREATED:20260120T184724Z
LAST-MODIFIED:20260120T184724Z
UID:55109-1769108400-1769112000@onechippenham.org.uk
SUMMARY:Junior Dodgeball
DESCRIPTION:Chippenham Chargers are a community club hosting sessions for U11s\, U15s\, men & women. Come and join us\, new members welcome! \nRegister via email to: chippenhamchargers@gmail.com \n 
URL:https://onechippenham.org.uk/event/junior-dodgeball/2026-01-22/
LOCATION:Chippenham Sports Dome
CATEGORIES:Children,Exercise,Teens,Tweens
ATTACH;FMTTYPE=image/jpeg:https://onechippenham.org.uk/wp-content/uploads/2026/01/IMG_3888.jpeg
END:VEVENT
END:VCALENDAR