BEGIN:VCALENDAR
VERSION:2.0
PRODID:-//One Chippenham - ECPv6.15.20//NONSGML v1.0//EN
CALSCALE:GREGORIAN
METHOD:PUBLISH
X-ORIGINAL-URL:https://onechippenham.org.uk
X-WR-CALDESC:Events for One Chippenham
REFRESH-INTERVAL;VALUE=DURATION:PT1H
X-Robots-Tag:noindex
X-PUBLISHED-TTL:PT1H
BEGIN:VTIMEZONE
TZID:Europe/London
BEGIN:DAYLIGHT
TZOFFSETFROM:+0000
TZOFFSETTO:+0100
TZNAME:BST
DTSTART:20200329T010000
END:DAYLIGHT
BEGIN:STANDARD
TZOFFSETFROM:+0100
TZOFFSETTO:+0000
TZNAME:GMT
DTSTART:20201025T010000
END:STANDARD
BEGIN:DAYLIGHT
TZOFFSETFROM:+0000
TZOFFSETTO:+0100
TZNAME:BST
DTSTART:20210328T010000
END:DAYLIGHT
BEGIN:STANDARD
TZOFFSETFROM:+0100
TZOFFSETTO:+0000
TZNAME:GMT
DTSTART:20211031T010000
END:STANDARD
BEGIN:DAYLIGHT
TZOFFSETFROM:+0000
TZOFFSETTO:+0100
TZNAME:BST
DTSTART:20220327T010000
END:DAYLIGHT
BEGIN:STANDARD
TZOFFSETFROM:+0100
TZOFFSETTO:+0000
TZNAME:GMT
DTSTART:20221030T010000
END:STANDARD
BEGIN:DAYLIGHT
TZOFFSETFROM:+0000
TZOFFSETTO:+0100
TZNAME:BST
DTSTART:20230326T010000
END:DAYLIGHT
BEGIN:STANDARD
TZOFFSETFROM:+0100
TZOFFSETTO:+0000
TZNAME:GMT
DTSTART:20231029T010000
END:STANDARD
END:VTIMEZONE
BEGIN:VEVENT
DTSTART;TZID=Europe/London:20220306T100000
DTEND;TZID=Europe/London:20220306T140000
DTSTAMP:20260420T093905
CREATED:20220126T132530Z
LAST-MODIFIED:20220126T132530Z
UID:4379-1646560800-1646575200@onechippenham.org.uk
SUMMARY:Birth Network North Wiltshire's Chippenham Baby Show
DESCRIPTION:The Birth Network North Wiltshire’s baby show is an opportunity for parents of babies and toddlers\, as well as expectant parents\, to find out about a huge range of local bump\, birth and baby related organisations and services. Entry is free and the first 100 visitors get a free goody bag.
URL:https://onechippenham.org.uk/event/birth-network-north-wiltshires-chippenham-baby-show/
LOCATION:Neeld Community & Arts Centre\, The Neeld\, High Street\, Chippenham\, Wiltshire\, SN15 3ER\, United Kingdom
CATEGORIES:Children,Family,Indoor,Wellbeing
ATTACH;FMTTYPE=image/png:https://onechippenham.org.uk/wp-content/uploads/2022/01/2.png
ORGANIZER;CN="The BIrth Network - North Wiltshire":MAILTO:kathryn@optimumdoula.co.uk
END:VEVENT
BEGIN:VEVENT
DTSTART;TZID=Europe/London:20220305T200000
DTEND;TZID=Europe/London:20220305T200000
DTSTAMP:20260420T093906
CREATED:20220207T133537Z
LAST-MODIFIED:20220207T133537Z
UID:4638-1646510400-1646510400@onechippenham.org.uk
SUMMARY:Andy Fairweather Low & the Low Riders
DESCRIPTION:Andy Fairweather Low’s pedigree is the stuff rock dreams are made of. He first came to prominence at the vanguard of the new youthful expression of music as the lead singer in Amen Corner. The 60s saw them clock up hit after pop hit. Songs such as ‘Bend Me Shape Me’\, ‘Hello Suzy’\, ‘(If Paradise is) Half As Nice’ are internationally remembered to this day. \nSince the early days Andy has gone on to work with Eric Clapton\, George Harrison\, Bob Dylan\, Jimi Hendrix\, David Crosby\, The Band\, Elton John\, Roger Waters\, Richard and Linda Thompson\, Dave Gilmour\, The Who\, BB King\, Joe Cocker … and hundreds more. \nNow following a solo path\, his first solo album in 24 years Sweet Soulful Music was released late in 2007 followed by The Very Best of Andy Fairweather Low which was released in the UK in June 2008 and the Live DVD followed hot on its heels. \nFollowing an acclaimed UK Tour in Autumn 2012 Andy completed a third tour with The Low Riders in Germany. If you just remember Andy’s early work and major solo hits such as ‘Wide Eyed and Legless’\, you’re in for a treat – there’s so much more! \nTickets: £22.50 \nPlease note: Tickets are also available through our Box Office on 01249 446699\, or alternatively tickets are also available at the Town Hall. \nPlease note: Tickets are non-refundable unless this event is cancelled or postponed due to COVID-19.
URL:https://onechippenham.org.uk/event/andy-fairweather-low-the-low-riders/
LOCATION:Neeld Community & Arts Centre\, The Neeld\, High Street\, Chippenham\, Wiltshire\, SN15 3ER\, United Kingdom
CATEGORIES:Performance
ATTACH;FMTTYPE=image/jpeg:https://onechippenham.org.uk/wp-content/uploads/2022/02/AFL2-website-crop.jpg
END:VEVENT
BEGIN:VEVENT
DTSTART;TZID=Europe/London:20220227T193000
DTEND;TZID=Europe/London:20220227T193000
DTSTAMP:20260420T093906
CREATED:20220205T101356Z
LAST-MODIFIED:20220205T101356Z
UID:4615-1645990200-1645990200@onechippenham.org.uk
SUMMARY:The Fureys
DESCRIPTION:Having sold out their last visit\, legends of Irish music & song The Fureys\, renowned for their hit songs ‘I will love you’\, ‘When you were sweet 16’ and ‘The Green Fields of France’ return on Sunday 27th February 2022. \nThe Fureys have been entertaining audiences worldwide for 44 years\, audiences that have included former Australian Prime Minister John Howard\, Former Irish President Mary McAleese and the late Pope John Paul. Tony Blair has publicly stated his favourite peace song of all time is the Fureys “Green Fields of France” and President Michael D Higgins attended their last concert in National Concert Hall. \nThe oldest of the brothers\, Eddie Furey left home in 1966 and travelled to Scotland at the time of the great folk revival where he shared accommodation with then unknown folk singers Billy Connolly\, Gerry Rafferty and Alex Campbell. In 1969 with his brother Finbar\, he was the special guest for the Clancy Brothers and Tommy Makem throughout the USA and Canada. In 1971 he moved to mainland Europe where he toured for seven years. Dave Stewart from the Eurythmics has credited Eddie with teaching him his first chords on guitar when they met up in the North East of England while Dave was still a teenager. \nStandard ticket: £23.75 \nThis is a seated event. Please contact the venue for any access requirements. \nPlease note: tickets are non-refundable unless this event is cancelled or postponed
URL:https://onechippenham.org.uk/event/the-fureys/
LOCATION:Neeld Community & Arts Centre\, The Neeld\, High Street\, Chippenham\, Wiltshire\, SN15 3ER\, United Kingdom
CATEGORIES:Music
ATTACH;FMTTYPE=image/jpeg:https://onechippenham.org.uk/wp-content/uploads/2022/02/The-Fureys-website-crop.jpg
END:VEVENT
BEGIN:VEVENT
DTSTART;TZID=Europe/London:20220225T200000
DTEND;TZID=Europe/London:20220225T200000
DTSTAMP:20260420T093906
CREATED:20220205T101040Z
LAST-MODIFIED:20220205T101040Z
UID:4613-1645819200-1645819200@onechippenham.org.uk
SUMMARY:Take The Stage\, Heat 2
DESCRIPTION:Take The Stage is back for 2022! Starting in January\, the competition will see 12 young acts compete across four heats for a place in the final with the chance to play for some great prizes. So long as you are under 21 years of age\, you can apply to play at Take The Stage! \nDuring each heat\, every act will have their full 20 minute set recorded plus one song professionally filmed and edited. They will then receive a free mixed version of their performance as well as one live video shot and edited by our crew. \nThe winner of each heat is decided by a crowd vote\, with the prizes in the final to be decided by representative judges. In the final\, we ask representatives from each prize on offer to pick the band they think most suits their prize.\nThis means that there could be several prize winners in the final. \nWe do all we can to remain impartial throughout\, and as such do not include ourselves on the judging panel as we often get to know the bands personally as the competition goes on. \nPrizes so far include:\nFree recording time\, festival slots\, plus support-slot opportunities. More information coming soon! \nFor information on applying to take part please see: https://www.riverbankchippenham.co.uk/takethestage \nTickets: £5\nPlease note: This is a standing event \nPlease note: Tickets for Take The Stage are also available through our Box Office on 01249 446699\, or alternatively tickets are also available at the Town Hall. \nPlease note: Tickets are non-refundable unless this event is cancelled or postponed
URL:https://onechippenham.org.uk/event/take-the-stage-heat-2/
LOCATION:Neeld Community & Arts Centre\, The Neeld\, High Street\, Chippenham\, Wiltshire\, SN15 3ER\, United Kingdom
CATEGORIES:Music
ATTACH;FMTTYPE=image/jpeg:https://onechippenham.org.uk/wp-content/uploads/2022/02/crop.jpg
END:VEVENT
BEGIN:VEVENT
DTSTART;TZID=Europe/London:20220219T193000
DTEND;TZID=Europe/London:20220219T193000
DTSTAMP:20260420T093906
CREATED:20220205T100817Z
LAST-MODIFIED:20220205T100817Z
UID:4611-1645299000-1645299000@onechippenham.org.uk
SUMMARY:Queen II
DESCRIPTION:After two sell out shows at the Neeld in 2018 and 2019\, Queen II are returning in 2022- this time with a brand new show. \nQueen II have been touring Britain and Europe captivating audiences with their nostalgic tribute show. The band faithfully recreates the energy\, excitement\, and emotion of a classic Queen concert. An authentic tribute\, the four-piece band delivers powerful vocals\, driving rock anthems and flamboyant showmanship. Performing hits from every decade of Queen’s musical legacy including Bohemian Rhapsody\, It’s A Kind Of Magic and We Will Rock You\, Queen II truly are the Champions Of Tributes! \nFollowing two sell out performances\, this show is bound to sell out again. \nStandard ticket: £22.50 \nThis is a seated event. Please contact the venue for any access requirements. \nPlease note: Tickets are non-refundable unless this event is cancelled or postponed due to COVID -19.
URL:https://onechippenham.org.uk/event/queen-ii/
LOCATION:Neeld Community & Arts Centre\, The Neeld\, High Street\, Chippenham\, Wiltshire\, SN15 3ER\, United Kingdom
CATEGORIES:Music
ATTACH;FMTTYPE=image/jpeg:https://onechippenham.org.uk/wp-content/uploads/2022/02/Queen-II-website-crop.jpg
END:VEVENT
BEGIN:VEVENT
DTSTART;TZID=Europe/London:20220212T110000
DTEND;TZID=Europe/London:20220212T170000
DTSTAMP:20260420T093906
CREATED:20220111T193637Z
LAST-MODIFIED:20220111T193637Z
UID:4312-1644663600-1644685200@onechippenham.org.uk
SUMMARY:Sweet Soul Music Singalong
DESCRIPTION:If you love soul music\, what better way to blow the winter blues away than to join members of Chippenham Allsorts community choir in a soul and Motown singalong spectacular.\nYou don’t need to be in a choir. You don’t need to read music. Just come along and sing! Words\, music and guidance supplied by experienced choir leaders Cindy Stratton and Marius Frank.\nSafe Covid practice will be observed at all times.
URL:https://onechippenham.org.uk/event/sweet-soul-music-singalong/
LOCATION:Neeld Community & Arts Centre\, The Neeld\, High Street\, Chippenham\, Wiltshire\, SN15 3ER\, United Kingdom
CATEGORIES:Music,Singing
ATTACH;FMTTYPE=image/jpeg:https://onechippenham.org.uk/wp-content/uploads/2022/01/image.jpg
ORGANIZER;CN="Allsorts Community Choir":MAILTO:allsortschippenham@hotmail.com
END:VEVENT
BEGIN:VEVENT
DTSTART;TZID=Europe/London:20220211T190000
DTEND;TZID=Europe/London:20220211T190000
DTSTAMP:20260420T093906
CREATED:20220205T100534Z
LAST-MODIFIED:20220205T100534Z
UID:4609-1644606000-1644606000@onechippenham.org.uk
SUMMARY:LDN Wrestling
DESCRIPTION:The Superstars of LDN Wrestling are coming back for their 2022 Tour! \nExpect to see the edge of your seat\, death-defying moves as the stars of Wrestling take part in action-packed matches for the whole family to enjoy! Get those foam fingers at the ready for a night of family entertainment you will not forget!
URL:https://onechippenham.org.uk/event/ldn-wrestling/
LOCATION:Neeld Community & Arts Centre\, The Neeld\, High Street\, Chippenham\, Wiltshire\, SN15 3ER\, United Kingdom
CATEGORIES:Performance
ATTACH;FMTTYPE=image/png:https://onechippenham.org.uk/wp-content/uploads/2022/02/LDN-wrestling-image-crop-1.png
END:VEVENT
BEGIN:VEVENT
DTSTART;TZID=Europe/London:20220204T190000
DTEND;TZID=Europe/London:20220204T190000
DTSTAMP:20260420T093906
CREATED:20220202T154642Z
LAST-MODIFIED:20221020T195720Z
UID:4573-1644001200-1644001200@onechippenham.org.uk
SUMMARY:Make Way – Phoenix Amateur Dance Group
DESCRIPTION:Make Way is a celebration of dance for everyone to enjoy\, taking the audience on a journey through our favourite Broadway musicals and fairy tales as well as a few classics!
URL:https://onechippenham.org.uk/event/make-way-phoenix-amateur-dance-group/2022-02-04/
LOCATION:Neeld Community & Arts Centre\, The Neeld\, High Street\, Chippenham\, Wiltshire\, SN15 3ER\, United Kingdom
CATEGORIES:Dance
ATTACH;FMTTYPE=image/jpeg:https://onechippenham.org.uk/wp-content/uploads/2022/02/Phoenix-2022-image-crop.jpg
END:VEVENT
BEGIN:VEVENT
DTSTART;TZID=Europe/London:20211221T110000
DTEND;TZID=Europe/London:20211221T114500
DTSTAMP:20260420T093906
CREATED:20211106T031817Z
LAST-MODIFIED:20211106T031817Z
UID:3915-1640084400-1640087100@onechippenham.org.uk
SUMMARY:The Story of a Nutcracker
DESCRIPTION:Perfect for children aged 3-11. Take the Nutcracker story and music\, shake it up\, turn it on its head and engage your wildest imagination… Add violin\, cello\, oboe\, saxophone\, harp and piano\, lots of silliness\, plenty of interaction and a roller-skating Sugar Plum Fairy and you might be beginning to scratch the surface… Let us take your children on a fantastical journey to Russia\, China and the Land of Sweets…\nTickets on sale NOW!
URL:https://onechippenham.org.uk/event/the-story-of-a-nutcracker/2021-12-21/
LOCATION:Neeld Community & Arts Centre\, The Neeld\, High Street\, Chippenham\, Wiltshire\, SN15 3ER\, United Kingdom
CATEGORIES:Children,Family,Music,Performing Arts,Storytelling,Theatre
ATTACH;FMTTYPE=image/png:https://onechippenham.org.uk/wp-content/uploads/2021/11/E27179C3-CDAE-4AD8-B50C-F892750B591C.png
END:VEVENT
BEGIN:VEVENT
DTSTART;TZID=Europe/London:20211022T190000
DTEND;TZID=Europe/London:20211022T223000
DTSTAMP:20260420T093906
CREATED:20210930T205515Z
LAST-MODIFIED:20210930T205515Z
UID:3703-1634929200-1634941800@onechippenham.org.uk
SUMMARY:Quiz Night in aid of Wilts & Berks Canal Trust
DESCRIPTION:General Knowledge Quiz in aid of the restoration of the Wilts & Berks Canal.\nFriday 22nd October 7:00 pm for 7:30pm start \nEntry £15 per team (up to 4)\nTea\, Coffee\, Cake available. Licensed Bar. \nTo enter email Quiz@wbct.org.uk (preferably by 1st October but late entrants will be accepted if space available)
URL:https://onechippenham.org.uk/event/quiz-night-in-aid-of-wilts-berks-canal-trust/
LOCATION:Neeld Community & Arts Centre\, The Neeld\, High Street\, Chippenham\, Wiltshire\, SN15 3ER\, United Kingdom
CATEGORIES:Charity,Family Friendly,Quiz
ATTACH;FMTTYPE=image/jpeg:https://onechippenham.org.uk/wp-content/uploads/2021/09/Quiz_Oct2021.jpg
END:VEVENT
BEGIN:VEVENT
DTSTART;TZID=Europe/London:20210721T103000
DTEND;TZID=Europe/London:20210721T143000
DTSTAMP:20260420T093906
CREATED:20210701T125758Z
LAST-MODIFIED:20210701T130138Z
UID:3066-1626863400-1626877800@onechippenham.org.uk
SUMMARY:Sight Loss Information Day
DESCRIPTION:Wiltshire Sight is an Independent charity supporting people living with sight loss in Wiltshire and Swindon.\n\n\n\n\n\n\n\n\n\n\n\n\n\n\n\n\n\n\n\n\nWe offer information\, advice and guidance\, as well as giving people practical and emotional support to help them in their daily lives.\n\n\n\n\n\nFor more information call Wiltshire Sight on 01380 723682 0r email info@wiltshiresight.org
URL:https://onechippenham.org.uk/event/sight-loss-information-day/
LOCATION:Neeld Community & Arts Centre\, The Neeld\, High Street\, Chippenham\, Wiltshire\, SN15 3ER\, United Kingdom
CATEGORIES:Adults,Charity,Family
ATTACH;FMTTYPE=image/png:https://onechippenham.org.uk/wp-content/uploads/2021/07/Chippenham-IAG-2021-Poster.png
END:VEVENT
END:VCALENDAR