BEGIN:VCALENDAR
VERSION:2.0
PRODID:-//One Chippenham - ECPv6.15.20//NONSGML v1.0//EN
CALSCALE:GREGORIAN
METHOD:PUBLISH
X-ORIGINAL-URL:https://onechippenham.org.uk
X-WR-CALDESC:Events for One Chippenham
REFRESH-INTERVAL;VALUE=DURATION:PT1H
X-Robots-Tag:noindex
X-PUBLISHED-TTL:PT1H
BEGIN:VTIMEZONE
TZID:Europe/London
BEGIN:DAYLIGHT
TZOFFSETFROM:+0000
TZOFFSETTO:+0100
TZNAME:BST
DTSTART:20250330T010000
END:DAYLIGHT
BEGIN:STANDARD
TZOFFSETFROM:+0100
TZOFFSETTO:+0000
TZNAME:GMT
DTSTART:20251026T010000
END:STANDARD
BEGIN:DAYLIGHT
TZOFFSETFROM:+0000
TZOFFSETTO:+0100
TZNAME:BST
DTSTART:20260329T010000
END:DAYLIGHT
BEGIN:STANDARD
TZOFFSETFROM:+0100
TZOFFSETTO:+0000
TZNAME:GMT
DTSTART:20261025T010000
END:STANDARD
BEGIN:DAYLIGHT
TZOFFSETFROM:+0000
TZOFFSETTO:+0100
TZNAME:BST
DTSTART:20270328T010000
END:DAYLIGHT
BEGIN:STANDARD
TZOFFSETFROM:+0100
TZOFFSETTO:+0000
TZNAME:GMT
DTSTART:20271031T010000
END:STANDARD
END:VTIMEZONE
BEGIN:VEVENT
DTSTART;TZID=Europe/London:20260402T120000
DTEND;TZID=Europe/London:20260402T140000
DTSTAMP:20260426T011547
CREATED:20260219T130743Z
LAST-MODIFIED:20260219T130743Z
UID:56773-1775131200-1775138400@onechippenham.org.uk
SUMMARY:Easter Brew with the Crew
DESCRIPTION:Back by popular demand\, join us at our Charity’s airbase to enjoy Easter fun and meet our lifesaving pilots\, doctors and paramedics. This is your chance to visit our airbase in Semington and enjoy a relaxing brew and tasty treats. \nThere will be fun for the whole family with an Easter egg hunt\, plus many more children’s activities and games. \nDon’t miss out\, book your place today. Please note\, our aircraft will be operational therefore\, we cannot guarantee it will be present during your visit.
URL:https://onechippenham.org.uk/event/easter-brew-with-the-crew/
LOCATION:Wiltshire and Bath Air Ambulance Airbase\, Wiltshire and Bath Air Ambulance\, Semington\, Wiltshire\, BA14 6JX\, United Kingdom
ATTACH;FMTTYPE=image/jpeg:https://onechippenham.org.uk/wp-content/uploads/2026/02/easter-brew-with-the-crew.jpg
ORGANIZER;CN="Wiltshire and Bath Air Ambulance":MAILTO:events@wbairambulance.org.uk
END:VEVENT
END:VCALENDAR