BEGIN:VCALENDAR
VERSION:2.0
PRODID:-//One Chippenham - ECPv6.15.20//NONSGML v1.0//EN
CALSCALE:GREGORIAN
METHOD:PUBLISH
X-WR-CALNAME:One Chippenham
X-ORIGINAL-URL:https://onechippenham.org.uk
X-WR-CALDESC:Events for One Chippenham
REFRESH-INTERVAL;VALUE=DURATION:PT1H
X-Robots-Tag:noindex
X-PUBLISHED-TTL:PT1H
BEGIN:VTIMEZONE
TZID:Europe/London
BEGIN:DAYLIGHT
TZOFFSETFROM:+0000
TZOFFSETTO:+0100
TZNAME:BST
DTSTART:20250330T010000
END:DAYLIGHT
BEGIN:STANDARD
TZOFFSETFROM:+0100
TZOFFSETTO:+0000
TZNAME:GMT
DTSTART:20251026T010000
END:STANDARD
BEGIN:DAYLIGHT
TZOFFSETFROM:+0000
TZOFFSETTO:+0100
TZNAME:BST
DTSTART:20260329T010000
END:DAYLIGHT
BEGIN:STANDARD
TZOFFSETFROM:+0100
TZOFFSETTO:+0000
TZNAME:GMT
DTSTART:20261025T010000
END:STANDARD
BEGIN:DAYLIGHT
TZOFFSETFROM:+0000
TZOFFSETTO:+0100
TZNAME:BST
DTSTART:20270328T010000
END:DAYLIGHT
BEGIN:STANDARD
TZOFFSETFROM:+0100
TZOFFSETTO:+0000
TZNAME:GMT
DTSTART:20271031T010000
END:STANDARD
END:VTIMEZONE
BEGIN:VEVENT
DTSTART;TZID=Europe/London:20260517T070000
DTEND;TZID=Europe/London:20260517T120000
DTSTAMP:20260425T222508
CREATED:20260330T144430Z
LAST-MODIFIED:20260330T144430Z
UID:60144-1779001200-1779019200@onechippenham.org.uk
SUMMARY:Car Boot Sale
DESCRIPTION:Our popular Car Boot Sale is back on Sunday 17 May\, returning to the front lawn at Wiltshire and Bath Air Ambulance Charity’s airbase – and we can’t wait to welcome you! \nWhether you’re clearing out some pre-loved treasures\, hunting for a bargain\, or simply enjoy a good browse\, Semington is the place to be. \nEvent details:\n• Sellers: Arrival from 7am to set up\n• Buyers: Open 8am – 12 noon\n• Pitch prices: £8 per car / £15 per van\n• Buyer entry: Free \nAlongside our car boot sellers\, there’ll be a coffee van\, tasty treats available to purchase\, and a selection of Wiltshire and Bath Air Ambulance Charity merchandise on sale. \nImportant information:\nIn the event of heavy rain leading up to the day\, we may need to cancel for safety reasons. If this happens\, we will give as much notice as possible and refund trader pitch fees. Please note that refunds cannot be given if you choose to cancel your place. \nCome along and grab a bargain.
URL:https://onechippenham.org.uk/event/car-boot-sale/
LOCATION:Wiltshire and Bath Air Ambulance Airbase\, Wiltshire and Bath Air Ambulance\, Semington\, Wiltshire\, BA14 6JX\, United Kingdom
CATEGORIES:Car boot sale,Charity,Community,Family Friendly
ATTACH;FMTTYPE=image/jpeg:https://onechippenham.org.uk/wp-content/uploads/2026/03/PHOTO-2025-04-26-12-35-06-3.jpg
ORGANIZER;CN="Wiltshire and Bath Air Ambulance":MAILTO:events@wbairambulance.org.uk
END:VEVENT
BEGIN:VEVENT
DTSTART;TZID=Europe/London:20260709T140000
DTEND;TZID=Europe/London:20260709T160000
DTSTAMP:20260425T222508
CREATED:20260421T104202Z
LAST-MODIFIED:20260421T104202Z
UID:60953-1783605600-1783612800@onechippenham.org.uk
SUMMARY:Summer Behind-the-Scenes Tour
DESCRIPTION:Join the team on one of our behind-the-scenes tours of the Charity’s airbase. \nWe will be opening the doors to our airbase to give our guests a unique experience. \nThe tour will cover our flight room\, helicopter hangar and simulation room. \nAll monies raised will go directly to help save lives in Wiltshire and Bath. \nPlease note\, the tour will be led by our volunteers and as this will be an operational day\, we cannot guarantee the crew or helicopter will be present during your visit. \nDuring the tour guests will be on their feet for up to two hours. While walking around the base it will include 22 stairs up to our viewing platform (however there is a lift at this location) and 22 stairs down to the hangar. Please advise us in advance if you would struggle with this. Please note the majority of the tour is inside but if the aircraft is at the base during the tour it will involve some time outside.
URL:https://onechippenham.org.uk/event/summer-behind-the-scenes-tour/
LOCATION:Wiltshire and Bath Air Ambulance Airbase\, Wiltshire and Bath Air Ambulance\, Semington\, Wiltshire\, BA14 6JX\, United Kingdom
CATEGORIES:Adults,Charity,Community,Tour
ATTACH;FMTTYPE=image/jpeg:https://onechippenham.org.uk/wp-content/uploads/2026/04/img_5958.jpg
ORGANIZER;CN="Wiltshire and Bath Air Ambulance":MAILTO:events@wbairambulance.org.uk
END:VEVENT
END:VCALENDAR